BEGIN:VCALENDAR
VERSION:2.0
PRODID:-//Учреждение культуры &quot;Библиотечная система города Бобруйска&quot; - ECPv6.15.20//NONSGML v1.0//EN
CALSCALE:GREGORIAN
METHOD:PUBLISH
X-WR-CALNAME:Учреждение культуры &quot;Библиотечная система города Бобруйска&quot;
X-ORIGINAL-URL:https://bobruisk-library.by
X-WR-CALDESC:Мероприятия для Учреждение культуры &quot;Библиотечная система города Бобруйска&quot;
REFRESH-INTERVAL;VALUE=DURATION:PT1H
X-Robots-Tag:noindex
X-PUBLISHED-TTL:PT1H
BEGIN:VTIMEZONE
TZID:Europe/Moscow
BEGIN:STANDARD
TZOFFSETFROM:+0300
TZOFFSETTO:+0300
TZNAME:MSK
DTSTART:20240101T000000
END:STANDARD
END:VTIMEZONE
BEGIN:VEVENT
DTSTART;TZID=Europe/Moscow:20250311T100000
DTEND;TZID=Europe/Moscow:20250311T110000
DTSTAMP:20260422T111703
CREATED:20250305T072040Z
LAST-MODIFIED:20250305T072040Z
UID:885814-1741687200-1741690800@bobruisk-library.by
SUMMARY:Обучающая игра «На улице – не в комнате\, о том ребята помните» 6+
DESCRIPTION:
URL:https://bobruisk-library.by/event/%d0%be%d0%b1%d1%83%d1%87%d0%b0%d1%8e%d1%89%d0%b0%d1%8f-%d0%b8%d0%b3%d1%80%d0%b0-%d0%bd%d0%b0-%d1%83%d0%bb%d0%b8%d1%86%d0%b5-%d0%bd%d0%b5-%d0%b2-%d0%ba%d0%be%d0%bc%d0%bd%d0%b0%d1%82/
LOCATION:ГБ №16\, ул. Гагарина\, 31а\, Бобруйск\, 213810\, Беларусь
END:VEVENT
BEGIN:VEVENT
DTSTART;TZID=Europe/Moscow:20250310T153000
DTEND;TZID=Europe/Moscow:20250310T163000
DTSTAMP:20260422T111703
CREATED:20250305T125745Z
LAST-MODIFIED:20250305T125745Z
UID:885834-1741620600-1741624200@bobruisk-library.by
SUMMARY:Час духовности «Под покровом святой Евфросинии» 6+
DESCRIPTION:
URL:https://bobruisk-library.by/event/%d1%87%d0%b0%d1%81-%d0%b4%d1%83%d1%85%d0%be%d0%b2%d0%bd%d0%be%d1%81%d1%82%d0%b8-%d0%bf%d0%be%d0%b4-%d0%bf%d0%be%d0%ba%d1%80%d0%be%d0%b2%d0%be%d0%bc-%d1%81%d0%b2%d1%8f%d1%82%d0%be%d0%b9-%d0%b5/
LOCATION:ГБ №8 им. Е. Полоцкой\, ул. Минская\, 90\, Бобруйск\, 213828\, Беларусь
END:VEVENT
BEGIN:VEVENT
DTSTART;TZID=Europe/Moscow:20250310T130000
DTEND;TZID=Europe/Moscow:20250310T140000
DTSTAMP:20260422T111703
CREATED:20250305T103903Z
LAST-MODIFIED:20250305T103903Z
UID:885824-1741611600-1741615200@bobruisk-library.by
SUMMARY:Инфоурок «Конституция основа государственности» 6+
DESCRIPTION:
URL:https://bobruisk-library.by/event/%d0%b8%d0%bd%d1%84%d0%be%d1%83%d1%80%d0%be%d0%ba-%d0%ba%d0%be%d0%bd%d1%81%d1%82%d0%b8%d1%82%d1%83%d1%86%d0%b8%d1%8f-%d0%be%d1%81%d0%bd%d0%be%d0%b2%d0%b0-%d0%b3%d0%be%d1%81%d1%83%d0%b4%d0%b0/
LOCATION:ДБ № 5\, ул. 50 лет ВЛКСМ\, 19\, Бобруйск\, 213824\, Беларусь
END:VEVENT
BEGIN:VEVENT
DTSTART;TZID=Europe/Moscow:20250306T143000
DTEND;TZID=Europe/Moscow:20250306T153000
DTSTAMP:20260422T111703
CREATED:20250226T085525Z
LAST-MODIFIED:20250226T085525Z
UID:885745-1741271400-1741275000@bobruisk-library.by
SUMMARY:Беседа-наставление «Мы против наркотиков» (01.03. – Международный день борьбы с наркоманией и наркобизнесом) 6+
DESCRIPTION:
URL:https://bobruisk-library.by/event/%d0%b1%d0%b5%d1%81%d0%b5%d0%b4%d0%b0-%d0%bd%d0%b0%d1%81%d1%82%d0%b0%d0%b2%d0%bb%d0%b5%d0%bd%d0%b8%d0%b5-%d0%bc%d1%8b-%d0%bf%d1%80%d0%be%d1%82%d0%b8%d0%b2-%d0%bd%d0%b0%d1%80%d0%ba%d0%be%d1%82/
LOCATION:ГБ №7 им. А.А.Шогенцукова\, ул. Интернациональная\, 72в\, Бобруйск\, 213819
END:VEVENT
BEGIN:VEVENT
DTSTART;TZID=Europe/Moscow:20250306T123000
DTEND;TZID=Europe/Moscow:20250306T133000
DTSTAMP:20260422T111703
CREATED:20250226T072822Z
LAST-MODIFIED:20250226T072822Z
UID:885743-1741264200-1741267800@bobruisk-library.by
SUMMARY:Конкурсно-игровая программа «Ах\, девчонки\, не стойте в сторонке» 6+
DESCRIPTION:
URL:https://bobruisk-library.by/event/%d0%ba%d0%be%d0%bd%d0%ba%d1%83%d1%80%d1%81%d0%bd%d0%be-%d0%b8%d0%b3%d1%80%d0%be%d0%b2%d0%b0%d1%8f-%d0%bf%d1%80%d0%be%d0%b3%d1%80%d0%b0%d0%bc%d0%bc%d0%b0-%d0%b0%d1%85-%d0%b4%d0%b5%d0%b2%d1%87/
LOCATION:ГБ №16\, ул. Гагарина\, 31а\, Бобруйск\, 213810\, Беларусь
END:VEVENT
BEGIN:VEVENT
DTSTART;TZID=Europe/Moscow:20250305T130000
DTEND;TZID=Europe/Moscow:20250305T140000
DTSTAMP:20260422T111703
CREATED:20250226T103711Z
LAST-MODIFIED:20250226T103711Z
UID:885749-1741179600-1741183200@bobruisk-library.by
SUMMARY:Час периодики «Весёлые странички» 6+
DESCRIPTION:
URL:https://bobruisk-library.by/event/%d1%87%d0%b0%d1%81-%d0%bf%d0%b5%d1%80%d0%b8%d0%be%d0%b4%d0%b8%d0%ba%d0%b8-%d0%b2%d0%b5%d1%81%d1%91%d0%bb%d1%8b%d0%b5-%d1%81%d1%82%d1%80%d0%b0%d0%bd%d0%b8%d1%87%d0%ba%d0%b8-6/
LOCATION:ЦДБ им. А.П.Гайдара\, ул. Урицкого\, 125\, Бобруйск\, 213809\, Беларусь
END:VEVENT
BEGIN:VEVENT
DTSTART;TZID=Europe/Moscow:20250305T110000
DTEND;TZID=Europe/Moscow:20250305T120000
DTSTAMP:20260422T111703
CREATED:20250226T124929Z
LAST-MODIFIED:20250226T124929Z
UID:885757-1741172400-1741176000@bobruisk-library.by
SUMMARY:Праздничный калейдоскоп «Число восьмое – не простое» (8 марта – Международный женский день) 6+
DESCRIPTION:
URL:https://bobruisk-library.by/event/%d0%bf%d1%80%d0%b0%d0%b7%d0%b4%d0%bd%d0%b8%d1%87%d0%bd%d1%8b%d0%b9-%d0%ba%d0%b0%d0%bb%d0%b5%d0%b9%d0%b4%d0%be%d1%81%d0%ba%d0%be%d0%bf-%d1%87%d0%b8%d1%81%d0%bb%d0%be-%d0%b2%d0%be%d1%81%d1%8c/
LOCATION:ГБ №8 им. Е. Полоцкой\, ул. Минская\, 90\, Бобруйск\, 213828\, Беларусь
END:VEVENT
BEGIN:VEVENT
DTSTART;TZID=Europe/Moscow:20250305T080000
DTEND;TZID=Europe/Moscow:20250305T170000
DTSTAMP:20260422T111703
CREATED:20250226T124815Z
LAST-MODIFIED:20250226T124815Z
UID:885753-1741161600-1741194000@bobruisk-library.by
SUMMARY:Утренник «Любовью материнской мир прекрасен» 6+
DESCRIPTION:
URL:https://bobruisk-library.by/event/%d1%83%d1%82%d1%80%d0%b5%d0%bd%d0%bd%d0%b8%d0%ba-%d0%bb%d1%8e%d0%b1%d0%be%d0%b2%d1%8c%d1%8e-%d0%bc%d0%b0%d1%82%d0%b5%d1%80%d0%b8%d0%bd%d1%81%d0%ba%d0%be%d0%b9-%d0%bc%d0%b8%d1%80-%d0%bf%d1%80/
LOCATION:ДБ № 5\, ул. 50 лет ВЛКСМ\, 19\, Бобруйск\, 213824\, Беларусь
END:VEVENT
BEGIN:VEVENT
DTSTART;TZID=Europe/Moscow:20250304T130000
DTEND;TZID=Europe/Moscow:20250304T140000
DTSTAMP:20260422T111703
CREATED:20250226T124900Z
LAST-MODIFIED:20250226T124900Z
UID:885755-1741093200-1741096800@bobruisk-library.by
SUMMARY:Профилактическая беседа «Скажи наркотикам - НЕТ» (проект по ЗОЖ «Академия выживания») 6+
DESCRIPTION:
URL:https://bobruisk-library.by/event/%d0%bf%d1%80%d0%be%d1%84%d0%b8%d0%bb%d0%b0%d0%ba%d1%82%d0%b8%d1%87%d0%b5%d1%81%d0%ba%d0%b0%d1%8f-%d0%b1%d0%b5%d1%81%d0%b5%d0%b4%d0%b0-%d1%81%d0%ba%d0%b0%d0%b6%d0%b8-%d0%bd%d0%b0%d1%80%d0%ba/
LOCATION:ГБ №8 им. Е. Полоцкой\, ул. Минская\, 90\, Бобруйск\, 213828\, Беларусь
END:VEVENT
BEGIN:VEVENT
DTSTART;TZID=Europe/Moscow:20250303T130000
DTEND;TZID=Europe/Moscow:20250303T140000
DTSTAMP:20260422T111703
CREATED:20250226T103932Z
LAST-MODIFIED:20250226T103932Z
UID:885751-1741006800-1741010400@bobruisk-library.by
SUMMARY:Шок – урок «Цена зависимости – жизнь» ( ко Дню борьбы с наркоманией и наркобизнесом) 6+
DESCRIPTION:
URL:https://bobruisk-library.by/event/%d1%88%d0%be%d0%ba-%d1%83%d1%80%d0%be%d0%ba-%d1%86%d0%b5%d0%bd%d0%b0-%d0%b7%d0%b0%d0%b2%d0%b8%d1%81%d0%b8%d0%bc%d0%be%d1%81%d1%82%d0%b8-%d0%b6%d0%b8%d0%b7%d0%bd%d1%8c/
LOCATION:ДБ № 5\, ул. 50 лет ВЛКСМ\, 19\, Бобруйск\, 213824\, Беларусь
END:VEVENT
BEGIN:VEVENT
DTSTART;TZID=Europe/Moscow:20250303T120000
DTEND;TZID=Europe/Moscow:20250303T130000
DTSTAMP:20260422T111703
CREATED:20250226T072527Z
LAST-MODIFIED:20250226T072527Z
UID:885741-1741003200-1741006800@bobruisk-library.by
SUMMARY:Познавательное развлечение «Библиотечная котовасия» 6+
DESCRIPTION:
URL:https://bobruisk-library.by/event/%d0%bf%d0%be%d0%b7%d0%bd%d0%b0%d0%b2%d0%b0%d1%82%d0%b5%d0%bb%d1%8c%d0%bd%d0%be%d0%b5-%d1%80%d0%b0%d0%b7%d0%b2%d0%bb%d0%b5%d1%87%d0%b5%d0%bd%d0%b8%d0%b5-%d0%b1%d0%b8%d0%b1%d0%bb%d0%b8%d0%be%d1%82/
LOCATION:ГБ №16\, ул. Гагарина\, 31а\, Бобруйск\, 213810\, Беларусь
END:VEVENT
BEGIN:VEVENT
DTSTART;TZID=Europe/Moscow:20250301T120000
DTEND;TZID=Europe/Moscow:20250301T140000
DTSTAMP:20260422T111703
CREATED:20250219T084111Z
LAST-MODIFIED:20250219T084111Z
UID:885638-1740830400-1740837600@bobruisk-library.by
SUMMARY:Акция «Мы говорим: Нет наркотикам!» (в рамках цикла информационно-профилактических бесед «Есть\, о чем порассуждать» к Международному дню борьбы с наркоманией и незаконным оборотам наркотиков) 6+
DESCRIPTION:
URL:https://bobruisk-library.by/event/%d0%b0%d0%ba%d1%86%d0%b8%d1%8f-%d0%bc%d1%8b-%d0%b3%d0%be%d0%b2%d0%be%d1%80%d0%b8%d0%bc-%d0%bd%d0%b5%d1%82-%d0%bd%d0%b0%d1%80%d0%ba%d0%be%d1%82%d0%b8%d0%ba%d0%b0%d0%bc-%d0%b2-%d1%80/
LOCATION:ГБ №4 им. Б.Микулича\, пр-т Строителей\, 56\, Бобруйск\, 213807\, Беларусь
END:VEVENT
BEGIN:VEVENT
DTSTART;TZID=Europe/Moscow:20250301T120000
DTEND;TZID=Europe/Moscow:20250301T130000
DTSTAMP:20260422T111703
CREATED:20250219T124003Z
LAST-MODIFIED:20250219T124003Z
UID:885654-1740830400-1740834000@bobruisk-library.by
SUMMARY:Информационный видеочас «Опасный круг» 6+
DESCRIPTION:
URL:https://bobruisk-library.by/event/%d0%b8%d0%bd%d1%84%d0%be%d1%80%d0%bc%d0%b0%d1%86%d0%b8%d0%be%d0%bd%d0%bd%d1%8b%d0%b9-%d0%b2%d0%b8%d0%b4%d0%b5%d0%be%d1%87%d0%b0%d1%81-%d0%be%d0%bf%d0%b0%d1%81%d0%bd%d1%8b%d0%b9-%d0%ba%d1%80/
LOCATION:ГБ им. А.С.Пушкина\, ул. Советская\, 87\, Бобруйск\, 213827\, Беларусь
END:VEVENT
BEGIN:VEVENT
DTSTART;VALUE=DATE:20250301
DTEND;VALUE=DATE:20250302
DTSTAMP:20260422T111703
CREATED:20250219T085321Z
LAST-MODIFIED:20250219T085321Z
UID:885644-1740787200-1740873599@bobruisk-library.by
SUMMARY:Профилактическая акция “Есть выбор: жизнь без наркотиков (1 марта – Международный день борьбы с наркоманией и наркобизнесом) 6+
DESCRIPTION:
URL:https://bobruisk-library.by/event/%d0%bf%d1%80%d0%be%d1%84%d0%b8%d0%bb%d0%b0%d0%ba%d1%82%d0%b8%d1%87%d0%b5%d1%81%d0%ba%d0%b0%d1%8f-%d0%b0%d0%ba%d1%86%d0%b8%d1%8f-%d0%b5%d1%81%d1%82%d1%8c-%d0%b2%d1%8b%d0%b1%d0%be%d1%80-%d0%b6/
LOCATION:ЦДБ им. А.П.Гайдара\, ул. Урицкого\, 125\, Бобруйск\, 213809\, Беларусь
END:VEVENT
BEGIN:VEVENT
DTSTART;TZID=Europe/Moscow:20250227T155000
DTEND;TZID=Europe/Moscow:20250227T163000
DTSTAMP:20260422T111703
CREATED:20250219T091627Z
LAST-MODIFIED:20250219T091627Z
UID:885646-1740671400-1740673800@bobruisk-library.by
SUMMARY:Приглашение к размышлению «Без скидок на возраст» 6+
DESCRIPTION:
URL:https://bobruisk-library.by/event/%d0%bf%d1%80%d0%b8%d0%b3%d0%bb%d0%b0%d1%88%d0%b5%d0%bd%d0%b8%d0%b5-%d0%ba-%d1%80%d0%b0%d0%b7%d0%bc%d1%8b%d1%88%d0%bb%d0%b5%d0%bd%d0%b8%d1%8e-%d0%b1%d0%b5%d0%b7-%d1%81%d0%ba%d0%b8%d0%b4%d0%be/
LOCATION:ГБ №16\, ул. Гагарина\, 31а\, Бобруйск\, 213810\, Беларусь
END:VEVENT
BEGIN:VEVENT
DTSTART;TZID=Europe/Moscow:20250227T143000
DTEND;TZID=Europe/Moscow:20250227T153000
DTSTAMP:20260422T111703
CREATED:20250219T115753Z
LAST-MODIFIED:20250219T115753Z
UID:885648-1740666600-1740670200@bobruisk-library.by
SUMMARY:Заочное путешествие «Необычные памятники и скульптуры в Беларуси» (к Году благоустройства) 6+
DESCRIPTION:
URL:https://bobruisk-library.by/event/%d0%b7%d0%b0%d0%be%d1%87%d0%bd%d0%be%d0%b5-%d0%bf%d1%83%d1%82%d0%b5%d1%88%d0%b5%d1%81%d1%82%d0%b2%d0%b8%d0%b5-%d0%bd%d0%b5%d0%be%d0%b1%d1%8b%d1%87%d0%bd%d1%8b%d0%b5-%d0%bf%d0%b0%d0%bc%d1%8f/
LOCATION:ГБ №7 им. А.А.Шогенцукова\, ул. Интернациональная\, 72в\, Бобруйск\, 213819
END:VEVENT
BEGIN:VEVENT
DTSTART;TZID=Europe/Moscow:20250227T140000
DTEND;TZID=Europe/Moscow:20250227T150000
DTSTAMP:20260422T111703
CREATED:20250219T123853Z
LAST-MODIFIED:20250219T123853Z
UID:885650-1740664800-1740668400@bobruisk-library.by
SUMMARY:Квэст-гульня “Святыя словы: маці\, мова і Радзіма” 6+
DESCRIPTION:
URL:https://bobruisk-library.by/event/%d0%ba%d0%b2%d1%8d%d1%81%d1%82-%d0%b3%d1%83%d0%bb%d1%8c%d0%bd%d1%8f-%d1%81%d0%b2%d1%8f%d1%82%d1%8b%d1%8f-%d1%81%d0%bb%d0%be%d0%b2%d1%8b-%d0%bc%d0%b0%d1%86%d1%96-%d0%bc%d0%be%d0%b2%d0%b0/
LOCATION:ГБ им. А.С.Пушкина\, ул. Советская\, 87\, Бобруйск\, 213827\, Беларусь
END:VEVENT
BEGIN:VEVENT
DTSTART;TZID=Europe/Moscow:20250226T170000
DTEND;TZID=Europe/Moscow:20250226T180000
DTSTAMP:20260422T111703
CREATED:20250219T124241Z
LAST-MODIFIED:20250219T124241Z
UID:885656-1740589200-1740592800@bobruisk-library.by
SUMMARY:Лаборатория читательского вкуса «Территория чтения» 6+
DESCRIPTION:
URL:https://bobruisk-library.by/event/%d0%bb%d0%b0%d0%b1%d0%be%d1%80%d0%b0%d1%82%d0%be%d1%80%d0%b8%d1%8f-%d1%87%d0%b8%d1%82%d0%b0%d1%82%d0%b5%d0%bb%d1%8c%d1%81%d0%ba%d0%be%d0%b3%d0%be-%d0%b2%d0%ba%d1%83%d1%81%d0%b0-%d1%82%d0%b5-2/
LOCATION:ГБ №8 им. Е. Полоцкой\, ул. Минская\, 90\, Бобруйск\, 213828\, Беларусь
END:VEVENT
BEGIN:VEVENT
DTSTART;TZID=Europe/Moscow:20250225T130000
DTEND;TZID=Europe/Moscow:20250225T140000
DTSTAMP:20260422T111703
CREATED:20250219T124416Z
LAST-MODIFIED:20250219T124416Z
UID:885658-1740488400-1740492000@bobruisk-library.by
SUMMARY:Урок-фантазия «Бумажные кружева зимы» (Занятие библиотечного АРТ- проекта «Своими руками») 6+
DESCRIPTION:
URL:https://bobruisk-library.by/event/%d1%83%d1%80%d0%be%d0%ba-%d1%84%d0%b0%d0%bd%d1%82%d0%b0%d0%b7%d0%b8%d1%8f-%d0%b1%d1%83%d0%bc%d0%b0%d0%b6%d0%bd%d1%8b%d0%b5-%d0%ba%d1%80%d1%83%d0%b6%d0%b5%d0%b2%d0%b0-%d0%b7%d0%b8%d0%bc%d1%8b/
LOCATION:ДБ № 5\, ул. 50 лет ВЛКСМ\, 19\, Бобруйск\, 213824\, Беларусь
END:VEVENT
BEGIN:VEVENT
DTSTART;TZID=Europe/Moscow:20250225T120000
DTEND;TZID=Europe/Moscow:20250225T130000
DTSTAMP:20260422T111703
CREATED:20250219T123927Z
LAST-MODIFIED:20250219T123927Z
UID:885652-1740484800-1740488400@bobruisk-library.by
SUMMARY:Час воинской славы «Мы мир храним\, пока мы помним о войне» 6+
DESCRIPTION:
URL:https://bobruisk-library.by/event/%d1%87%d0%b0%d1%81-%d0%b2%d0%be%d0%b8%d0%bd%d1%81%d0%ba%d0%be%d0%b9-%d1%81%d0%bb%d0%b0%d0%b2%d1%8b-%d0%bc%d1%8b-%d0%bc%d0%b8%d1%80-%d1%85%d1%80%d0%b0%d0%bd%d0%b8%d0%bc-%d0%bf%d0%be%d0%ba%d0%b0/
LOCATION:ГБ им. А.С.Пушкина\, ул. Советская\, 87\, Бобруйск\, 213827\, Беларусь
END:VEVENT
BEGIN:VEVENT
DTSTART;TZID=Europe/Moscow:20250225T110000
DTEND;TZID=Europe/Moscow:20250225T120000
DTSTAMP:20260422T111703
CREATED:20250219T085240Z
LAST-MODIFIED:20250219T085240Z
UID:885642-1740481200-1740484800@bobruisk-library.by
SUMMARY:Заочная экскурсия (в рамках проекта “Территория равных возможностей”) Безмолвные свидетели истории (культурно – познавательный туризм) 6+
DESCRIPTION:
URL:https://bobruisk-library.by/event/%d0%b7%d0%b0%d0%be%d1%87%d0%bd%d0%b0%d1%8f-%d1%8d%d0%ba%d1%81%d0%ba%d1%83%d1%80%d1%81%d0%b8%d1%8f-%d0%b2-%d1%80%d0%b0%d0%bc%d0%ba%d0%b0%d1%85-%d0%bf%d1%80%d0%be%d0%b5%d0%ba%d1%82%d0%b0/
LOCATION:ЦДБ им. А.П.Гайдара\, ул. Урицкого\, 125\, Бобруйск\, 213809\, Беларусь
END:VEVENT
BEGIN:VEVENT
DTSTART;TZID=Europe/Moscow:20250221T130000
DTEND;TZID=Europe/Moscow:20250221T140000
DTSTAMP:20260422T111703
CREATED:20250212T065833Z
LAST-MODIFIED:20250212T065833Z
UID:885492-1740142800-1740146400@bobruisk-library.by
SUMMARY:Слоўнікавы лабірынт “Слова да слова – будзе мова” (в рамках библиотечной акции “Роднай мовы гук чароўны”) 6+
DESCRIPTION:
URL:https://bobruisk-library.by/event/%d1%81%d0%bb%d0%be%d1%9e%d0%bd%d1%96%d0%ba%d0%b0%d0%b2%d1%8b-%d0%bb%d0%b0%d0%b1%d1%96%d1%80%d1%8b%d0%bd%d1%82-%d1%81%d0%bb%d0%be%d0%b2%d0%b0-%d0%b4%d0%b0-%d1%81%d0%bb%d0%be%d0%b2%d0%b0/
LOCATION:ГБ №8 им. Е. Полоцкой\, ул. Минская\, 90\, Бобруйск\, 213828\, Беларусь
END:VEVENT
BEGIN:VEVENT
DTSTART;TZID=Europe/Moscow:20250221T120000
DTEND;TZID=Europe/Moscow:20250221T130000
DTSTAMP:20260422T111703
CREATED:20250212T064903Z
LAST-MODIFIED:20250212T064903Z
UID:885486-1740139200-1740142800@bobruisk-library.by
SUMMARY:Игровая программа «Будем Родине служить!» (в рамках цикла библиотечных мероприятий «О Родине. О мужестве. О славе» ко Дню защитников Отечества и Вооруженных Сил Республики Беларусь) 6+
DESCRIPTION:
URL:https://bobruisk-library.by/event/%d0%b8%d0%b3%d1%80%d0%be%d0%b2%d0%b0%d1%8f-%d0%bf%d1%80%d0%be%d0%b3%d1%80%d0%b0%d0%bc%d0%bc%d0%b0-%d0%b1%d1%83%d0%b4%d0%b5%d0%bc-%d1%80%d0%be%d0%b4%d0%b8%d0%bd%d0%b5-%d1%81%d0%bb%d1%83%d0%b6/
LOCATION:ГБ №4 им. Б.Микулича\, пр-т Строителей\, 56\, Бобруйск\, 213807\, Беларусь
END:VEVENT
BEGIN:VEVENT
DTSTART;TZID=Europe/Moscow:20250221T110000
DTEND;TZID=Europe/Moscow:20250221T120000
DTSTAMP:20260422T111703
CREATED:20250212T093048Z
LAST-MODIFIED:20250212T093048Z
UID:885504-1740135600-1740139200@bobruisk-library.by
SUMMARY:Литературный час с участием кукольного театра «Петрушка» «В гостях у сказки» 6+
DESCRIPTION:
URL:https://bobruisk-library.by/event/%d0%bb%d0%b8%d1%82%d0%b5%d1%80%d0%b0%d1%82%d1%83%d1%80%d0%bd%d1%8b%d0%b9-%d1%87%d0%b0%d1%81-%d1%81-%d1%83%d1%87%d0%b0%d1%81%d1%82%d0%b8%d0%b5%d0%bc-%d0%ba%d1%83%d0%ba%d0%be%d0%bb%d1%8c%d0%bd%d0%be-2/
LOCATION:ЦДБ им. А.П.Гайдара\, ул. Урицкого\, 125\, Бобруйск\, 213809\, Беларусь
END:VEVENT
BEGIN:VEVENT
DTSTART;VALUE=DATE:20250221
DTEND;VALUE=DATE:20250222
DTSTAMP:20260422T111703
CREATED:20250212T064142Z
LAST-MODIFIED:20250212T064142Z
UID:885484-1740096000-1740182399@bobruisk-library.by
SUMMARY:Акция «Дыктант у адзін сказ» 6+
DESCRIPTION:
URL:https://bobruisk-library.by/event/%d0%b0%d0%ba%d1%86%d0%b8%d1%8f-%d0%b4%d1%8b%d0%ba%d1%82%d0%b0%d0%bd%d1%82-%d1%83-%d0%b0%d0%b4%d0%b7%d1%96%d0%bd-%d1%81%d0%ba%d0%b0%d0%b7-6/
LOCATION:ГБ №16\, ул. Гагарина\, 31а\, Бобруйск\, 213810\, Беларусь
END:VEVENT
BEGIN:VEVENT
DTSTART;TZID=Europe/Moscow:20250220T143000
DTEND;TZID=Europe/Moscow:20250220T153000
DTSTAMP:20260422T111703
CREATED:20250212T125133Z
LAST-MODIFIED:20250212T125133Z
UID:885526-1740061800-1740065400@bobruisk-library.by
SUMMARY:Урок белорусоведения “Слаўлю цябе\, мая родная мова” (21.02. – Международный день родного языка) 6+
DESCRIPTION:
URL:https://bobruisk-library.by/event/%d1%83%d1%80%d0%be%d0%ba-%d0%b1%d0%b5%d0%bb%d0%be%d1%80%d1%83%d1%81%d0%be%d0%b2%d0%b5%d0%b4%d0%b5%d0%bd%d0%b8%d1%8f-%d1%81%d0%bb%d0%b0%d1%9e%d0%bb%d1%8e-%d1%86%d1%8f%d0%b1%d0%b5-%d0%bc%d0%b0/
LOCATION:ГБ №7 им. А.А.Шогенцукова\, ул. Интернациональная\, 72в\, Бобруйск\, 213819
END:VEVENT
BEGIN:VEVENT
DTSTART;TZID=Europe/Moscow:20250220T140000
DTEND;TZID=Europe/Moscow:20250220T150000
DTSTAMP:20260422T111703
CREATED:20250212T111047Z
LAST-MODIFIED:20250212T111047Z
UID:885509-1740060000-1740063600@bobruisk-library.by
SUMMARY:Квэст-гульня «Святыя словы: маці\, мова і Радзіма» 6+
DESCRIPTION:
URL:https://bobruisk-library.by/event/%d0%ba%d0%b2%d1%8d%d1%81%d1%82-%d0%b3%d1%83%d0%bb%d1%8c%d0%bd%d1%8f-%d1%81%d0%b2%d1%8f%d1%82%d1%8b%d1%8f-%d1%81%d0%bb%d0%be%d0%b2%d1%8b-%d0%bc%d0%b0%d1%86%d1%96-%d0%bc%d0%be%d0%b2%d0%b0-%d1%96/
LOCATION:ГБ им. А.С.Пушкина\, ул. Советская\, 87\, Бобруйск\, 213827\, Беларусь
END:VEVENT
BEGIN:VEVENT
DTSTART;TZID=Europe/Moscow:20250220T130000
DTEND;TZID=Europe/Moscow:20250220T140000
DTSTAMP:20260422T111703
CREATED:20250212T092606Z
LAST-MODIFIED:20250212T092606Z
UID:885500-1740056400-1740060000@bobruisk-library.by
SUMMARY:Игра-конкурс “Пагуляем у роднае слова” (21.02. – День родного языка) 6+
DESCRIPTION:
URL:https://bobruisk-library.by/event/%d0%b8%d0%b3%d1%80%d0%b0-%d0%ba%d0%be%d0%bd%d0%ba%d1%83%d1%80%d1%81-%d0%bf%d0%b0%d0%b3%d1%83%d0%bb%d1%8f%d0%b5%d0%bc-%d1%83-%d1%80%d0%be%d0%b4%d0%bd%d0%b0%d0%b5-%d1%81%d0%bb%d0%be%d0%b2%d0%b0/
LOCATION:ЦГБ им. М.Горького\, ул. Советская\, 64\, Бобруйск\, 213826\, Беларусь
END:VEVENT
BEGIN:VEVENT
DTSTART;TZID=Europe/Moscow:20250220T130000
DTEND;TZID=Europe/Moscow:20250220T140000
DTSTAMP:20260422T111703
CREATED:20250212T072815Z
LAST-MODIFIED:20250212T072907Z
UID:885498-1740056400-1740060000@bobruisk-library.by
SUMMARY:Познавательный час “Гучы гоман беларускі!” (К Международному дню родного языка в рамках проект «Беларусь - моя Родина») 6+
DESCRIPTION:
URL:https://bobruisk-library.by/event/%d0%bf%d0%be%d0%b7%d0%bd%d0%b0%d0%b2%d0%b0%d1%82%d0%b5%d0%bb%d1%8c%d0%bd%d1%8b%d0%b9-%d1%87%d0%b0%d1%81-%d0%b3%d1%83%d1%87%d1%8b-%d0%b3%d0%be%d0%bc%d0%b0%d0%bd-%d0%b1%d0%b5%d0%bb%d0%b0%d1%80/
LOCATION:ДБ №6 им. Н.А.Островского\, ул. Комсомольская\, 52\, Бобруйск\, 213826\, Беларусь
END:VEVENT
BEGIN:VEVENT
DTSTART;TZID=Europe/Moscow:20250220T130000
DTEND;TZID=Europe/Moscow:20250220T140000
DTSTAMP:20260422T111703
CREATED:20250212T064120Z
LAST-MODIFIED:20250212T064120Z
UID:885482-1740056400-1740060000@bobruisk-library.by
SUMMARY:Игровой час «Отца в строю сменяют сыновья» 6+
DESCRIPTION:
URL:https://bobruisk-library.by/event/%d0%b8%d0%b3%d1%80%d0%be%d0%b2%d0%be%d0%b9-%d1%87%d0%b0%d1%81-%d0%be%d1%82%d1%86%d0%b0-%d0%b2-%d1%81%d1%82%d1%80%d0%be%d1%8e-%d1%81%d0%bc%d0%b5%d0%bd%d1%8f%d1%8e%d1%82-%d1%81%d1%8b%d0%bd%d0%be/
LOCATION:ГБ №16\, ул. Гагарина\, 31а\, Бобруйск\, 213810\, Беларусь
END:VEVENT
END:VCALENDAR