BEGIN:VCALENDAR
VERSION:2.0
PRODID:-//Учреждение культуры &quot;Библиотечная система города Бобруйска&quot; - ECPv6.15.20//NONSGML v1.0//EN
CALSCALE:GREGORIAN
METHOD:PUBLISH
X-WR-CALNAME:Учреждение культуры &quot;Библиотечная система города Бобруйска&quot;
X-ORIGINAL-URL:https://bobruisk-library.by
X-WR-CALDESC:Мероприятия для Учреждение культуры &quot;Библиотечная система города Бобруйска&quot;
REFRESH-INTERVAL;VALUE=DURATION:PT1H
X-Robots-Tag:noindex
X-PUBLISHED-TTL:PT1H
BEGIN:VTIMEZONE
TZID:Europe/Moscow
BEGIN:STANDARD
TZOFFSETFROM:+0300
TZOFFSETTO:+0300
TZNAME:MSK
DTSTART:20240101T000000
END:STANDARD
END:VTIMEZONE
BEGIN:VEVENT
DTSTART;TZID=Europe/Moscow:20250325T130000
DTEND;TZID=Europe/Moscow:20250325T140000
DTSTAMP:20260421T155644
CREATED:20250319T132216Z
LAST-MODIFIED:20250319T132216Z
UID:886049-1742907600-1742911200@bobruisk-library.by
SUMMARY:Открытый разговор «Цифровая и финансовая грамотность» 6+
DESCRIPTION:
URL:https://bobruisk-library.by/event/%d0%be%d1%82%d0%ba%d1%80%d1%8b%d1%82%d1%8b%d0%b9-%d1%80%d0%b0%d0%b7%d0%b3%d0%be%d0%b2%d0%be%d1%80-%d1%86%d0%b8%d1%84%d1%80%d0%be%d0%b2%d0%b0%d1%8f-%d0%b8-%d1%84%d0%b8%d0%bd%d0%b0%d0%bd%d1%81/
LOCATION:ЦГБ им. М.Горького\, ул. Советская\, 64\, Бобруйск\, 213826\, Беларусь
END:VEVENT
BEGIN:VEVENT
DTSTART;TZID=Europe/Moscow:20250325T103000
DTEND;TZID=Europe/Moscow:20250325T113000
DTSTAMP:20260421T155644
CREATED:20250319T132527Z
LAST-MODIFIED:20250319T132527Z
UID:886055-1742898600-1742902200@bobruisk-library.by
SUMMARY:Интерактивная игра «Знатоки здоровья» 6+
DESCRIPTION:
URL:https://bobruisk-library.by/event/%d0%b8%d0%bd%d1%82%d0%b5%d1%80%d0%b0%d0%ba%d1%82%d0%b8%d0%b2%d0%bd%d0%b0%d1%8f-%d0%b8%d0%b3%d1%80%d0%b0-%d0%b7%d0%bd%d0%b0%d1%82%d0%be%d0%ba%d0%b8-%d0%b7%d0%b4%d0%be%d1%80%d0%be%d0%b2%d1%8c-2/
LOCATION:ГБ №8 им. Е. Полоцкой\, ул. Минская\, 90\, Бобруйск\, 213828\, Беларусь
END:VEVENT
BEGIN:VEVENT
DTSTART;TZID=Europe/Moscow:20250325T100000
DTEND;TZID=Europe/Moscow:20250325T110000
DTSTAMP:20260421T155644
CREATED:20250319T123335Z
LAST-MODIFIED:20250319T123335Z
UID:886039-1742896800-1742900400@bobruisk-library.by
SUMMARY:Праздник с участием кукольного театра «Петрушка» «Добрые книги – друзья навсегда» 6+
DESCRIPTION:
URL:https://bobruisk-library.by/event/%d0%bf%d1%80%d0%b0%d0%b7%d0%b4%d0%bd%d0%b8%d0%ba-%d1%81-%d1%83%d1%87%d0%b0%d1%81%d1%82%d0%b8%d0%b5%d0%bc-%d0%ba%d1%83%d0%ba%d0%be%d0%bb%d1%8c%d0%bd%d0%be%d0%b3%d0%be-%d1%82%d0%b5%d0%b0%d1%82%d1%80-4/
LOCATION:ЦДБ им. А.П.Гайдара\, ул. Урицкого\, 125\, Бобруйск\, 213809\, Беларусь
END:VEVENT
BEGIN:VEVENT
DTSTART;TZID=Europe/Moscow:20250324T103000
DTEND;TZID=Europe/Moscow:20250324T113000
DTSTAMP:20260421T155644
CREATED:20250319T132500Z
LAST-MODIFIED:20250319T132500Z
UID:886053-1742812200-1742815800@bobruisk-library.by
SUMMARY:Литературная игра «Веселый автор детских книг» (Сергей Михалков) (к декаде детской и юношеской книги «С книгой мир добрее и ярче!») 6+
DESCRIPTION:
URL:https://bobruisk-library.by/event/%d0%bb%d0%b8%d1%82%d0%b5%d1%80%d0%b0%d1%82%d1%83%d1%80%d0%bd%d0%b0%d1%8f-%d0%b8%d0%b3%d1%80%d0%b0-%d0%b2%d0%b5%d1%81%d0%b5%d0%bb%d1%8b%d0%b9-%d0%b0%d0%b2%d1%82%d0%be%d1%80-%d0%b4%d0%b5%d1%82/
LOCATION:ГБ №8 им. Е. Полоцкой\, ул. Минская\, 90\, Бобруйск\, 213828\, Беларусь
END:VEVENT
BEGIN:VEVENT
DTSTART;TZID=Europe/Moscow:20250322T130000
DTEND;TZID=Europe/Moscow:20250322T140000
DTSTAMP:20260421T155644
CREATED:20250312T114920Z
LAST-MODIFIED:20250312T114920Z
UID:885921-1742648400-1742652000@bobruisk-library.by
SUMMARY:Видео-час Гремят истории колокола\, взывая к памяти. (22 марта – День Хатынской трагедии; в рамках патриотической акции «Хатынь. Трагедия. Память») 6+
DESCRIPTION:
URL:https://bobruisk-library.by/event/%d0%b2%d0%b8%d0%b4%d0%b5%d0%be-%d1%87%d0%b0%d1%81-%d0%b3%d1%80%d0%b5%d0%bc%d1%8f%d1%82-%d0%b8%d1%81%d1%82%d0%be%d1%80%d0%b8%d0%b8-%d0%ba%d0%be%d0%bb%d0%be%d0%ba%d0%be%d0%bb%d0%b0-%d0%b2%d0%b7%d1%8b/
LOCATION:ГБ №12\, ул. Бахарова\, 279\, Бобруйск\, Выберите штат:\, 213823\, Беларусь
END:VEVENT
BEGIN:VEVENT
DTSTART;TZID=Europe/Moscow:20250321T140000
DTEND;TZID=Europe/Moscow:20250321T150000
DTSTAMP:20260421T155644
CREATED:20250312T115824Z
LAST-MODIFIED:20250312T115824Z
UID:885939-1742565600-1742569200@bobruisk-library.by
SUMMARY:Экологический урок «Я славлю чудо из чудес – красу земли – зелёный лес!» (21 марта – Международный день лесов; в рамках работы Эко-Инфо-Центра) 6+
DESCRIPTION:
URL:https://bobruisk-library.by/event/%d1%8d%d0%ba%d0%be%d0%bb%d0%be%d0%b3%d0%b8%d1%87%d0%b5%d1%81%d0%ba%d0%b8%d0%b9-%d1%83%d1%80%d0%be%d0%ba-%d1%8f-%d1%81%d0%bb%d0%b0%d0%b2%d0%bb%d1%8e-%d1%87%d1%83%d0%b4%d0%be-%d0%b8%d0%b7-%d1%87/
LOCATION:ЦДБ им. А.П.Гайдара\, ул. Урицкого\, 125\, Бобруйск\, 213809\, Беларусь
END:VEVENT
BEGIN:VEVENT
DTSTART;TZID=Europe/Moscow:20250321T140000
DTEND;TZID=Europe/Moscow:20250321T150000
DTSTAMP:20260421T155644
CREATED:20250312T114824Z
LAST-MODIFIED:20250312T114846Z
UID:885919-1742565600-1742569200@bobruisk-library.by
SUMMARY:Час памяти «И болью отзовется» 6+
DESCRIPTION:
URL:https://bobruisk-library.by/event/%d1%87%d0%b0%d1%81-%d0%bf%d0%b0%d0%bc%d1%8f%d1%82%d0%b8-%d0%b8-%d0%b1%d0%be%d0%bb%d1%8c%d1%8e-%d0%be%d1%82%d0%b7%d0%be%d0%b2%d0%b5%d1%82%d1%81%d1%8f-6/
LOCATION:ГБ им. А.С.Пушкина\, ул. Советская\, 87\, Бобруйск\, 213827\, Беларусь
END:VEVENT
BEGIN:VEVENT
DTSTART;TZID=Europe/Moscow:20250321T140000
DTEND;TZID=Europe/Moscow:20250321T150000
DTSTAMP:20260421T155644
CREATED:20250312T112024Z
LAST-MODIFIED:20250312T112024Z
UID:885913-1742565600-1742569200@bobruisk-library.by
SUMMARY:Урок памяти «Годы геноцида – века печали» 6+
DESCRIPTION:
URL:https://bobruisk-library.by/event/%d1%83%d1%80%d0%be%d0%ba-%d0%bf%d0%b0%d0%bc%d1%8f%d1%82%d0%b8-%d0%b3%d0%be%d0%b4%d1%8b-%d0%b3%d0%b5%d0%bd%d0%be%d1%86%d0%b8%d0%b4%d0%b0-%d0%b2%d0%b5%d0%ba%d0%b0-%d0%bf%d0%b5%d1%87/
LOCATION:ГБ №16\, ул. Гагарина\, 31а\, Бобруйск\, 213810\, Беларусь
END:VEVENT
BEGIN:VEVENT
DTSTART;TZID=Europe/Moscow:20250321T130000
DTEND;TZID=Europe/Moscow:20250321T140000
DTSTAMP:20260421T155644
CREATED:20250312T120542Z
LAST-MODIFIED:20250312T120542Z
UID:885952-1742562000-1742565600@bobruisk-library.by
SUMMARY:Час мужества и памяти «Они вышли из огня\, из- под земли» (22 марта – День памяти жертв Хатыни и сожжённых белорусских деревень и 50-летию издания документального сборника воспоминаний «Я из огненной деревни…»); (в рамках патриотической акции «Хатынь. трагедия. Память») 6+
DESCRIPTION:
URL:https://bobruisk-library.by/event/%d1%87%d0%b0%d1%81-%d0%bc%d1%83%d0%b6%d0%b5%d1%81%d1%82%d0%b2%d0%b0-%d0%b8-%d0%bf%d0%b0%d0%bc%d1%8f%d1%82%d0%b8-%d0%be%d0%bd%d0%b8-%d0%b2%d1%8b%d1%88%d0%bb%d0%b8-%d0%b8%d0%b7-%d0%be%d0%b3%d0%bd-2/
LOCATION:ГБ №8 им. Е. Полоцкой\, ул. Минская\, 90\, Бобруйск\, 213828\, Беларусь
END:VEVENT
BEGIN:VEVENT
DTSTART;TZID=Europe/Moscow:20250321T130000
DTEND;TZID=Europe/Moscow:20250321T140000
DTSTAMP:20260421T155644
CREATED:20250312T115149Z
LAST-MODIFIED:20250312T115149Z
UID:885925-1742562000-1742565600@bobruisk-library.by
SUMMARY:Час истории «Хатынь: символ вечной памяти и скорби» 6+
DESCRIPTION:
URL:https://bobruisk-library.by/event/%d1%87%d0%b0%d1%81-%d0%b8%d1%81%d1%82%d0%be%d1%80%d0%b8%d0%b8-%d1%85%d0%b0%d1%82%d1%8b%d0%bd%d1%8c-%d1%81%d0%b8%d0%bc%d0%b2%d0%be%d0%bb-%d0%b2%d0%b5%d1%87%d0%bd%d0%be%d0%b9-%d0%bf%d0%b0%d0%bc-2/
LOCATION:ДБ №6 им. Н.А.Островского\, ул. Комсомольская\, 52\, Бобруйск\, 213826\, Беларусь
END:VEVENT
BEGIN:VEVENT
DTSTART;TZID=Europe/Moscow:20250321T130000
DTEND;TZID=Europe/Moscow:20250321T140000
DTSTAMP:20260421T155644
CREATED:20250312T114959Z
LAST-MODIFIED:20250312T114959Z
UID:885923-1742562000-1742565600@bobruisk-library.by
SUMMARY:Час истории «Хатынь: символ вечной памяти и скорби» 6+
DESCRIPTION:
URL:https://bobruisk-library.by/event/%d1%87%d0%b0%d1%81-%d0%b8%d1%81%d1%82%d0%be%d1%80%d0%b8%d0%b8-%d1%85%d0%b0%d1%82%d1%8b%d0%bd%d1%8c-%d1%81%d0%b8%d0%bc%d0%b2%d0%be%d0%bb-%d0%b2%d0%b5%d1%87%d0%bd%d0%be%d0%b9-%d0%bf%d0%b0%d0%bc/
LOCATION:ДБ №6 им. Н.А.Островского\, ул. Комсомольская\, 52\, Бобруйск\, 213826\, Беларусь
END:VEVENT
BEGIN:VEVENT
DTSTART;TZID=Europe/Moscow:20250321T123000
DTEND;TZID=Europe/Moscow:20250321T133000
DTSTAMP:20260421T155644
CREATED:20250312T115300Z
LAST-MODIFIED:20250312T115300Z
UID:885929-1742560200-1742563800@bobruisk-library.by
SUMMARY:Час поэзии «Поэзия сердцем с тобой говорит» 6+
DESCRIPTION:
URL:https://bobruisk-library.by/event/%d1%87%d0%b0%d1%81-%d0%bf%d0%be%d1%8d%d0%b7%d0%b8%d0%b8-%d0%bf%d0%be%d1%8d%d0%b7%d0%b8%d1%8f-%d1%81%d0%b5%d1%80%d0%b4%d1%86%d0%b5%d0%bc-%d1%81-%d1%82%d0%be%d0%b1%d0%be%d0%b9-%d0%b3%d0%be%d0%b2/
LOCATION:ГБ №4 им. Б.Микулича\, пр-т Строителей\, 56\, Бобруйск\, 213807\, Беларусь
END:VEVENT
BEGIN:VEVENT
DTSTART;TZID=Europe/Moscow:20250320T160000
DTEND;TZID=Europe/Moscow:20250320T170000
DTSTAMP:20260421T155644
CREATED:20250312T120500Z
LAST-MODIFIED:20250312T120500Z
UID:885950-1742486400-1742490000@bobruisk-library.by
SUMMARY:Патриотический час «Далёкому мужеству верность храня» 6+
DESCRIPTION:
URL:https://bobruisk-library.by/event/%d0%bf%d0%b0%d1%82%d1%80%d0%b8%d0%be%d1%82%d0%b8%d1%87%d0%b5%d1%81%d0%ba%d0%b8%d0%b9-%d1%87%d0%b0%d1%81-%d0%b4%d0%b0%d0%bb%d1%91%d0%ba%d0%be%d0%bc%d1%83-%d0%bc%d1%83%d0%b6%d0%b5%d1%81%d1%82/
LOCATION:ГБ №8 им. Е. Полоцкой\, ул. Минская\, 90\, Бобруйск\, 213828\, Беларусь
END:VEVENT
BEGIN:VEVENT
DTSTART;TZID=Europe/Moscow:20250320T144000
DTEND;TZID=Europe/Moscow:20250320T153000
DTSTAMP:20260421T155644
CREATED:20250312T115742Z
LAST-MODIFIED:20250312T115742Z
UID:885937-1742481600-1742484600@bobruisk-library.by
SUMMARY:Урок-реквием «Всенародная боль и память: трагедия сожжённых деревень» (в рамках патриотического проекта «Моя Родина – Беларусь) 6+
DESCRIPTION:
URL:https://bobruisk-library.by/event/%d1%83%d1%80%d0%be%d0%ba-%d1%80%d0%b5%d0%ba%d0%b2%d0%b8%d0%b5%d0%bc-%d0%b2%d1%81%d0%b5%d0%bd%d0%b0%d1%80%d0%be%d0%b4%d0%bd%d0%b0%d1%8f-%d0%b1%d0%be%d0%bb%d1%8c-%d0%b8-%d0%bf%d0%b0%d0%bc%d1%8f-2/
LOCATION:ЦДБ им. А.П.Гайдара\, ул. Урицкого\, 125\, Бобруйск\, 213809\, Беларусь
END:VEVENT
BEGIN:VEVENT
DTSTART;TZID=Europe/Moscow:20250320T143000
DTEND;TZID=Europe/Moscow:20250320T153000
DTSTAMP:20260421T155644
CREATED:20250312T112233Z
LAST-MODIFIED:20250312T112233Z
UID:885917-1742481000-1742484600@bobruisk-library.by
SUMMARY:Урок памяти «И вечно будет жить Хатынь» (д. Хатынь была сожжена 22.03.1943 года фашистским карательным отрядом) в рамках проекта «Мой край родной – моя история живая» 6+
DESCRIPTION:
URL:https://bobruisk-library.by/event/%d1%83%d1%80%d0%be%d0%ba-%d0%bf%d0%b0%d0%bc%d1%8f%d1%82%d0%b8-%d0%b8-%d0%b2%d0%b5%d1%87%d0%bd%d0%be-%d0%b1%d1%83%d0%b4%d0%b5%d1%82-%d0%b6%d0%b8%d1%82%d1%8c-%d1%85%d0%b0%d1%82%d1%8b%d0%bd%d1%8c/
LOCATION:ГБ №7 им. А.А.Шогенцукова\, ул. Интернациональная\, 72в\, Бобруйск\, 213819
END:VEVENT
BEGIN:VEVENT
DTSTART;TZID=Europe/Moscow:20250320T130000
DTEND;TZID=Europe/Moscow:20250320T140000
DTSTAMP:20260421T155644
CREATED:20250312T120418Z
LAST-MODIFIED:20250312T120418Z
UID:885947-1742475600-1742479200@bobruisk-library.by
SUMMARY:Час мужества и памяти «Они вышли из огня\, из- под земли» (22 марта – День памяти жертв Хатыни и сожжённых белорусских деревень и 50-летию издания документального сборника воспоминаний «Я из огненной деревни…»); (в рамках патриотической акции «Хатынь. Трагедия. Память») 6+
DESCRIPTION:
URL:https://bobruisk-library.by/event/%d1%87%d0%b0%d1%81-%d0%bc%d1%83%d0%b6%d0%b5%d1%81%d1%82%d0%b2%d0%b0-%d0%b8-%d0%bf%d0%b0%d0%bc%d1%8f%d1%82%d0%b8-%d0%be%d0%bd%d0%b8-%d0%b2%d1%8b%d1%88%d0%bb%d0%b8-%d0%b8%d0%b7-%d0%be%d0%b3%d0%bd/
LOCATION:ГБ №8 им. Е. Полоцкой\, ул. Минская\, 90\, Бобруйск\, 213828\, Беларусь
END:VEVENT
BEGIN:VEVENT
DTSTART;TZID=Europe/Moscow:20250320T113000
DTEND;TZID=Europe/Moscow:20250320T123000
DTSTAMP:20260421T155644
CREATED:20250312T115234Z
LAST-MODIFIED:20250312T115234Z
UID:885927-1742470200-1742473800@bobruisk-library.by
SUMMARY:Час истории «Хатынь – память сердца» (в рамках патриотической акции «Хатынь. Трагедия. Память») 6+
DESCRIPTION:
URL:https://bobruisk-library.by/event/%d1%87%d0%b0%d1%81-%d0%b8%d1%81%d1%82%d0%be%d1%80%d0%b8%d0%b8-%d1%85%d0%b0%d1%82%d1%8b%d0%bd%d1%8c-%d0%bf%d0%b0%d0%bc%d1%8f%d1%82%d1%8c-%d1%81%d0%b5%d1%80%d0%b4%d1%86%d0%b0/
LOCATION:ГБ №4 им. Б.Микулича\, пр-т Строителей\, 56\, Бобруйск\, 213807\, Беларусь
END:VEVENT
BEGIN:VEVENT
DTSTART;TZID=Europe/Moscow:20250319T133000
DTEND;TZID=Europe/Moscow:20250319T143000
DTSTAMP:20260421T155644
CREATED:20250312T115500Z
LAST-MODIFIED:20250312T115500Z
UID:885931-1742391000-1742394600@bobruisk-library.by
SUMMARY:Час интересного сообщения «Человек- эпоха» (15.03. – 95 лет со дня рождения Ж. Алферова) 6+
DESCRIPTION:
URL:https://bobruisk-library.by/event/%d1%87%d0%b0%d1%81-%d0%b8%d0%bd%d1%82%d0%b5%d1%80%d0%b5%d1%81%d0%bd%d0%be%d0%b3%d0%be-%d1%81%d0%be%d0%be%d0%b1%d1%89%d0%b5%d0%bd%d0%b8%d1%8f-%d1%87%d0%b5%d0%bb%d0%be%d0%b2%d0%b5%d0%ba-%d1%8d/
LOCATION:ЦГБ им. М.Горького\, ул. Советская\, 64\, Бобруйск\, 213826\, Беларусь
END:VEVENT
BEGIN:VEVENT
DTSTART;TZID=Europe/Moscow:20250319T121000
DTEND;TZID=Europe/Moscow:20250319T130000
DTSTAMP:20260421T155644
CREATED:20250317T112043Z
LAST-MODIFIED:20250317T112043Z
UID:885994-1742386200-1742389200@bobruisk-library.by
SUMMARY:Православная беседа «Открывая книгу\, открываем мир» 6+
DESCRIPTION:
URL:https://bobruisk-library.by/event/%d0%bf%d1%80%d0%b0%d0%b2%d0%be%d1%81%d0%bb%d0%b0%d0%b2%d0%bd%d0%b0%d1%8f-%d0%b1%d0%b5%d1%81%d0%b5%d0%b4%d0%b0-%d0%be%d1%82%d0%ba%d1%80%d1%8b%d0%b2%d0%b0%d1%8f-%d0%ba%d0%bd%d0%b8%d0%b3%d1%83/
LOCATION:ГБ №8 им. Е. Полоцкой\, ул. Минская\, 90\, Бобруйск\, 213828\, Беларусь
END:VEVENT
BEGIN:VEVENT
DTSTART;TZID=Europe/Moscow:20250319T110000
DTEND;TZID=Europe/Moscow:20250319T120000
DTSTAMP:20260421T155644
CREATED:20250312T115711Z
LAST-MODIFIED:20250312T115711Z
UID:885935-1742382000-1742385600@bobruisk-library.by
SUMMARY:Урок-реквием «Всенародная боль и память: трагедия сожжённых деревень» (в рамках патриотического проекта «Моя Родина – Беларусь) 6+
DESCRIPTION:
URL:https://bobruisk-library.by/event/%d1%83%d1%80%d0%be%d0%ba-%d1%80%d0%b5%d0%ba%d0%b2%d0%b8%d0%b5%d0%bc-%d0%b2%d1%81%d0%b5%d0%bd%d0%b0%d1%80%d0%be%d0%b4%d0%bd%d0%b0%d1%8f-%d0%b1%d0%be%d0%bb%d1%8c-%d0%b8-%d0%bf%d0%b0%d0%bc%d1%8f/
LOCATION:ЦДБ им. А.П.Гайдара\, ул. Урицкого\, 125\, Бобруйск\, 213809\, Беларусь
END:VEVENT
BEGIN:VEVENT
DTSTART;TZID=Europe/Moscow:20250319T103000
DTEND;TZID=Europe/Moscow:20250319T123000
DTSTAMP:20260421T155644
CREATED:20250319T111107Z
LAST-MODIFIED:20250319T111107Z
UID:886028-1742380200-1742387400@bobruisk-library.by
SUMMARY:Библиотурнир «20 вопросов книгочею» 6+
DESCRIPTION:
URL:https://bobruisk-library.by/event/%d0%b1%d0%b8%d0%b1%d0%bb%d0%b8%d0%be%d1%82%d1%83%d1%80%d0%bd%d0%b8%d1%80-20-%d0%b2%d0%be%d0%bf%d1%80%d0%be%d1%81%d0%be%d0%b2-%d0%ba%d0%bd%d0%b8%d0%b3%d0%be%d1%87%d0%b5%d1%8e-6/
LOCATION:ГБ №16\, ул. Гагарина\, 31а\, Бобруйск\, 213810\, Беларусь
END:VEVENT
BEGIN:VEVENT
DTSTART;TZID=Europe/Moscow:20250318T133000
DTEND;TZID=Europe/Moscow:20250318T143000
DTSTAMP:20260421T155644
CREATED:20250312T112049Z
LAST-MODIFIED:20250312T112049Z
UID:885915-1742304600-1742308200@bobruisk-library.by
SUMMARY:Библиобюро «Выбираем профессию вместе» 6+
DESCRIPTION:
URL:https://bobruisk-library.by/event/%d0%b1%d0%b8%d0%b1%d0%bb%d0%b8%d0%be%d0%b1%d1%8e%d1%80%d0%be-%d0%b2%d1%8b%d0%b1%d0%b8%d1%80%d0%b0%d0%b5%d0%bc-%d0%bf%d1%80%d0%be%d1%84%d0%b5%d1%81%d1%81%d0%b8%d1%8e-%d0%b2%d0%bc%d0%b5%d1%81/
LOCATION:ГБ №16\, ул. Гагарина\, 31а\, Бобруйск\, 213810\, Беларусь
END:VEVENT
BEGIN:VEVENT
DTSTART;TZID=Europe/Moscow:20250318T130000
DTEND;TZID=Europe/Moscow:20250318T140000
DTSTAMP:20260421T155644
CREATED:20250312T120338Z
LAST-MODIFIED:20250312T120338Z
UID:885945-1742302800-1742306400@bobruisk-library.by
SUMMARY:Беседа-рекомендация «Твоя жизнь – твоя ответственность» (ИДН) (Проект по ЗОЖ «Академия выживания») 6+
DESCRIPTION:
URL:https://bobruisk-library.by/event/%d0%b1%d0%b5%d1%81%d0%b5%d0%b4%d0%b0-%d1%80%d0%b5%d0%ba%d0%be%d0%bc%d0%b5%d0%bd%d0%b4%d0%b0%d1%86%d0%b8%d1%8f-%d1%82%d0%b2%d0%be%d1%8f-%d0%b6%d0%b8%d0%b7%d0%bd%d1%8c-%d1%82%d0%b2%d0%be/
LOCATION:ГБ №8 им. Е. Полоцкой\, ул. Минская\, 90\, Бобруйск\, 213828\, Беларусь
END:VEVENT
BEGIN:VEVENT
DTSTART;TZID=Europe/Moscow:20250318T130000
DTEND;TZID=Europe/Moscow:20250318T140000
DTSTAMP:20260421T155644
CREATED:20250312T115640Z
LAST-MODIFIED:20250312T115640Z
UID:885933-1742302800-1742306400@bobruisk-library.by
SUMMARY:Творческое занятие «Чудесная соломка» (в рамках цикла мероприятий выставок творческих работ мастеров декоративно- прикладного искусства отдела традиционного искусства и ремёсел ГУК «Дворец искусств г.Бобруйска «Белорусские традиции в декоративно- прикладном искусстве») 6+
DESCRIPTION:
URL:https://bobruisk-library.by/event/%d1%82%d0%b2%d0%be%d1%80%d1%87%d0%b5%d1%81%d0%ba%d0%be%d0%b5-%d0%b7%d0%b0%d0%bd%d1%8f%d1%82%d0%b8%d0%b5-%d1%87%d1%83%d0%b4%d0%b5%d1%81%d0%bd%d0%b0%d1%8f-%d1%81%d0%be%d0%bb%d0%be%d0%bc%d0%ba/
LOCATION:ЦДБ им. А.П.Гайдара\, ул. Урицкого\, 125\, Бобруйск\, 213809\, Беларусь
END:VEVENT
BEGIN:VEVENT
DTSTART;TZID=Europe/Moscow:20250315T140000
DTEND;TZID=Europe/Moscow:20250315T150000
DTSTAMP:20260421T155644
CREATED:20250305T072018Z
LAST-MODIFIED:20250305T072018Z
UID:885811-1742047200-1742050800@bobruisk-library.by
SUMMARY:Информационный час с элементами интеллектуальной игры «Мир права. Конституция Республики Беларусь» 6+
DESCRIPTION:
URL:https://bobruisk-library.by/event/%d0%b8%d0%bd%d1%84%d0%be%d1%80%d0%bc%d0%b0%d1%86%d0%b8%d0%be%d0%bd%d0%bd%d1%8b%d0%b9-%d1%87%d0%b0%d1%81-%d1%81-%d1%8d%d0%bb%d0%b5%d0%bc%d0%b5%d0%bd%d1%82%d0%b0%d0%bc%d0%b8-%d0%b8%d0%bd%d1%82%d0%b5/
LOCATION:ГБ №16\, ул. Гагарина\, 31а\, Бобруйск\, 213810\, Беларусь
END:VEVENT
BEGIN:VEVENT
DTSTART;TZID=Europe/Moscow:20250315T130000
DTEND;TZID=Europe/Moscow:20250315T140000
DTSTAMP:20260421T155644
CREATED:20250305T115631Z
LAST-MODIFIED:20250305T115631Z
UID:885828-1742043600-1742047200@bobruisk-library.by
SUMMARY:Информационная беседа “Профессий много есть на свете\, найти призванье по душе”( в рамках цикла бесед) 6+
DESCRIPTION:
URL:https://bobruisk-library.by/event/%d0%b8%d0%bd%d1%84%d0%be%d1%80%d0%bc%d0%b0%d1%86%d0%b8%d0%be%d0%bd%d0%bd%d0%b0%d1%8f-%d0%b1%d0%b5%d1%81%d0%b5%d0%b4%d0%b0-%d0%bf%d1%80%d0%be%d1%84%d0%b5%d1%81%d1%81%d0%b8%d0%b9-%d0%bc%d0%bd/
LOCATION:ГБ №4 им. Б.Микулича\, пр-т Строителей\, 56\, Бобруйск\, 213807\, Беларусь
END:VEVENT
BEGIN:VEVENT
DTSTART;TZID=Europe/Moscow:20250315T100000
DTEND;TZID=Europe/Moscow:20250315T120000
DTSTAMP:20260421T155644
CREATED:20250305T130047Z
LAST-MODIFIED:20250305T130047Z
UID:885844-1742032800-1742040000@bobruisk-library.by
SUMMARY:Патриотический час «Конституция – главный документ страны» (15 марта – День Конституции РеспубликиБеларусь); (в рамках декады гражданственности «Конституция Республики Беларусь – основной гарант процветания страны») 6+
DESCRIPTION:
URL:https://bobruisk-library.by/event/%d0%bf%d0%b0%d1%82%d1%80%d0%b8%d0%be%d1%82%d0%b8%d1%87%d0%b5%d1%81%d0%ba%d0%b8%d0%b9-%d1%87%d0%b0%d1%81-%d0%ba%d0%be%d0%bd%d1%81%d1%82%d0%b8%d1%82%d1%83%d1%86%d0%b8%d1%8f-%d0%b3%d0%bb-2/
LOCATION:ГБ №8 им. Е. Полоцкой\, ул. Минская\, 90\, Бобруйск\, 213828\, Беларусь
END:VEVENT
BEGIN:VEVENT
DTSTART;TZID=Europe/Moscow:20250314T120000
DTEND;TZID=Europe/Moscow:20250314T130000
DTSTAMP:20260421T155644
CREATED:20250305T125941Z
LAST-MODIFIED:20250305T125941Z
UID:885840-1741953600-1741957200@bobruisk-library.by
SUMMARY:Книжное досье «Книга: вчера\, сегодня\, завтра» (14 марта – День православной книги) 6+
DESCRIPTION:
URL:https://bobruisk-library.by/event/%d0%ba%d0%bd%d0%b8%d0%b6%d0%bd%d0%be%d0%b5-%d0%b4%d0%be%d1%81%d1%8c%d0%b5-%d0%ba%d0%bd%d0%b8%d0%b3%d0%b0-%d0%b2%d1%87%d0%b5%d1%80%d0%b0-%d1%81%d0%b5%d0%b3%d0%be%d0%b4%d0%bd%d1%8f-%d0%b7%d0%b0-2/
LOCATION:ГБ №8 им. Е. Полоцкой\, ул. Минская\, 90\, Бобруйск\, 213828\, Беларусь
END:VEVENT
BEGIN:VEVENT
DTSTART;VALUE=DATE:20250314
DTEND;VALUE=DATE:20250315
DTSTAMP:20260421T155644
CREATED:20250305T125957Z
LAST-MODIFIED:20250305T125957Z
UID:885842-1741910400-1741996799@bobruisk-library.by
SUMMARY:День православной книги «Духовной мудрости ключи»(14 марта – День православной книги) 6+
DESCRIPTION:
URL:https://bobruisk-library.by/event/%d0%b4%d0%b5%d0%bd%d1%8c-%d0%bf%d1%80%d0%b0%d0%b2%d0%be%d1%81%d0%bb%d0%b0%d0%b2%d0%bd%d0%be%d0%b9-%d0%ba%d0%bd%d0%b8%d0%b3%d0%b8-%d0%b4%d1%83%d1%85%d0%be%d0%b2%d0%bd%d0%be%d0%b9-%d0%bc%d1%83/
LOCATION:ГБ №8 им. Е. Полоцкой\, ул. Минская\, 90\, Бобруйск\, 213828\, Беларусь
END:VEVENT
BEGIN:VEVENT
DTSTART;TZID=Europe/Moscow:20250313T140000
DTEND;TZID=Europe/Moscow:20250313T150000
DTSTAMP:20260421T155644
CREATED:20250305T103734Z
LAST-MODIFIED:20250305T103734Z
UID:885822-1741874400-1741878000@bobruisk-library.by
SUMMARY:Час правовой информации «Я – человек\, я – белорус\, я – гражданин» 6+
DESCRIPTION:
URL:https://bobruisk-library.by/event/%d1%87%d0%b0%d1%81-%d0%bf%d1%80%d0%b0%d0%b2%d0%be%d0%b2%d0%be%d0%b9-%d0%b8%d0%bd%d1%84%d0%be%d1%80%d0%bc%d0%b0%d1%86%d0%b8%d0%b8-%d1%8f-%d1%87%d0%b5%d0%bb%d0%be%d0%b2%d0%b5%d0%ba/
LOCATION:ГБ №16\, ул. Гагарина\, 31а\, Бобруйск\, 213810\, Беларусь
END:VEVENT
END:VCALENDAR