BEGIN:VCALENDAR
VERSION:2.0
PRODID:-//Учреждение культуры &quot;Библиотечная система города Бобруйска&quot; - ECPv6.15.20//NONSGML v1.0//EN
CALSCALE:GREGORIAN
METHOD:PUBLISH
X-WR-CALNAME:Учреждение культуры &quot;Библиотечная система города Бобруйска&quot;
X-ORIGINAL-URL:https://bobruisk-library.by
X-WR-CALDESC:Мероприятия для Учреждение культуры &quot;Библиотечная система города Бобруйска&quot;
REFRESH-INTERVAL;VALUE=DURATION:PT1H
X-Robots-Tag:noindex
X-PUBLISHED-TTL:PT1H
BEGIN:VTIMEZONE
TZID:Europe/Moscow
BEGIN:STANDARD
TZOFFSETFROM:+0300
TZOFFSETTO:+0300
TZNAME:MSK
DTSTART:20240101T000000
END:STANDARD
END:VTIMEZONE
BEGIN:VEVENT
DTSTART;TZID=Europe/Moscow:20250507T150000
DTEND;TZID=Europe/Moscow:20250507T160000
DTSTAMP:20260421T060808
CREATED:20250430T120345Z
LAST-MODIFIED:20250430T120345Z
UID:886814-1746630000-1746633600@bobruisk-library.by
SUMMARY:Территория чтения «Лаборатория читательского вкуса» 6+
DESCRIPTION:
URL:https://bobruisk-library.by/event/%d1%82%d0%b5%d1%80%d1%80%d0%b8%d1%82%d0%be%d1%80%d0%b8%d1%8f-%d1%87%d1%82%d0%b5%d0%bd%d0%b8%d1%8f-%d0%bb%d0%b0%d0%b1%d0%be%d1%80%d0%b0%d1%82%d0%be%d1%80%d0%b8%d1%8f-%d1%87%d0%b8%d1%82%d0%b0/
LOCATION:ГБ №8 им. Е. Полоцкой\, ул. Минская\, 90\, Бобруйск\, 213828\, Беларусь
END:VEVENT
BEGIN:VEVENT
DTSTART;TZID=Europe/Moscow:20250507T134500
DTEND;TZID=Europe/Moscow:20250507T143000
DTSTAMP:20260421T060808
CREATED:20250430T121003Z
LAST-MODIFIED:20250430T121003Z
UID:886822-1746625500-1746628200@bobruisk-library.by
SUMMARY:Литературно-музыкальный час «И сердцу по – прежнему горько» 6+
DESCRIPTION:
URL:https://bobruisk-library.by/event/%d0%bb%d0%b8%d1%82%d0%b5%d1%80%d0%b0%d1%82%d1%83%d1%80%d0%bd%d0%be-%d0%bc%d1%83%d0%b7%d1%8b%d0%ba%d0%b0%d0%bb%d1%8c%d0%bd%d1%8b%d0%b9-%d1%87%d0%b0%d1%81-%d0%b8-%d1%81%d0%b5%d1%80%d0%b4%d1%86/
LOCATION:ДБ №6 им. Н.А.Островского\, ул. Комсомольская\, 52\, Бобруйск\, 213826\, Беларусь
END:VEVENT
BEGIN:VEVENT
DTSTART;TZID=Europe/Moscow:20250507T130000
DTEND;TZID=Europe/Moscow:20250507T140000
DTSTAMP:20260421T060808
CREATED:20250430T115849Z
LAST-MODIFIED:20250430T115849Z
UID:886808-1746622800-1746626400@bobruisk-library.by
SUMMARY:Информационный час «Юные герои Великой Отечественной войны» (к 80-летию Победы советского народа в Великой Отечественной войне; в рамках патриотического проекта «Моя Родина – Беларусь) 6+
DESCRIPTION:
URL:https://bobruisk-library.by/event/%d0%b8%d0%bd%d1%84%d0%be%d1%80%d0%bc%d0%b0%d1%86%d0%b8%d0%be%d0%bd%d0%bd%d1%8b%d0%b9-%d1%87%d0%b0%d1%81-%d1%8e%d0%bd%d1%8b%d0%b5-%d0%b3%d0%b5%d1%80%d0%be%d0%b8-%d0%b2%d0%b5%d0%bb%d0%b8%d0%ba/
LOCATION:ЦДБ им. А.П.Гайдара\, ул. Урицкого\, 125\, Бобруйск\, 213809\, Беларусь
END:VEVENT
BEGIN:VEVENT
DTSTART;TZID=Europe/Moscow:20250507T130000
DTEND;TZID=Europe/Moscow:20250507T140000
DTSTAMP:20260421T060808
CREATED:20250430T115254Z
LAST-MODIFIED:20250505T133248Z
UID:886804-1746622800-1746626400@bobruisk-library.by
SUMMARY:Час памяти «Была весна – весна Победы» (09.05. – День победы) 6+
DESCRIPTION:
URL:https://bobruisk-library.by/event/%d1%87%d0%b0%d1%81-%d0%bf%d0%b0%d0%bc%d1%8f%d1%82%d0%b8-%d0%b1%d1%8b%d0%bb%d0%b0-%d0%b2%d0%b5%d1%81%d0%bd%d0%b0-%d0%b2%d0%b5%d1%81%d0%bd%d0%b0-%d0%bf%d0%be%d0%b1%d0%b5%d0%b4%d1%8b/
LOCATION:ЦГБ им. М.Горького\, ул. Советская\, 64\, Бобруйск\, 213826\, Беларусь
END:VEVENT
BEGIN:VEVENT
DTSTART;TZID=Europe/Moscow:20250507T130000
DTEND;TZID=Europe/Moscow:20250507T140000
DTSTAMP:20260421T060808
CREATED:20250430T114901Z
LAST-MODIFIED:20250430T114901Z
UID:886800-1746622800-1746626400@bobruisk-library.by
SUMMARY:Час благодарности «Немеркнущий образ мужества» (к 80-летию Победы в Вов) 6+
DESCRIPTION:
URL:https://bobruisk-library.by/event/%d1%87%d0%b0%d1%81-%d0%b1%d0%bb%d0%b0%d0%b3%d0%be%d0%b4%d0%b0%d1%80%d0%bd%d0%be%d1%81%d1%82%d0%b8-%d0%bd%d0%b5%d0%bc%d0%b5%d1%80%d0%ba%d0%bd%d1%83%d1%89%d0%b8%d0%b9-%d0%be%d0%b1%d1%80%d0%b0/
LOCATION:ДБ № 5\, ул. 50 лет ВЛКСМ\, 19\, Бобруйск\, 213824\, Беларусь
END:VEVENT
BEGIN:VEVENT
DTSTART;TZID=Europe/Moscow:20250506T130000
DTEND;TZID=Europe/Moscow:20250506T140000
DTSTAMP:20260421T060808
CREATED:20250430T121530Z
LAST-MODIFIED:20250430T121530Z
UID:886828-1746536400-1746540000@bobruisk-library.by
SUMMARY:Видеочас "Дети – герои Великой Отечественной войны" 6+
DESCRIPTION:
URL:https://bobruisk-library.by/event/%d0%b2%d0%b8%d0%b4%d0%b5%d0%be%d1%87%d0%b0%d1%81-%d0%b4%d0%b5%d1%82%d0%b8-%d0%b3%d0%b5%d1%80%d0%be%d0%b8-%d0%b2%d0%b5%d0%bb%d0%b8%d0%ba%d0%be%d0%b9-%d0%be%d1%82%d0%b5%d1%87%d0%b5%d1%81/
LOCATION:ГБ им. А.С.Пушкина\, ул. Советская\, 87\, Бобруйск\, 213827\, Беларусь
END:VEVENT
BEGIN:VEVENT
DTSTART;TZID=Europe/Moscow:20250506T130000
DTEND;TZID=Europe/Moscow:20250506T140000
DTSTAMP:20260421T060808
CREATED:20250430T120920Z
LAST-MODIFIED:20250430T120920Z
UID:886820-1746536400-1746540000@bobruisk-library.by
SUMMARY:Час памяти «Прошла через детство война» 6+
DESCRIPTION:
URL:https://bobruisk-library.by/event/%d1%87%d0%b0%d1%81-%d0%bf%d0%b0%d0%bc%d1%8f%d1%82%d0%b8-%d0%bf%d1%80%d0%be%d1%88%d0%bb%d0%b0-%d1%87%d0%b5%d1%80%d0%b5%d0%b7-%d0%b4%d0%b5%d1%82%d1%81%d1%82%d0%b2%d0%be-%d0%b2%d0%be%d0%b9%d0%bd/
LOCATION:ДБ №6 им. Н.А.Островского\, ул. Комсомольская\, 52\, Бобруйск\, 213826\, Беларусь
END:VEVENT
BEGIN:VEVENT
DTSTART;TZID=Europe/Moscow:20250506T110000
DTEND;TZID=Europe/Moscow:20250506T120000
DTSTAMP:20260421T060808
CREATED:20250430T115411Z
LAST-MODIFIED:20250430T115813Z
UID:886806-1746529200-1746532800@bobruisk-library.by
SUMMARY:Урок мужества «Наши земляки – участники войны» (к 80-летию Победы советского народа в Великой Отечественной войне; в рамках краеведческого проекта «Город\, который был\, есть\, будет») 6+
DESCRIPTION:
URL:https://bobruisk-library.by/event/%d1%83%d1%80%d0%be%d0%ba-%d0%bc%d1%83%d0%b6%d0%b5%d1%81%d1%82%d0%b2%d0%b0-%d0%bd%d0%b0%d1%88%d0%b8-%d0%b7%d0%b5%d0%bc%d0%bb%d1%8f%d0%ba%d0%b8-%d1%83%d1%87%d0%b0%d1%81%d1%82%d0%bd%d0%b8/
LOCATION:ЦДБ им. А.П.Гайдара\, ул. Урицкого\, 125\, Бобруйск\, 213809\, Беларусь
END:VEVENT
BEGIN:VEVENT
DTSTART;TZID=Europe/Moscow:20250505T130000
DTEND;TZID=Europe/Moscow:20250505T140000
DTSTAMP:20260421T060808
CREATED:20250430T115047Z
LAST-MODIFIED:20250430T115047Z
UID:886802-1746450000-1746453600@bobruisk-library.by
SUMMARY:Инфо-час «Как по маслу» (ОАО Бобруйский завод растительных масел») (01.05. – Международный день подсолнуха) 6+
DESCRIPTION:
URL:https://bobruisk-library.by/event/%d0%b8%d0%bd%d1%84%d0%be-%d1%87%d0%b0%d1%81-%d0%ba%d0%b0%d0%ba-%d0%bf%d0%be-%d0%bc%d0%b0%d1%81%d0%bb%d1%83-%d0%be%d0%b0%d0%be-%d0%b1%d0%be%d0%b1%d1%80%d1%83%d0%b9%d1%81%d0%ba%d0%b8%d0%b9/
LOCATION:ЦГБ им. М.Горького\, ул. Советская\, 64\, Бобруйск\, 213826\, Беларусь
END:VEVENT
BEGIN:VEVENT
DTSTART;TZID=Europe/Moscow:20250505T113000
DTEND;TZID=Europe/Moscow:20250505T123000
DTSTAMP:20260421T060808
CREATED:20250430T120739Z
LAST-MODIFIED:20250430T120739Z
UID:886818-1746444600-1746448200@bobruisk-library.by
SUMMARY:Литературно-музыкальная композиция «И память о войне нам книга оставляет» (в рамках недели патриотизма «Распахните сердца для памяти» к 80-летию Победы советского народа в Великой Отечественной войне) 6+
DESCRIPTION:
URL:https://bobruisk-library.by/event/%d0%bb%d0%b8%d1%82%d0%b5%d1%80%d0%b0%d1%82%d1%83%d1%80%d0%bd%d0%be-%d0%bc%d1%83%d0%b7%d1%8b%d0%ba%d0%b0%d0%bb%d1%8c%d0%bd%d0%b0%d1%8f-%d0%ba%d0%be%d0%bc%d0%bf%d0%be%d0%b7%d0%b8%d1%86%d0%b8%d1%8f-22/
LOCATION:ГБ №4 им. Б.Микулича\, пр-т Строителей\, 56\, Бобруйск\, 213807\, Беларусь
END:VEVENT
BEGIN:VEVENT
DTSTART;TZID=Europe/Moscow:20250505T110000
DTEND;TZID=Europe/Moscow:20250505T120000
DTSTAMP:20260421T060808
CREATED:20250430T114833Z
LAST-MODIFIED:20250430T114833Z
UID:886798-1746442800-1746446400@bobruisk-library.by
SUMMARY:Информационно-правовой час «Пространство равных возможностей» (к Международному дню борьбы за права инвалидов) 6+
DESCRIPTION:
URL:https://bobruisk-library.by/event/%d0%b8%d0%bd%d1%84%d0%be%d1%80%d0%bc%d0%b0%d1%86%d0%b8%d0%be%d0%bd%d0%bd%d0%be-%d0%bf%d1%80%d0%b0%d0%b2%d0%be%d0%b2%d0%be%d0%b9-%d1%87%d0%b0%d1%81-%d0%bf%d1%80%d0%be%d1%81%d1%82%d1%80%d0%b0/
LOCATION:ДБ № 5\, ул. 50 лет ВЛКСМ\, 19\, Бобруйск\, 213824\, Беларусь
END:VEVENT
BEGIN:VEVENT
DTSTART;VALUE=DATE:20250505
DTEND;VALUE=DATE:20250506
DTSTAMP:20260421T060808
CREATED:20250430T120313Z
LAST-MODIFIED:20250430T120313Z
UID:886812-1746403200-1746489599@bobruisk-library.by
SUMMARY:Акция «Разные возможности – равные права» (5 мая – Международный день борьбы за права инвалидов) (в рамках цикла «Добру открываются сердца») 6+
DESCRIPTION:
URL:https://bobruisk-library.by/event/%d0%b0%d0%ba%d1%86%d0%b8%d1%8f-%d1%80%d0%b0%d0%b7%d0%bd%d1%8b%d0%b5-%d0%b2%d0%be%d0%b7%d0%bc%d0%be%d0%b6%d0%bd%d0%be%d1%81%d1%82%d0%b8-%d1%80%d0%b0%d0%b2%d0%bd%d1%8b%d0%b5-%d0%bf%d1%80/
LOCATION:ГБ №8 им. Е. Полоцкой\, ул. Минская\, 90\, Бобруйск\, 213828\, Беларусь
END:VEVENT
BEGIN:VEVENT
DTSTART;TZID=Europe/Moscow:20250502T130000
DTEND;TZID=Europe/Moscow:20250502T140000
DTSTAMP:20260421T060808
CREATED:20250423T054331Z
LAST-MODIFIED:20250423T054331Z
UID:886703-1746190800-1746194400@bobruisk-library.by
SUMMARY:Час истории «Мир. Труд. Май» 6+
DESCRIPTION:
URL:https://bobruisk-library.by/event/%d1%87%d0%b0%d1%81-%d0%b8%d1%81%d1%82%d0%be%d1%80%d0%b8%d0%b8-%d0%bc%d0%b8%d1%80-%d1%82%d1%80%d1%83%d0%b4-%d0%bc%d0%b0%d0%b9-6/
LOCATION:ЦГБ им. М.Горького\, ул. Советская\, 64\, Бобруйск\, 213826\, Беларусь
END:VEVENT
BEGIN:VEVENT
DTSTART;TZID=Europe/Moscow:20250430T080000
DTEND;TZID=Europe/Moscow:20250430T170000
DTSTAMP:20260421T060808
CREATED:20250430T121303Z
LAST-MODIFIED:20250430T121303Z
UID:886824-1746000000-1746032400@bobruisk-library.by
SUMMARY:Литературный час «Мужали мальчики в бою» 6+
DESCRIPTION:
URL:https://bobruisk-library.by/event/%d0%bb%d0%b8%d1%82%d0%b5%d1%80%d0%b0%d1%82%d1%83%d1%80%d0%bd%d1%8b%d0%b9-%d1%87%d0%b0%d1%81-%d0%bc%d1%83%d0%b6%d0%b0%d0%bb%d0%b8-%d0%bc%d0%b0%d0%bb%d1%8c%d1%87%d0%b8%d0%ba%d0%b8-%d0%b2-%d0%b1/
LOCATION:ДБ №6 им. Н.А.Островского\, ул. Комсомольская\, 52\, Бобруйск\, 213826\, Беларусь
END:VEVENT
BEGIN:VEVENT
DTSTART;TZID=Europe/Moscow:20250428T150000
DTEND;TZID=Europe/Moscow:20250428T160000
DTSTAMP:20260421T060808
CREATED:20250423T054559Z
LAST-MODIFIED:20250423T054559Z
UID:886706-1745852400-1745856000@bobruisk-library.by
SUMMARY:Урок-фантазия «Украшения из бисера» 6+
DESCRIPTION:
URL:https://bobruisk-library.by/event/%d1%83%d1%80%d0%be%d0%ba-%d1%84%d0%b0%d0%bd%d1%82%d0%b0%d0%b7%d0%b8%d1%8f-%d1%83%d0%ba%d1%80%d0%b0%d1%88%d0%b5%d0%bd%d0%b8%d1%8f-%d0%b8%d0%b7-%d0%b1%d0%b8%d1%81%d0%b5%d1%80%d0%b0-6/
LOCATION:ДБ № 5\, ул. 50 лет ВЛКСМ\, 19\, Бобруйск\, 213824\, Беларусь
END:VEVENT
BEGIN:VEVENT
DTSTART;TZID=Europe/Moscow:20250426T144000
DTEND;TZID=Europe/Moscow:20250426T151000
DTSTAMP:20260421T060808
CREATED:20250417T093625Z
LAST-MODIFIED:20250417T093625Z
UID:886645-1745678400-1745680200@bobruisk-library.by
SUMMARY:Час памяти "Чернобыль: сквозь призму десятилетий" 6+
DESCRIPTION:
URL:https://bobruisk-library.by/event/%d1%87%d0%b0%d1%81-%d0%bf%d0%b0%d0%bc%d1%8f%d1%82%d0%b8-%d1%87%d0%b5%d1%80%d0%bd%d0%be%d0%b1%d1%8b%d0%bb%d1%8c-%d1%81%d0%ba%d0%b2%d0%be%d0%b7%d1%8c-%d0%bf%d1%80%d0%b8%d0%b7%d0%bc%d1%83-%d0%b4%d0%b5/
LOCATION:ЦДБ им. А.П.Гайдара\, ул. Урицкого\, 125\, Бобруйск\, 213809\, Беларусь
END:VEVENT
BEGIN:VEVENT
DTSTART;TZID=Europe/Moscow:20250425T110000
DTEND;TZID=Europe/Moscow:20250425T120000
DTSTAMP:20260421T060808
CREATED:20250416T131111Z
LAST-MODIFIED:20250416T131111Z
UID:886625-1745578800-1745582400@bobruisk-library.by
SUMMARY:Урок-реквием «Борьба с невидимым врагом» 6+
DESCRIPTION:
URL:https://bobruisk-library.by/event/%d1%83%d1%80%d0%be%d0%ba-%d1%80%d0%b5%d0%ba%d0%b2%d0%b8%d0%b5%d0%bc-%d0%b1%d0%be%d1%80%d1%8c%d0%b1%d0%b0-%d1%81-%d0%bd%d0%b5%d0%b2%d0%b8%d0%b4%d0%b8%d0%bc%d1%8b%d0%bc-%d0%b2%d1%80%d0%b0%d0%b3/
LOCATION:ГБ им. А.С.Пушкина\, ул. Советская\, 87\, Бобруйск\, 213827\, Беларусь
END:VEVENT
BEGIN:VEVENT
DTSTART;TZID=Europe/Moscow:20250424T142000
DTEND;TZID=Europe/Moscow:20250424T150000
DTSTAMP:20260421T060808
CREATED:20250416T081924Z
LAST-MODIFIED:20250416T081924Z
UID:886602-1745504400-1745506800@bobruisk-library.by
SUMMARY:Час памяти «Горячий апрель 1986 года» (26.04. – День Чернобыльской трагедии) 6+
DESCRIPTION:
URL:https://bobruisk-library.by/event/%d1%87%d0%b0%d1%81-%d0%bf%d0%b0%d0%bc%d1%8f%d1%82%d0%b8-%d0%b3%d0%be%d1%80%d1%8f%d1%87%d0%b8%d0%b9-%d0%b0%d0%bf%d1%80%d0%b5%d0%bb%d1%8c-1986-%d0%b3%d0%be%d0%b4%d0%b0-26-04/
LOCATION:ГБ №7 им. А.А.Шогенцукова\, ул. Интернациональная\, 72в\, Бобруйск\, 213819
END:VEVENT
BEGIN:VEVENT
DTSTART;TZID=Europe/Moscow:20250424T130000
DTEND;TZID=Europe/Moscow:20250424T140000
DTSTAMP:20260421T060808
CREATED:20250416T130520Z
LAST-MODIFIED:20250416T130520Z
UID:886621-1745499600-1745503200@bobruisk-library.by
SUMMARY:Экологический набат «Чернобыльской весне забвенья нет» 6+
DESCRIPTION:
URL:https://bobruisk-library.by/event/%d1%8d%d0%ba%d0%be%d0%bb%d0%be%d0%b3%d0%b8%d1%87%d0%b5%d1%81%d0%ba%d0%b8%d0%b9-%d0%bd%d0%b0%d0%b1%d0%b0%d1%82-%d1%87%d0%b5%d1%80%d0%bd%d0%be%d0%b1%d1%8b%d0%bb%d1%8c%d1%81%d0%ba%d0%be%d0%b9/
LOCATION:ДБ № 5\, ул. 50 лет ВЛКСМ\, 19\, Бобруйск\, 213824\, Беларусь
END:VEVENT
BEGIN:VEVENT
DTSTART;TZID=Europe/Moscow:20250424T125000
DTEND;TZID=Europe/Moscow:20250424T135000
DTSTAMP:20260421T060808
CREATED:20250416T131529Z
LAST-MODIFIED:20250416T131529Z
UID:886629-1745499000-1745502600@bobruisk-library.by
SUMMARY:Музыкальный час «На творческой волне\, на музыкальной ноте» (18.04. – 85 лет со дня рождения Э.Ханка) 6+
DESCRIPTION:
URL:https://bobruisk-library.by/event/%d0%bc%d1%83%d0%b7%d1%8b%d0%ba%d0%b0%d0%bb%d1%8c%d0%bd%d1%8b%d0%b9-%d1%87%d0%b0%d1%81-%d0%bd%d0%b0-%d1%82%d0%b2%d0%be%d1%80%d1%87%d0%b5%d1%81%d0%ba%d0%be%d0%b9-%d0%b2%d0%be%d0%bb%d0%bd%d0%b5/
LOCATION:ЦГБ им. М.Горького\, ул. Советская\, 64\, Бобруйск\, 213826\, Беларусь
END:VEVENT
BEGIN:VEVENT
DTSTART;TZID=Europe/Moscow:20250424T120000
DTEND;TZID=Europe/Moscow:20250424T130000
DTSTAMP:20260421T060808
CREATED:20250416T082305Z
LAST-MODIFIED:20250416T082305Z
UID:886604-1745496000-1745499600@bobruisk-library.by
SUMMARY:Час памяти «Чернобыль: жизнь сегодня» (в рамках экологической акции «Чернобыль. Сохраняя память…» (26.04. – День Чернобыльской трагедии)» 6+
DESCRIPTION:
URL:https://bobruisk-library.by/event/%d1%87%d0%b0%d1%81-%d0%bf%d0%b0%d0%bc%d1%8f%d1%82%d0%b8-%d1%87%d0%b5%d1%80%d0%bd%d0%be%d0%b1%d1%8b%d0%bb%d1%8c-%d0%b6%d0%b8%d0%b7%d0%bd%d1%8c-%d1%81%d0%b5%d0%b3%d0%be%d0%b4%d0%bd%d1%8f/
LOCATION:ГБ №4 им. Б.Микулича\, пр-т Строителей\, 56\, Бобруйск\, 213807\, Беларусь
END:VEVENT
BEGIN:VEVENT
DTSTART;TZID=Europe/Moscow:20250424T104000
DTEND;TZID=Europe/Moscow:20250424T113000
DTSTAMP:20260421T060808
CREATED:20250416T082805Z
LAST-MODIFIED:20250416T082805Z
UID:886610-1745491200-1745494200@bobruisk-library.by
SUMMARY:Игровая программа «День весны и труда» (1 мая – Праздник труда) 6+
DESCRIPTION:
URL:https://bobruisk-library.by/event/%d0%b8%d0%b3%d1%80%d0%be%d0%b2%d0%b0%d1%8f-%d0%bf%d1%80%d0%be%d0%b3%d1%80%d0%b0%d0%bc%d0%bc%d0%b0-%d0%b4%d0%b5%d0%bd%d1%8c-%d0%b2%d0%b5%d1%81%d0%bd%d1%8b-%d0%b8-%d1%82%d1%80%d1%83%d0%b4%d0%b0-2/
LOCATION:ГБ №8 им. Е. Полоцкой\, ул. Минская\, 90\, Бобруйск\, 213828\, Беларусь
END:VEVENT
BEGIN:VEVENT
DTSTART;TZID=Europe/Moscow:20250423T104000
DTEND;TZID=Europe/Moscow:20250423T113000
DTSTAMP:20260421T060808
CREATED:20250416T082738Z
LAST-MODIFIED:20250416T082738Z
UID:886608-1745404800-1745407800@bobruisk-library.by
SUMMARY:Игровая программа «День весны и труда» (1 мая – Праздник труда) 6+
DESCRIPTION:
URL:https://bobruisk-library.by/event/%d0%b8%d0%b3%d1%80%d0%be%d0%b2%d0%b0%d1%8f-%d0%bf%d1%80%d0%be%d0%b3%d1%80%d0%b0%d0%bc%d0%bc%d0%b0-%d0%b4%d0%b5%d0%bd%d1%8c-%d0%b2%d0%b5%d1%81%d0%bd%d1%8b-%d0%b8-%d1%82%d1%80%d1%83%d0%b4%d0%b0/
LOCATION:ГБ №8 им. Е. Полоцкой\, ул. Минская\, 90\, Бобруйск\, 213828\, Беларусь
END:VEVENT
BEGIN:VEVENT
DTSTART;TZID=Europe/Moscow:20250422T130000
DTEND;TZID=Europe/Moscow:20250422T140000
DTSTAMP:20260421T060808
CREATED:20250416T131448Z
LAST-MODIFIED:20250416T131448Z
UID:886627-1745326800-1745330400@bobruisk-library.by
SUMMARY:Экологический час «Природа не прощает ошибок» (22.04. – День земли) 6+
DESCRIPTION:
URL:https://bobruisk-library.by/event/%d1%8d%d0%ba%d0%be%d0%bb%d0%be%d0%b3%d0%b8%d1%87%d0%b5%d1%81%d0%ba%d0%b8%d0%b9-%d1%87%d0%b0%d1%81-%d0%bf%d1%80%d0%b8%d1%80%d0%be%d0%b4%d0%b0-%d0%bd%d0%b5-%d0%bf%d1%80%d0%be%d1%89%d0%b0%d0%b5/
LOCATION:ЦГБ им. М.Горького\, ул. Советская\, 64\, Бобруйск\, 213826\, Беларусь
END:VEVENT
BEGIN:VEVENT
DTSTART;TZID=Europe/Moscow:20250422T120000
DTEND;TZID=Europe/Moscow:20250422T130000
DTSTAMP:20260421T060808
CREATED:20250416T131043Z
LAST-MODIFIED:20250416T131043Z
UID:886623-1745323200-1745326800@bobruisk-library.by
SUMMARY:Час экологической книги «В экологию через книгу» (22.04. – Международный день Земли) 6+
DESCRIPTION:
URL:https://bobruisk-library.by/event/%d1%87%d0%b0%d1%81-%d1%8d%d0%ba%d0%be%d0%bb%d0%be%d0%b3%d0%b8%d1%87%d0%b5%d1%81%d0%ba%d0%be%d0%b9-%d0%ba%d0%bd%d0%b8%d0%b3%d0%b8-%d0%b2-%d1%8d%d0%ba%d0%be%d0%bb%d0%be%d0%b3%d0%b8%d1%8e-%d1%87-2/
LOCATION:ГБ им. А.С.Пушкина\, ул. Советская\, 87\, Бобруйск\, 213827\, Беларусь
END:VEVENT
BEGIN:VEVENT
DTSTART;TZID=Europe/Moscow:20250421T130000
DTEND;TZID=Europe/Moscow:20250421T140000
DTSTAMP:20260421T060808
CREATED:20250416T130451Z
LAST-MODIFIED:20250416T130451Z
UID:886619-1745240400-1745244000@bobruisk-library.by
SUMMARY:Час-поздравление «Встреча с «Зорькой» 6+
DESCRIPTION:
URL:https://bobruisk-library.by/event/%d1%87%d0%b0%d1%81-%d0%bf%d0%be%d0%b7%d0%b4%d1%80%d0%b0%d0%b2%d0%bb%d0%b5%d0%bd%d0%b8%d0%b5-%d0%b2%d1%81%d1%82%d1%80%d0%b5%d1%87%d0%b0-%d1%81-%d0%b7%d0%be%d1%80%d1%8c%d0%ba%d0%be%d0%b9/
LOCATION:ДБ № 5\, ул. 50 лет ВЛКСМ\, 19\, Бобруйск\, 213824\, Беларусь
END:VEVENT
BEGIN:VEVENT
DTSTART;TZID=Europe/Moscow:20250421T130000
DTEND;TZID=Europe/Moscow:20250421T140000
DTSTAMP:20260421T060808
CREATED:20250416T082441Z
LAST-MODIFIED:20250416T082441Z
UID:886606-1745240400-1745244000@bobruisk-library.by
SUMMARY:Урок-реквием «Чернобыль – наша боль и память» (26 апреля – день Чернобыльской трагедии); (в рамках экологической акции «Чернобыль. Сохраняя память…») 6+
DESCRIPTION:
URL:https://bobruisk-library.by/event/%d1%83%d1%80%d0%be%d0%ba-%d1%80%d0%b5%d0%ba%d0%b2%d0%b8%d0%b5%d0%bc-%d1%87%d0%b5%d1%80%d0%bd%d0%be%d0%b1%d1%8b%d0%bb%d1%8c-%d0%bd%d0%b0%d1%88%d0%b0-%d0%b1%d0%be%d0%bb%d1%8c-%d0%b8/
LOCATION:ГБ №8 им. Е. Полоцкой\, ул. Минская\, 90\, Бобруйск\, 213828\, Беларусь
END:VEVENT
BEGIN:VEVENT
DTSTART;TZID=Europe/Moscow:20250419T130000
DTEND;TZID=Europe/Moscow:20250419T140000
DTSTAMP:20260421T060808
CREATED:20250409T111914Z
LAST-MODIFIED:20250409T111914Z
UID:886510-1745067600-1745071200@bobruisk-library.by
SUMMARY:Час экологической книги «В экологию через книгу» (22.04. – Международный день Земли) 6+
DESCRIPTION:
URL:https://bobruisk-library.by/event/%d1%87%d0%b0%d1%81-%d1%8d%d0%ba%d0%be%d0%bb%d0%be%d0%b3%d0%b8%d1%87%d0%b5%d1%81%d0%ba%d0%be%d0%b9-%d0%ba%d0%bd%d0%b8%d0%b3%d0%b8-%d0%b2-%d1%8d%d0%ba%d0%be%d0%bb%d0%be%d0%b3%d0%b8%d1%8e-%d1%87/
LOCATION:ГБ им. А.С.Пушкина\, ул. Советская\, 87\, Бобруйск\, 213827\, Беларусь
END:VEVENT
BEGIN:VEVENT
DTSTART;TZID=Europe/Moscow:20250418T133000
DTEND;TZID=Europe/Moscow:20250418T143000
DTSTAMP:20260421T060808
CREATED:20250409T131027Z
LAST-MODIFIED:20250409T131027Z
UID:886524-1744983000-1744986600@bobruisk-library.by
SUMMARY:Музыкальный час ««На творческой волне\, на музыкальной ноте» (18.04. – 85 лет со дня рождения Э. Ханка)» 6+
DESCRIPTION:
URL:https://bobruisk-library.by/event/%d0%bc%d1%83%d0%b7%d1%8b%d0%ba%d0%b0%d0%bb%d1%8c%d0%bd%d1%8b%d0%b9-%d1%87%d0%b0%d1%81-%d0%bd%d0%b0-%d1%82%d0%b2%d0%be%d1%80%d1%87%d0%b5%d1%81%d0%ba%d0%be%d0%b9-%d0%b2%d0%be%d0%bb%d0%bd/
LOCATION:ЦГБ им. М.Горького\, ул. Советская\, 64\, Бобруйск\, 213826\, Беларусь
END:VEVENT
BEGIN:VEVENT
DTSTART;VALUE=DATE:20250418
DTEND;VALUE=DATE:20250419
DTSTAMP:20260421T060808
CREATED:20250403T070628Z
LAST-MODIFIED:20250403T070628Z
UID:886393-1744934400-1745020799@bobruisk-library.by
SUMMARY:Обзор у книжной выставки «В шаге от беды» (антинаркотическая акция "Вместе") 6+
DESCRIPTION:
URL:https://bobruisk-library.by/event/%d0%be%d0%b1%d0%b7%d0%be%d1%80-%d1%83-%d0%ba%d0%bd%d0%b8%d0%b6%d0%bd%d0%be%d0%b9-%d0%b2%d1%8b%d1%81%d1%82%d0%b0%d0%b2%d0%ba%d0%b8-%d0%b2-%d1%88%d0%b0%d0%b3%d0%b5-%d0%be%d1%82-%d0%b1%d0%b5%d0%b4/
LOCATION:ГБ им. А.С.Пушкина\, ул. Советская\, 87\, Бобруйск\, 213827\, Беларусь
END:VEVENT
END:VCALENDAR