BEGIN:VCALENDAR
VERSION:2.0
PRODID:-//Учреждение культуры &quot;Библиотечная система города Бобруйска&quot; - ECPv6.15.20//NONSGML v1.0//EN
CALSCALE:GREGORIAN
METHOD:PUBLISH
X-WR-CALNAME:Учреждение культуры &quot;Библиотечная система города Бобруйска&quot;
X-ORIGINAL-URL:https://bobruisk-library.by
X-WR-CALDESC:Мероприятия для Учреждение культуры &quot;Библиотечная система города Бобруйска&quot;
REFRESH-INTERVAL;VALUE=DURATION:PT1H
X-Robots-Tag:noindex
X-PUBLISHED-TTL:PT1H
BEGIN:VTIMEZONE
TZID:Europe/Moscow
BEGIN:STANDARD
TZOFFSETFROM:+0300
TZOFFSETTO:+0300
TZNAME:MSK
DTSTART:20250101T000000
END:STANDARD
END:VTIMEZONE
BEGIN:VEVENT
DTSTART;TZID=Europe/Moscow:20260320T150000
DTEND;TZID=Europe/Moscow:20260320T160000
DTSTAMP:20260420T144955
CREATED:20260310T111850Z
LAST-MODIFIED:20260317T072654Z
UID:891626-1774018800-1774022400@bobruisk-library.by
SUMMARY:Беседа-реквием «Хатынь: символ вечной памяти и скорби» (22.03. – День Хатынской трагедии) 6+
DESCRIPTION:
URL:https://bobruisk-library.by/event/%d0%b1%d0%b5%d1%81%d0%b5%d0%b4%d0%b0-%d1%80%d0%b5%d0%ba%d0%b2%d0%b8%d0%b5%d0%bc-%d1%85%d0%b0%d1%82%d1%8b%d0%bd%d1%8c-%d1%81%d0%b8%d0%bc%d0%b2%d0%be%d0%bb-%d0%b2%d0%b5%d1%87%d0%bd%d0%be%d0%b9/
LOCATION:ЦГБ им. М.Горького\, ул. Советская\, 64\, Бобруйск\, 213826\, Беларусь
END:VEVENT
BEGIN:VEVENT
DTSTART;TZID=Europe/Moscow:20260320T150000
DTEND;TZID=Europe/Moscow:20260320T160000
DTSTAMP:20260420T144955
CREATED:20260310T111017Z
LAST-MODIFIED:20260310T111017Z
UID:891616-1774018800-1774022400@bobruisk-library.by
SUMMARY:Деловая игра «Моя страна  – моя Беларусь!» 6+
DESCRIPTION:
URL:https://bobruisk-library.by/event/%d0%b4%d0%b5%d0%bb%d0%be%d0%b2%d0%b0%d1%8f-%d0%b8%d0%b3%d1%80%d0%b0-%d0%bc%d0%be%d1%8f-%d1%81%d1%82%d1%80%d0%b0%d0%bd%d0%b0-%d0%bc%d0%be%d1%8f-%d0%b1%d0%b5%d0%bb%d0%b0%d1%80%d1%83/
LOCATION:ГБ №8 им. Е. Полоцкой\, ул. Минская\, 90\, Бобруйск\, 213828\, Беларусь
END:VEVENT
BEGIN:VEVENT
DTSTART;TZID=Europe/Moscow:20260320T130000
DTEND;TZID=Europe/Moscow:20260320T140000
DTSTAMP:20260420T144955
CREATED:20260310T111702Z
LAST-MODIFIED:20260310T111702Z
UID:891624-1774011600-1774015200@bobruisk-library.by
SUMMARY:Творческое занятие  «Золотая соломка» (с участием руководителя кружка “Скарбница” ГУК «Дворец искусств г.Бобруйска” Прищеповой О.И.) 6+
DESCRIPTION:
URL:https://bobruisk-library.by/event/%d1%82%d0%b2%d0%be%d1%80%d1%87%d0%b5%d1%81%d0%ba%d0%be%d0%b5-%d0%b7%d0%b0%d0%bd%d1%8f%d1%82%d0%b8%d0%b5-%d0%b7%d0%be%d0%bb%d0%be%d1%82%d0%b0%d1%8f-%d1%81%d0%be%d0%bb%d0%be%d0%bc%d0%ba%d0%b0/
LOCATION:ЦДБ им. А.П.Гайдара\, ул. Урицкого\, 125\, Бобруйск\, 213809\, Беларусь
END:VEVENT
BEGIN:VEVENT
DTSTART;TZID=Europe/Moscow:20260320T130000
DTEND;TZID=Europe/Moscow:20260320T140000
DTSTAMP:20260420T144955
CREATED:20260310T110730Z
LAST-MODIFIED:20260310T110730Z
UID:891612-1774011600-1774015200@bobruisk-library.by
SUMMARY:Урок памяти «Хатынь: говорящая тишина»  6+
DESCRIPTION:
URL:https://bobruisk-library.by/event/%d1%83%d1%80%d0%be%d0%ba-%d0%bf%d0%b0%d0%bc%d1%8f%d1%82%d0%b8-%d1%85%d0%b0%d1%82%d1%8b%d0%bd%d1%8c-%d0%b3%d0%be%d0%b2%d0%be%d1%80%d1%8f%d1%89%d0%b0%d1%8f-%d1%82%d0%b8%d1%88%d0%b8%d0%bd%d0%b0/
LOCATION:ГБ №16\, ул. Гагарина\, 31а\, Бобруйск\, 213810\, Беларусь
END:VEVENT
BEGIN:VEVENT
DTSTART;TZID=Europe/Moscow:20260320T120000
DTEND;TZID=Europe/Moscow:20260320T130000
DTSTAMP:20260420T144955
CREATED:20260310T120036Z
LAST-MODIFIED:20260310T120036Z
UID:891639-1774008000-1774011600@bobruisk-library.by
SUMMARY:Интерактивное занятие «Падарожжа ў свет роднай мовы» (в рамках проекта «Кожная пятніца — роднае\, сваё») 6+
DESCRIPTION:
URL:https://bobruisk-library.by/event/%d0%b8%d0%bd%d1%82%d0%b5%d1%80%d0%b0%d0%ba%d1%82%d0%b8%d0%b2%d0%bd%d0%be%d0%b5-%d0%b7%d0%b0%d0%bd%d1%8f%d1%82%d0%b8%d0%b5-%d0%bf%d0%b0%d0%b4%d0%b0%d1%80%d0%be%d0%b6%d0%b6%d0%b0-%d1%9e-%d1%81/
LOCATION:ДБ № 5\, ул. 50 лет ВЛКСМ\, 19\, Бобруйск\, 213824\, Беларусь
END:VEVENT
BEGIN:VEVENT
DTSTART;VALUE=DATE:20260320
DTEND;VALUE=DATE:20260321
DTSTAMP:20260420T144955
CREATED:20260310T111335Z
LAST-MODIFIED:20260310T111335Z
UID:891620-1773964800-1774051199@bobruisk-library.by
SUMMARY:День экологической информации «Вода – вода великая тайна вселенной» (22.03. – Всемирный день водных ресурсов) 6+
DESCRIPTION:
URL:https://bobruisk-library.by/event/%d0%b4%d0%b5%d0%bd%d1%8c-%d1%8d%d0%ba%d0%be%d0%bb%d0%be%d0%b3%d0%b8%d1%87%d0%b5%d1%81%d0%ba%d0%be%d0%b9-%d0%b8%d0%bd%d1%84%d0%be%d1%80%d0%bc%d0%b0%d1%86%d0%b8%d0%b8-%d0%b2%d0%be%d0%b4%d0%b0/
LOCATION:ГБ им. А.С.Пушкина\, ул. Советская\, 87\, Бобруйск\, 213827\, Беларусь
END:VEVENT
BEGIN:VEVENT
DTSTART;VALUE=DATE:20260320
DTEND;VALUE=DATE:20260321
DTSTAMP:20260420T144955
CREATED:20260310T111248Z
LAST-MODIFIED:20260310T111248Z
UID:891618-1773964800-1774051199@bobruisk-library.by
SUMMARY:Беседа у исторической выставки «Трагедия и память: Хатынь» (22.03. – День памяти жертв Хатынской трагедии) 6+
DESCRIPTION:
URL:https://bobruisk-library.by/event/%d0%b1%d0%b5%d1%81%d0%b5%d0%b4%d0%b0-%d1%83-%d0%b8%d1%81%d1%82%d0%be%d1%80%d0%b8%d1%87%d0%b5%d1%81%d0%ba%d0%be%d0%b9-%d0%b2%d1%8b%d1%81%d1%82%d0%b0%d0%b2%d0%ba%d0%b8-%d1%82%d1%80%d0%b0%d0%b3/
LOCATION:ГБ им. А.С.Пушкина\, ул. Советская\, 87\, Бобруйск\, 213827\, Беларусь
END:VEVENT
BEGIN:VEVENT
DTSTART;TZID=Europe/Moscow:20260319T150000
DTEND;TZID=Europe/Moscow:20260319T160000
DTSTAMP:20260420T144955
CREATED:20260311T115936Z
LAST-MODIFIED:20260311T115936Z
UID:891656-1773932400-1773936000@bobruisk-library.by
SUMMARY:Час профориентации «Моя профессия библиотекарь» (цикл профорриентационных бесед «Выбирая профессию - выбираешь будущее») 6+
DESCRIPTION:
URL:https://bobruisk-library.by/event/%d1%87%d0%b0%d1%81-%d0%bf%d1%80%d0%be%d1%84%d0%be%d1%80%d0%b8%d0%b5%d0%bd%d1%82%d0%b0%d1%86%d0%b8%d0%b8-%d0%bc%d0%be%d1%8f-%d0%bf%d1%80%d0%be%d1%84%d0%b5%d1%81%d1%81%d0%b8%d1%8f-%d0%b1%d0%b8/
LOCATION:ГБ №4 им. Б.Микулича\, пр-т Строителей\, 56\, Бобруйск\, 213807\, Беларусь
END:VEVENT
BEGIN:VEVENT
DTSTART;TZID=Europe/Moscow:20260319T143500
DTEND;TZID=Europe/Moscow:20260319T153000
DTSTAMP:20260420T144955
CREATED:20260310T111544Z
LAST-MODIFIED:20260310T111544Z
UID:891622-1773930900-1773934200@bobruisk-library.by
SUMMARY:Урок-реквием «Хатынь. Чтобы помнили…» (ко Дню Хатынской трагедии) 6+
DESCRIPTION:
URL:https://bobruisk-library.by/event/%d1%83%d1%80%d0%be%d0%ba-%d1%80%d0%b5%d0%ba%d0%b2%d0%b8%d0%b5%d0%bc-%d1%85%d0%b0%d1%82%d1%8b%d0%bd%d1%8c-%d1%87%d1%82%d0%be%d0%b1%d1%8b-%d0%bf%d0%be%d0%bc%d0%bd%d0%b8%d0%bb%d0%b8/
LOCATION:ЦДБ им. А.П.Гайдара\, ул. Урицкого\, 125\, Бобруйск\, 213809\, Беларусь
END:VEVENT
BEGIN:VEVENT
DTSTART;TZID=Europe/Moscow:20260319T130000
DTEND;TZID=Europe/Moscow:20260319T140000
DTSTAMP:20260420T144955
CREATED:20260311T064418Z
LAST-MODIFIED:20260311T064418Z
UID:891645-1773925200-1773928800@bobruisk-library.by
SUMMARY:Беседа-реквием "Хатынь: символ вечной памяти и скорби"  (22.03. – День Хатынской трагедии) 6+
DESCRIPTION:
URL:https://bobruisk-library.by/event/%d0%b1%d0%b5%d1%81%d0%b5%d0%b4%d0%b0-%d1%80%d0%b5%d0%ba%d0%b2%d0%b8%d0%b5%d0%bc-%d1%85%d0%b0%d1%82%d1%8b%d0%bd%d1%8c-%d1%81%d0%b8%d0%bc%d0%b2%d0%be%d0%bb-%d0%b2%d0%b5%d1%87%d0%bd%d0%be%d0%b9-%d0%bf/
LOCATION:ЦГБ им. М.Горького\, ул. Советская\, 64\, Бобруйск\, 213826\, Беларусь
END:VEVENT
BEGIN:VEVENT
DTSTART;TZID=Europe/Moscow:20260319T120000
DTEND;TZID=Europe/Moscow:20260319T130000
DTSTAMP:20260420T144955
CREATED:20260310T110902Z
LAST-MODIFIED:20260310T110902Z
UID:891614-1773921600-1773925200@bobruisk-library.by
SUMMARY:Час правовых знаний  «Безопасное поведение  школьников» (в рамках часов профилактики правонарушения «Знание – основа воспитания») 6+
DESCRIPTION:
URL:https://bobruisk-library.by/event/%d1%87%d0%b0%d1%81-%d0%bf%d1%80%d0%b0%d0%b2%d0%be%d0%b2%d1%8b%d1%85-%d0%b7%d0%bd%d0%b0%d0%bd%d0%b8%d0%b9-%d0%b1%d0%b5%d0%b7%d0%be%d0%bf%d0%b0%d1%81%d0%bd%d0%be%d0%b5-%d0%bf%d0%be%d0%b2%d0%b5/
LOCATION:ГБ №8 им. Е. Полоцкой\, ул. Минская\, 90\, Бобруйск\, 213828\, Беларусь
END:VEVENT
BEGIN:VEVENT
DTSTART;TZID=Europe/Moscow:20260319T103000
DTEND;TZID=Europe/Moscow:20260319T113000
DTSTAMP:20260420T144955
CREATED:20260310T110613Z
LAST-MODIFIED:20260310T110613Z
UID:891610-1773916200-1773919800@bobruisk-library.by
SUMMARY:Познавательное занятие «Весеннее путешествие»  6+
DESCRIPTION:
URL:https://bobruisk-library.by/event/%d0%bf%d0%be%d0%b7%d0%bd%d0%b0%d0%b2%d0%b0%d1%82%d0%b5%d0%bb%d1%8c%d0%bd%d0%be%d0%b5-%d0%b7%d0%b0%d0%bd%d1%8f%d1%82%d0%b8%d0%b5-%d0%b2%d0%b5%d1%81%d0%b5%d0%bd%d0%bd%d0%b5%d0%b5-%d0%bf%d1%83-2/
LOCATION:ГБ №16\, ул. Гагарина\, 31а\, Бобруйск\, 213810\, Беларусь
END:VEVENT
BEGIN:VEVENT
DTSTART;TZID=Europe/Moscow:20260318T120000
DTEND;TZID=Europe/Moscow:20260318T130000
DTSTAMP:20260420T144955
CREATED:20260311T115838Z
LAST-MODIFIED:20260311T115838Z
UID:891654-1773835200-1773838800@bobruisk-library.by
SUMMARY:Урок «Финансовая  грамотность» (с представителем Белагпропромбанка) 6+
DESCRIPTION:
URL:https://bobruisk-library.by/event/%d1%83%d1%80%d0%be%d0%ba-%d1%84%d0%b8%d0%bd%d0%b0%d0%bd%d1%81%d0%be%d0%b2%d0%b0%d1%8f-%d0%b3%d1%80%d0%b0%d0%bc%d0%be%d1%82%d0%bd%d0%be%d1%81%d1%82%d1%8c-%d1%81-%d0%bf%d1%80%d0%b5%d0%b4/
LOCATION:ГБ №4 им. Б.Микулича\, пр-т Строителей\, 56\, Бобруйск\, 213807\, Беларусь
END:VEVENT
BEGIN:VEVENT
DTSTART;TZID=Europe/Moscow:20260318T100000
DTEND;TZID=Europe/Moscow:20260318T110000
DTSTAMP:20260420T144955
CREATED:20260310T120844Z
LAST-MODIFIED:20260310T120844Z
UID:891641-1773828000-1773831600@bobruisk-library.by
SUMMARY:Урок скорби «Пламя Хатыни и сегодня обжигает сердца» 6+
DESCRIPTION:
URL:https://bobruisk-library.by/event/%d1%83%d1%80%d0%be%d0%ba-%d1%81%d0%ba%d0%be%d1%80%d0%b1%d0%b8-%d0%bf%d0%bb%d0%b0%d0%bc%d1%8f-%d1%85%d0%b0%d1%82%d1%8b%d0%bd%d0%b8-%d0%b8-%d1%81%d0%b5%d0%b3%d0%be%d0%b4%d0%bd%d1%8f-%d0%be%d0%b1/
LOCATION:ГБ №12\, ул. Бахарова\, 279\, Бобруйск\, Выберите штат:\, 213823\, Беларусь
END:VEVENT
BEGIN:VEVENT
DTSTART;TZID=Europe/Moscow:20260317T140000
DTEND;TZID=Europe/Moscow:20260317T150000
DTSTAMP:20260420T144955
CREATED:20260310T110514Z
LAST-MODIFIED:20260310T110514Z
UID:891608-1773756000-1773759600@bobruisk-library.by
SUMMARY:Урок правовых знаний «Я — гражданин» урок  6+
DESCRIPTION:
URL:https://bobruisk-library.by/event/%d1%83%d1%80%d0%be%d0%ba-%d0%bf%d1%80%d0%b0%d0%b2%d0%be%d0%b2%d1%8b%d1%85-%d0%b7%d0%bd%d0%b0%d0%bd%d0%b8%d0%b9-%d1%8f-%d0%b3%d1%80%d0%b0%d0%b6%d0%b4%d0%b0%d0%bd%d0%b8%d0%bd/
LOCATION:ГБ №16\, ул. Гагарина\, 31а\, Бобруйск\, 213810\, Беларусь
END:VEVENT
BEGIN:VEVENT
DTSTART;TZID=Europe/Moscow:20260317T110000
DTEND;TZID=Europe/Moscow:20260317T120000
DTSTAMP:20260420T144955
CREATED:20260310T115934Z
LAST-MODIFIED:20260310T115934Z
UID:891637-1773745200-1773748800@bobruisk-library.by
SUMMARY:Экологический час «Природа\, мудрые советы» 6+
DESCRIPTION:
URL:https://bobruisk-library.by/event/%d1%8d%d0%ba%d0%be%d0%bb%d0%be%d0%b3%d0%b8%d1%87%d0%b5%d1%81%d0%ba%d0%b8%d0%b9-%d1%87%d0%b0%d1%81-%d0%bf%d1%80%d0%b8%d1%80%d0%be%d0%b4%d0%b0-%d0%bc%d1%83%d0%b4%d1%80%d1%8b%d0%b5-%d1%81%d0%be/
LOCATION:ДБ № 5\, ул. 50 лет ВЛКСМ\, 19\, Бобруйск\, 213824\, Беларусь
END:VEVENT
BEGIN:VEVENT
DTSTART;TZID=Europe/Moscow:20260314T140000
DTEND;TZID=Europe/Moscow:20260314T150000
DTSTAMP:20260420T144955
CREATED:20260304T055708Z
LAST-MODIFIED:20260304T055708Z
UID:891510-1773496800-1773500400@bobruisk-library.by
SUMMARY:Презентация экспозиции  «Православие в  периодической печати» (14 марта – День православной книги); (с участием священника отца Максима (Ульяшина)) 6+
DESCRIPTION:
URL:https://bobruisk-library.by/event/%d0%bf%d1%80%d0%b5%d0%b7%d0%b5%d0%bd%d1%82%d0%b0%d1%86%d0%b8%d1%8f-%d1%8d%d0%ba%d1%81%d0%bf%d0%be%d0%b7%d0%b8%d1%86%d0%b8%d0%b8-%d0%bf%d1%80%d0%b0%d0%b2%d0%be%d1%81%d0%bb%d0%b0%d0%b2%d0%b8/
LOCATION:ГБ №8 им. Е. Полоцкой\, ул. Минская\, 90\, Бобруйск\, 213828\, Беларусь
END:VEVENT
BEGIN:VEVENT
DTSTART;TZID=Europe/Moscow:20260313T153000
DTEND;TZID=Europe/Moscow:20260313T163000
DTSTAMP:20260420T144955
CREATED:20260304T055608Z
LAST-MODIFIED:20260304T055608Z
UID:891508-1773415800-1773419400@bobruisk-library.by
SUMMARY:Час права «Закон\, по  которому мы живем» (15  марта – День Конституции Республики Беларусь); (в рамках недели гражданственности «Конституция – основной закон страны) 6+
DESCRIPTION:
URL:https://bobruisk-library.by/event/%d1%87%d0%b0%d1%81-%d0%bf%d1%80%d0%b0%d0%b2%d0%b0-%d0%b7%d0%b0%d0%ba%d0%be%d0%bd-%d0%bf%d0%be-%d0%ba%d0%be%d1%82%d0%be%d1%80%d0%be%d0%bc%d1%83-%d0%bc%d1%8b-%d0%b6%d0%b8%d0%b2%d0%b5%d0%bc/
LOCATION:ГБ №8 им. Е. Полоцкой\, ул. Минская\, 90\, Бобруйск\, 213828\, Беларусь
END:VEVENT
BEGIN:VEVENT
DTSTART;TZID=Europe/Moscow:20260313T120000
DTEND;TZID=Europe/Moscow:20260313T130000
DTSTAMP:20260420T144955
CREATED:20260304T060428Z
LAST-MODIFIED:20260304T060428Z
UID:891516-1773403200-1773406800@bobruisk-library.by
SUMMARY:Час права «Закон\, по которому мы живём» (15.03. – День Конституции Республики Беларусь) 6+
DESCRIPTION:
URL:https://bobruisk-library.by/event/%d1%87%d0%b0%d1%81-%d0%bf%d1%80%d0%b0%d0%b2%d0%b0-%d0%b7%d0%b0%d0%ba%d0%be%d0%bd-%d0%bf%d0%be-%d0%ba%d0%be%d1%82%d0%be%d1%80%d0%be%d0%bc%d1%83-%d0%bc%d1%8b-%d0%b6%d0%b8%d0%b2%d1%91%d0%bc/
LOCATION:ГБ им. А.С.Пушкина\, ул. Советская\, 87\, Бобруйск\, 213827\, Беларусь
END:VEVENT
BEGIN:VEVENT
DTSTART;TZID=Europe/Moscow:20260313T110000
DTEND;TZID=Europe/Moscow:20260313T150000
DTSTAMP:20260420T144955
CREATED:20260304T060759Z
LAST-MODIFIED:20260304T060759Z
UID:891522-1773399600-1773414000@bobruisk-library.by
SUMMARY:Информационная беседа у выставки  “Сучасныя беларускія пісьменнікі – дзецям” (в рамках проекта “Кожная пятніца роднае\, сваё”) 6+
DESCRIPTION:
URL:https://bobruisk-library.by/event/%d0%b8%d0%bd%d1%84%d0%be%d1%80%d0%bc%d0%b0%d1%86%d0%b8%d0%be%d0%bd%d0%bd%d0%b0%d1%8f-%d0%b1%d0%b5%d1%81%d0%b5%d0%b4%d0%b0-%d1%83-%d0%b2%d1%8b%d1%81%d1%82%d0%b0%d0%b2%d0%ba%d0%b8-%d1%81%d1%83/
LOCATION:ЦДБ им. А.П.Гайдара\, ул. Урицкого\, 125\, Бобруйск\, 213809\, Беларусь
END:VEVENT
BEGIN:VEVENT
DTSTART;TZID=Europe/Moscow:20260312T124500
DTEND;TZID=Europe/Moscow:20260312T133000
DTSTAMP:20260420T144955
CREATED:20260304T060655Z
LAST-MODIFIED:20260304T060655Z
UID:891520-1773319500-1773322200@bobruisk-library.by
SUMMARY:Заочное путешествие  «В царстве царя  Берендея» (21 марта – Международный день лесов; в рамках работы Эко-Инфо-Центра) 6+
DESCRIPTION:
URL:https://bobruisk-library.by/event/%d0%b7%d0%b0%d0%be%d1%87%d0%bd%d0%be%d0%b5-%d0%bf%d1%83%d1%82%d0%b5%d1%88%d0%b5%d1%81%d1%82%d0%b2%d0%b8%d0%b5-%d0%b2-%d1%86%d0%b0%d1%80%d1%81%d1%82%d0%b2%d0%b5-%d1%86%d0%b0%d1%80%d1%8f-%d0%b1/
LOCATION:ЦДБ им. А.П.Гайдара\, ул. Урицкого\, 125\, Бобруйск\, 213809\, Беларусь
END:VEVENT
BEGIN:VEVENT
DTSTART;TZID=Europe/Moscow:20260311T153000
DTEND;TZID=Europe/Moscow:20260311T163000
DTSTAMP:20260420T144955
CREATED:20260304T060509Z
LAST-MODIFIED:20260304T060509Z
UID:891518-1773243000-1773246600@bobruisk-library.by
SUMMARY:Правовой час «Консультация специалиста» (Нотариусы Нотариальной конторы №2 Ленинского района г.Бобруйска) 6+
DESCRIPTION:
URL:https://bobruisk-library.by/event/%d0%bf%d1%80%d0%b0%d0%b2%d0%be%d0%b2%d0%be%d0%b9-%d1%87%d0%b0%d1%81-%d0%ba%d0%be%d0%bd%d1%81%d1%83%d0%bb%d1%8c%d1%82%d0%b0%d1%86%d0%b8%d1%8f-%d1%81%d0%bf%d0%b5%d1%86%d0%b8%d0%b0%d0%bb%d0%b8-16/
LOCATION:ГБ им. А.С.Пушкина\, ул. Советская\, 87\, Бобруйск\, 213827\, Беларусь
END:VEVENT
BEGIN:VEVENT
DTSTART;TZID=Europe/Moscow:20260311T133000
DTEND;TZID=Europe/Moscow:20260311T143000
DTSTAMP:20260420T144956
CREATED:20260304T061103Z
LAST-MODIFIED:20260304T061103Z
UID:891524-1773235800-1773239400@bobruisk-library.by
SUMMARY:Литературный час «Лукошко белорусских сказок» 6+
DESCRIPTION:
URL:https://bobruisk-library.by/event/%d0%bb%d0%b8%d1%82%d0%b5%d1%80%d0%b0%d1%82%d1%83%d1%80%d0%bd%d1%8b%d0%b9-%d1%87%d0%b0%d1%81-%d0%bb%d1%83%d0%ba%d0%be%d1%88%d0%ba%d0%be-%d0%b1%d0%b5%d0%bb%d0%be%d1%80%d1%83%d1%81%d1%81%d0%ba/
LOCATION:ДБ №6 им. Н.А.Островского\, ул. Комсомольская\, 52\, Бобруйск\, 213826\, Беларусь
END:VEVENT
BEGIN:VEVENT
DTSTART;TZID=Europe/Moscow:20260310T130000
DTEND;TZID=Europe/Moscow:20260310T140000
DTSTAMP:20260420T144956
CREATED:20260304T055940Z
LAST-MODIFIED:20260304T055940Z
UID:891512-1773147600-1773151200@bobruisk-library.by
SUMMARY:Инфоурок «Конституция  Республики Беларусь через  призму истории» 6+
DESCRIPTION:
URL:https://bobruisk-library.by/event/%d0%b8%d0%bd%d1%84%d0%be%d1%83%d1%80%d0%be%d0%ba-%d0%ba%d0%be%d0%bd%d1%81%d1%82%d0%b8%d1%82%d1%83%d1%86%d0%b8%d1%8f-%d1%80%d0%b5%d1%81%d0%bf%d1%83%d0%b1%d0%bb%d0%b8%d0%ba%d0%b8-%d0%b1%d0%b5/
LOCATION:ГБ №16\, ул. Гагарина\, 31а\, Бобруйск\, 213810\, Беларусь
END:VEVENT
BEGIN:VEVENT
DTSTART;TZID=Europe/Moscow:20260310T100000
DTEND;TZID=Europe/Moscow:20260310T120000
DTSTAMP:20260420T144956
CREATED:20260304T060005Z
LAST-MODIFIED:20260304T060005Z
UID:891514-1773136800-1773144000@bobruisk-library.by
SUMMARY:Познавательное занятие  «Весеннее путешествие» 6+
DESCRIPTION:
URL:https://bobruisk-library.by/event/%d0%bf%d0%be%d0%b7%d0%bd%d0%b0%d0%b2%d0%b0%d1%82%d0%b5%d0%bb%d1%8c%d0%bd%d0%be%d0%b5-%d0%b7%d0%b0%d0%bd%d1%8f%d1%82%d0%b8%d0%b5-%d0%b2%d0%b5%d1%81%d0%b5%d0%bd%d0%bd%d0%b5%d0%b5-%d0%bf%d1%83/
LOCATION:ГБ №16\, ул. Гагарина\, 31а\, Бобруйск\, 213810\, Беларусь
END:VEVENT
BEGIN:VEVENT
DTSTART;TZID=Europe/Moscow:20260307T130000
DTEND;TZID=Europe/Moscow:20260307T140000
DTSTAMP:20260420T144956
CREATED:20260225T055703Z
LAST-MODIFIED:20260225T055703Z
UID:891442-1772888400-1772892000@bobruisk-library.by
SUMMARY:Обзор у книжной выставки «Женщины в истории Беларуси» (08.03. – День женщин в Беларуси) 6+
DESCRIPTION:
URL:https://bobruisk-library.by/event/%d0%be%d0%b1%d0%b7%d0%be%d1%80-%d1%83-%d0%ba%d0%bd%d0%b8%d0%b6%d0%bd%d0%be%d0%b9-%d0%b2%d1%8b%d1%81%d1%82%d0%b0%d0%b2%d0%ba%d0%b8-%d0%b6%d0%b5%d0%bd%d1%89%d0%b8%d0%bd%d1%8b-%d0%b2-%d0%b8%d1%81/
LOCATION:ГБ им. А.С.Пушкина\, ул. Советская\, 87\, Бобруйск\, 213827\, Беларусь
END:VEVENT
BEGIN:VEVENT
DTSTART;TZID=Europe/Moscow:20260306T110000
DTEND;TZID=Europe/Moscow:20260306T120000
DTSTAMP:20260420T144956
CREATED:20260225T134730Z
LAST-MODIFIED:20260225T134730Z
UID:891460-1772794800-1772798400@bobruisk-library.by
SUMMARY:Праздничная программа  «Девичий переполох»  6+
DESCRIPTION:
URL:https://bobruisk-library.by/event/%d0%bf%d1%80%d0%b0%d0%b7%d0%b4%d0%bd%d0%b8%d1%87%d0%bd%d0%b0%d1%8f-%d0%bf%d1%80%d0%be%d0%b3%d1%80%d0%b0%d0%bc%d0%bc%d0%b0-%d0%b4%d0%b5%d0%b2%d0%b8%d1%87%d0%b8%d0%b9-%d0%bf%d0%b5%d1%80%d0%b5/
LOCATION:ГБ №4 им. Б.Микулича\, пр-т Строителей\, 56\, Бобруйск\, 213807\, Беларусь
END:VEVENT
BEGIN:VEVENT
DTSTART;VALUE=DATE:20260306
DTEND;VALUE=DATE:20260307
DTSTAMP:20260420T144956
CREATED:20260225T055555Z
LAST-MODIFIED:20260225T055555Z
UID:891440-1772755200-1772841599@bobruisk-library.by
SUMMARY:Литературная беседка «Образ пленительный\, образ прекрасный» (08.03. – День женщин Беларуси) 6+
DESCRIPTION:
URL:https://bobruisk-library.by/event/%d0%bb%d0%b8%d1%82%d0%b5%d1%80%d0%b0%d1%82%d1%83%d1%80%d0%bd%d0%b0%d1%8f-%d0%b1%d0%b5%d1%81%d0%b5%d0%b4%d0%ba%d0%b0-%d0%be%d0%b1%d1%80%d0%b0%d0%b7-%d0%bf%d0%bb%d0%b5%d0%bd%d0%b8%d1%82%d0%b5/
LOCATION:ГБ им. А.С.Пушкина\, ул. Советская\, 87\, Бобруйск\, 213827\, Беларусь
END:VEVENT
BEGIN:VEVENT
DTSTART;TZID=Europe/Moscow:20260305T142000
DTEND;TZID=Europe/Moscow:20260305T150000
DTSTAMP:20260420T144956
CREATED:20260225T055427Z
LAST-MODIFIED:20260225T055427Z
UID:891438-1772720400-1772722800@bobruisk-library.by
SUMMARY:Час интересных сообщений «Женское лицо белорусской истории» (Год белорусской женщины) 6+
DESCRIPTION:
URL:https://bobruisk-library.by/event/%d1%87%d0%b0%d1%81-%d0%b8%d0%bd%d1%82%d0%b5%d1%80%d0%b5%d1%81%d0%bd%d1%8b%d1%85-%d1%81%d0%be%d0%be%d0%b1%d1%89%d0%b5%d0%bd%d0%b8%d0%b9-%d0%b6%d0%b5%d0%bd%d1%81%d0%ba%d0%be%d0%b5-%d0%bb%d0%b8/
LOCATION:ГБ №7 им. А.А.Шогенцукова\, ул. Интернациональная\, 72в\, Бобруйск\, 213819
END:VEVENT
BEGIN:VEVENT
DTSTART;TZID=Europe/Moscow:20260305T120000
DTEND;TZID=Europe/Moscow:20260305T130000
DTSTAMP:20260420T144956
CREATED:20260225T060054Z
LAST-MODIFIED:20260225T060054Z
UID:891448-1772712000-1772715600@bobruisk-library.by
SUMMARY:Игровая программа «8 Марта – день чудес» (8 Марта – Международный женский день) 6+
DESCRIPTION:
URL:https://bobruisk-library.by/event/%d0%b8%d0%b3%d1%80%d0%be%d0%b2%d0%b0%d1%8f-%d0%bf%d1%80%d0%be%d0%b3%d1%80%d0%b0%d0%bc%d0%bc%d0%b0-8-%d0%bc%d0%b0%d1%80%d1%82%d0%b0-%d0%b4%d0%b5%d0%bd%d1%8c-%d1%87%d1%83%d0%b4%d0%b5-2/
LOCATION:ГБ №8 им. Е. Полоцкой\, ул. Минская\, 90\, Бобруйск\, 213828\, Беларусь
END:VEVENT
END:VCALENDAR