BEGIN:VCALENDAR
VERSION:2.0
PRODID:-//Учреждение культуры &quot;Библиотечная система города Бобруйска&quot; - ECPv6.15.20//NONSGML v1.0//EN
CALSCALE:GREGORIAN
METHOD:PUBLISH
X-WR-CALNAME:Учреждение культуры &quot;Библиотечная система города Бобруйска&quot;
X-ORIGINAL-URL:https://bobruisk-library.by
X-WR-CALDESC:Мероприятия для Учреждение культуры &quot;Библиотечная система города Бобруйска&quot;
REFRESH-INTERVAL;VALUE=DURATION:PT1H
X-Robots-Tag:noindex
X-PUBLISHED-TTL:PT1H
BEGIN:VTIMEZONE
TZID:Europe/Moscow
BEGIN:STANDARD
TZOFFSETFROM:+0300
TZOFFSETTO:+0300
TZNAME:MSK
DTSTART:20250101T000000
END:STANDARD
END:VTIMEZONE
BEGIN:VEVENT
DTSTART;TZID=Europe/Moscow:20260416T143500
DTEND;TZID=Europe/Moscow:20260416T153000
DTSTAMP:20260420T144934
CREATED:20260407T130455Z
LAST-MODIFIED:20260407T130455Z
UID:892100-1776350100-1776353400@bobruisk-library.by
SUMMARY:Заочное путешествие  по памятным местам  Бобруйска «Там\, где была война» (в рамках краеведческо-патриотического проекта «Город\, который был\, есть\, будет») 6+
DESCRIPTION:
URL:https://bobruisk-library.by/event/%d0%b7%d0%b0%d0%be%d1%87%d0%bd%d0%be%d0%b5-%d0%bf%d1%83%d1%82%d0%b5%d1%88%d0%b5%d1%81%d1%82%d0%b2%d0%b8%d0%b5-%d0%bf%d0%be-%d0%bf%d0%b0%d0%bc%d1%8f%d1%82%d0%bd%d1%8b%d0%bc-%d0%bc%d0%b5%d1%81%d1%82/
LOCATION:ЦДБ им. А.П.Гайдара\, ул. Урицкого\, 125\, Бобруйск\, 213809\, Беларусь
END:VEVENT
BEGIN:VEVENT
DTSTART;TZID=Europe/Moscow:20260416T143000
DTEND;TZID=Europe/Moscow:20260416T153000
DTSTAMP:20260420T144934
CREATED:20260407T130332Z
LAST-MODIFIED:20260407T130332Z
UID:892098-1776349800-1776353400@bobruisk-library.by
SUMMARY:Урок краеведения «Молчаливый страж истории» (18.04.–Международный день памятников и исторических мест) 6+
DESCRIPTION:
URL:https://bobruisk-library.by/event/%d1%83%d1%80%d0%be%d0%ba-%d0%ba%d1%80%d0%b0%d0%b5%d0%b2%d0%b5%d0%b4%d0%b5%d0%bd%d0%b8%d1%8f-%d0%bc%d0%be%d0%bb%d1%87%d0%b0%d0%bb%d0%b8%d0%b2%d1%8b%d0%b9-%d1%81%d1%82%d1%80%d0%b0%d0%b6-%d0%b8/
LOCATION:ГБ №7 им. А.А.Шогенцукова\, ул. Интернациональная\, 72в\, Бобруйск\, 213819
END:VEVENT
BEGIN:VEVENT
DTSTART;TZID=Europe/Moscow:20260416T134000
DTEND;TZID=Europe/Moscow:20260416T143000
DTSTAMP:20260420T144934
CREATED:20260407T130208Z
LAST-MODIFIED:20260407T130208Z
UID:892096-1776346800-1776349800@bobruisk-library.by
SUMMARY:Видеопутешествие с  игровой программой «Все работы хороши –  все профессии важны» (В рамках «ЧиП: читай и познавай») 6+
DESCRIPTION:
URL:https://bobruisk-library.by/event/%d0%b2%d0%b8%d0%b4%d0%b5%d0%be%d0%bf%d1%83%d1%82%d0%b5%d1%88%d0%b5%d1%81%d1%82%d0%b2%d0%b8%d0%b5-%d1%81-%d0%b8%d0%b3%d1%80%d0%be%d0%b2%d0%be%d0%b9-%d0%bf%d1%80%d0%be%d0%b3%d1%80%d0%b0%d0%bc%d0%bc-4/
LOCATION:ДБ №6 им. Н.А.Островского\, ул. Комсомольская\, 52\, Бобруйск\, 213826\, Беларусь
END:VEVENT
BEGIN:VEVENT
DTSTART;TZID=Europe/Moscow:20260416T110000
DTEND;TZID=Europe/Moscow:20260416T120000
DTSTAMP:20260420T144934
CREATED:20260407T130145Z
LAST-MODIFIED:20260407T130145Z
UID:892094-1776337200-1776340800@bobruisk-library.by
SUMMARY:Видеопутешествие с  игровой программой «Все работы хороши –  все профессии важны» (В рамках «ЧиП: читай и познавай») 6+
DESCRIPTION:
URL:https://bobruisk-library.by/event/%d0%b2%d0%b8%d0%b4%d0%b5%d0%be%d0%bf%d1%83%d1%82%d0%b5%d1%88%d0%b5%d1%81%d1%82%d0%b2%d0%b8%d0%b5-%d1%81-%d0%b8%d0%b3%d1%80%d0%be%d0%b2%d0%be%d0%b9-%d0%bf%d1%80%d0%be%d0%b3%d1%80%d0%b0%d0%bc%d0%bc-3/
LOCATION:ДБ №6 им. Н.А.Островского\, ул. Комсомольская\, 52\, Бобруйск\, 213826\, Беларусь
END:VEVENT
BEGIN:VEVENT
DTSTART;TZID=Europe/Moscow:20260416T100000
DTEND;TZID=Europe/Moscow:20260416T110000
DTSTAMP:20260420T144934
CREATED:20260407T125805Z
LAST-MODIFIED:20260407T125805Z
UID:892088-1776333600-1776337200@bobruisk-library.by
SUMMARY:Тематическая игровая  программа «Пасхальная  корзинка» 6+
DESCRIPTION:
URL:https://bobruisk-library.by/event/%d1%82%d0%b5%d0%bc%d0%b0%d1%82%d0%b8%d1%87%d0%b5%d1%81%d0%ba%d0%b0%d1%8f-%d0%b8%d0%b3%d1%80%d0%be%d0%b2%d0%b0%d1%8f-%d0%bf%d1%80%d0%be%d0%b3%d1%80%d0%b0%d0%bc%d0%bc%d0%b0-%d0%bf%d0%b0%d1%81/
LOCATION:ГБ №16\, ул. Гагарина\, 31а\, Бобруйск\, 213810\, Беларусь
END:VEVENT
BEGIN:VEVENT
DTSTART;TZID=Europe/Moscow:20260413T110000
DTEND;TZID=Europe/Moscow:20260413T120000
DTSTAMP:20260420T144935
CREATED:20260407T125922Z
LAST-MODIFIED:20260407T125922Z
UID:892090-1776078000-1776081600@bobruisk-library.by
SUMMARY:Информационный урок «Вехи космической эры» 6+
DESCRIPTION:
URL:https://bobruisk-library.by/event/%d0%b8%d0%bd%d1%84%d0%be%d1%80%d0%bc%d0%b0%d1%86%d0%b8%d0%be%d0%bd%d0%bd%d1%8b%d0%b9-%d1%83%d1%80%d0%be%d0%ba-%d0%b2%d0%b5%d1%85%d0%b8-%d0%ba%d0%be%d1%81%d0%bc%d0%b8%d1%87%d0%b5%d1%81%d0%ba/
LOCATION:ДБ № 5\, ул. 50 лет ВЛКСМ\, 19\, Бобруйск\, 213824\, Беларусь
END:VEVENT
BEGIN:VEVENT
DTSTART;TZID=Europe/Moscow:20260412T120000
DTEND;TZID=Europe/Moscow:20260412T130000
DTSTAMP:20260420T144935
CREATED:20260331T093518Z
LAST-MODIFIED:20260331T093518Z
UID:892002-1775995200-1775998800@bobruisk-library.by
SUMMARY:Видеоурок мужества Об этом нельзя забыть (11.04. – Международный день освобождения узников концлагерей) 6+
DESCRIPTION:
URL:https://bobruisk-library.by/event/%d0%b2%d0%b8%d0%b4%d0%b5%d0%be%d1%83%d1%80%d0%be%d0%ba-%d0%bc%d1%83%d0%b6%d0%b5%d1%81%d1%82%d0%b2%d0%b0-%d0%be%d0%b1-%d1%8d%d1%82%d0%be%d0%bc-%d0%bd%d0%b5%d0%bb%d1%8c%d0%b7%d1%8f-%d0%b7%d0%b0%d0%b1/
LOCATION:ГБ им. А.С.Пушкина\, ул. Советская\, 87\, Бобруйск\, 213827\, Беларусь
END:VEVENT
BEGIN:VEVENT
DTSTART;TZID=Europe/Moscow:20260410T110000
DTEND;TZID=Europe/Moscow:20260410T120000
DTSTAMP:20260420T144935
CREATED:20260401T054314Z
LAST-MODIFIED:20260401T054314Z
UID:892020-1775818800-1775822400@bobruisk-library.by
SUMMARY:Диалог у выставки «Белорусские женщины-герои нашего времени» 6+
DESCRIPTION:
URL:https://bobruisk-library.by/event/%d0%b4%d0%b8%d0%b0%d0%bb%d0%be%d0%b3-%d1%83-%d0%b2%d1%8b%d1%81%d1%82%d0%b0%d0%b2%d0%ba%d0%b8-%d0%b1%d0%b5%d0%bb%d0%be%d1%80%d1%83%d1%81%d1%81%d0%ba%d0%b8%d0%b5-%d0%b6%d0%b5%d0%bd%d1%89%d0%b8/
LOCATION:ГБ №12\, ул. Бахарова\, 279\, Бобруйск\, Выберите штат:\, 213823\, Беларусь
END:VEVENT
BEGIN:VEVENT
DTSTART;TZID=Europe/Moscow:20260410T103000
DTEND;TZID=Europe/Moscow:20260410T113000
DTSTAMP:20260420T144935
CREATED:20260331T065322Z
LAST-MODIFIED:20260331T065322Z
UID:891978-1775817000-1775820600@bobruisk-library.by
SUMMARY:Православный час «Пасхальное чудо» (12  апреля – православная Пасха) 6+
DESCRIPTION:
URL:https://bobruisk-library.by/event/%d0%bf%d1%80%d0%b0%d0%b2%d0%be%d1%81%d0%bb%d0%b0%d0%b2%d0%bd%d1%8b%d0%b9-%d1%87%d0%b0%d1%81-%d0%bf%d0%b0%d1%81%d1%85%d0%b0%d0%bb%d1%8c%d0%bd%d0%be%d0%b5-%d1%87%d1%83%d0%b4%d0%be-12-2/
LOCATION:ГБ №8 им. Е. Полоцкой\, ул. Минская\, 90\, Бобруйск\, 213828\, Беларусь
END:VEVENT
BEGIN:VEVENT
DTSTART;VALUE=DATE:20260410
DTEND;VALUE=DATE:20260411
DTSTAMP:20260420T144935
CREATED:20260331T093450Z
LAST-MODIFIED:20260331T093450Z
UID:892000-1775779200-1775865599@bobruisk-library.by
SUMMARY:Минутки полезной информации «Няскучная беларуская класіка» (в рамках проекта “Кожная пятніца – роднае сваё”) 6+
DESCRIPTION:
URL:https://bobruisk-library.by/event/%d0%bc%d0%b8%d0%bd%d1%83%d1%82%d0%ba%d0%b8-%d0%bf%d0%be%d0%bb%d0%b5%d0%b7%d0%bd%d0%be%d0%b9-%d0%b8%d0%bd%d1%84%d0%be%d1%80%d0%bc%d0%b0%d1%86%d0%b8%d0%b8-%d0%bd%d1%8f%d1%81%d0%ba%d1%83%d1%87/
END:VEVENT
BEGIN:VEVENT
DTSTART;VALUE=DATE:20260410
DTEND;VALUE=DATE:20260411
DTSTAMP:20260420T144935
CREATED:20260331T083523Z
LAST-MODIFIED:20260331T083523Z
UID:891988-1775779200-1775865599@bobruisk-library.by
SUMMARY:Профилактическая беседа «Алкогольный синдром – опасный симптом» 6+
DESCRIPTION:
URL:https://bobruisk-library.by/event/%d0%bf%d1%80%d0%be%d1%84%d0%b8%d0%bb%d0%b0%d0%ba%d1%82%d0%b8%d1%87%d0%b5%d1%81%d0%ba%d0%b0%d1%8f-%d0%b1%d0%b5%d1%81%d0%b5%d0%b4%d0%b0-%d0%b0%d0%bb%d0%ba%d0%be%d0%b3%d0%be%d0%bb%d1%8c%d0%bd%d1%8b/
LOCATION:ДБ № 5\, ул. 50 лет ВЛКСМ\, 19\, Бобруйск\, 213824\, Беларусь
END:VEVENT
BEGIN:VEVENT
DTSTART;TZID=Europe/Moscow:20260409T153000
DTEND;TZID=Europe/Moscow:20260409T163000
DTSTAMP:20260420T144935
CREATED:20260331T093144Z
LAST-MODIFIED:20260331T093144Z
UID:891994-1775748600-1775752200@bobruisk-library.by
SUMMARY:Правовой час «Консультация специалиста» (Нотариусы Нотариальной конторы №2 Ленинского района г.Бобруйска) 6+
DESCRIPTION:
URL:https://bobruisk-library.by/event/%d0%bf%d1%80%d0%b0%d0%b2%d0%be%d0%b2%d0%be%d0%b9-%d1%87%d0%b0%d1%81-%d0%ba%d0%be%d0%bd%d1%81%d1%83%d0%bb%d1%8c%d1%82%d0%b0%d1%86%d0%b8%d1%8f-%d1%81%d0%bf%d0%b5%d1%86%d0%b8%d0%b0%d0%bb%d0%b8-17/
LOCATION:ГБ им. А.С.Пушкина\, ул. Советская\, 87\, Бобруйск\, 213827\, Беларусь
END:VEVENT
BEGIN:VEVENT
DTSTART;TZID=Europe/Moscow:20260408T150000
DTEND;TZID=Europe/Moscow:20260408T160000
DTSTAMP:20260420T144935
CREATED:20260331T065358Z
LAST-MODIFIED:20260331T065358Z
UID:891980-1775660400-1775664000@bobruisk-library.by
SUMMARY:Занимательный час  «Веселый космодром» (12  апреля – Всемирный день авиации и космонавтики); (к 65-летию со дня первого полета человека в космос) 6+
DESCRIPTION:
URL:https://bobruisk-library.by/event/%d0%b7%d0%b0%d0%bd%d0%b8%d0%bc%d0%b0%d1%82%d0%b5%d0%bb%d1%8c%d0%bd%d1%8b%d0%b9-%d1%87%d0%b0%d1%81-%d0%b2%d0%b5%d1%81%d0%b5%d0%bb%d1%8b%d0%b9-%d0%ba%d0%be%d1%81%d0%bc%d0%be%d0%b4%d1%80%d0%be/
LOCATION:ГБ №8 им. Е. Полоцкой\, ул. Минская\, 90\, Бобруйск\, 213828\, Беларусь
END:VEVENT
BEGIN:VEVENT
DTSTART;TZID=Europe/Moscow:20260408T133000
DTEND;TZID=Europe/Moscow:20260408T143000
DTSTAMP:20260420T144935
CREATED:20260331T094400Z
LAST-MODIFIED:20260331T094400Z
UID:892006-1775655000-1775658600@bobruisk-library.by
SUMMARY:Урок мужества «Не гаснет Памяти свеча…» (К Международному дню освобождения узников концлагерей) 6+
DESCRIPTION:
URL:https://bobruisk-library.by/event/%d1%83%d1%80%d0%be%d0%ba-%d0%bc%d1%83%d0%b6%d0%b5%d1%81%d1%82%d0%b2%d0%b0-%d0%bd%d0%b5-%d0%b3%d0%b0%d1%81%d0%bd%d0%b5%d1%82-%d0%bf%d0%b0%d0%bc%d1%8f%d1%82%d0%b8-%d1%81%d0%b2%d0%b5%d1%87%d0%b0-3/
LOCATION:ДБ №6 им. Н.А.Островского\, ул. Комсомольская\, 52\, Бобруйск\, 213826\, Беларусь
END:VEVENT
BEGIN:VEVENT
DTSTART;TZID=Europe/Moscow:20260407T133000
DTEND;TZID=Europe/Moscow:20260407T143000
DTSTAMP:20260420T144935
CREATED:20260331T084024Z
LAST-MODIFIED:20260331T084024Z
UID:891992-1775568600-1775572200@bobruisk-library.by
SUMMARY:Познавательный урок с  участием кукольного  театра «Петрушка» «Ключи к здоровью» (к Всемирному дню здоровья)  6+
DESCRIPTION:
URL:https://bobruisk-library.by/event/%d0%bf%d0%be%d0%b7%d0%bd%d0%b0%d0%b2%d0%b0%d1%82%d0%b5%d0%bb%d1%8c%d0%bd%d1%8b%d0%b9-%d1%83%d1%80%d0%be%d0%ba-%d1%81-%d1%83%d1%87%d0%b0%d1%81%d1%82%d0%b8%d0%b5%d0%bc-%d0%ba%d1%83%d0%ba%d0%be%d0%bb-2/
LOCATION:ЦДБ им. А.П.Гайдара\, ул. Урицкого\, 125\, Бобруйск\, 213809\, Беларусь
END:VEVENT
BEGIN:VEVENT
DTSTART;TZID=Europe/Moscow:20260407T133000
DTEND;TZID=Europe/Moscow:20260407T143000
DTSTAMP:20260420T144935
CREATED:20260331T083247Z
LAST-MODIFIED:20260331T083247Z
UID:891984-1775568600-1775572200@bobruisk-library.by
SUMMARY:– наш формат» (в рамках  информационно- профилактических мероприятий «Быть здоровым ЗДОРОВО!») 6+
DESCRIPTION:
URL:https://bobruisk-library.by/event/%d0%bd%d0%b0%d1%88-%d1%84%d0%be%d1%80%d0%bc%d0%b0%d1%82-%d0%b2-%d1%80%d0%b0%d0%bc%d0%ba%d0%b0%d1%85-%d0%b8%d0%bd%d1%84%d0%be%d1%80%d0%bc%d0%b0%d1%86%d0%b8%d0%be%d0%bd%d0%bd%d0%be/
LOCATION:ГБ №16\, ул. Гагарина\, 31а\, Бобруйск\, 213810\, Беларусь
END:VEVENT
BEGIN:VEVENT
DTSTART;TZID=Europe/Moscow:20260407T130000
DTEND;TZID=Europe/Moscow:20260407T140000
DTSTAMP:20260420T144935
CREATED:20260401T054536Z
LAST-MODIFIED:20260401T054536Z
UID:892022-1775566800-1775570400@bobruisk-library.by
SUMMARY:Урок здоровья «Здоровье. Молодость. Успех» (07.04. – Всемирный день здоровья) 6+
DESCRIPTION:
URL:https://bobruisk-library.by/event/%d1%83%d1%80%d0%be%d0%ba-%d0%b7%d0%b4%d0%be%d1%80%d0%be%d0%b2%d1%8c%d1%8f-%d0%b7%d0%b4%d0%be%d1%80%d0%be%d0%b2%d1%8c%d0%b5-%d0%bc%d0%be%d0%bb%d0%be%d0%b4%d0%be%d1%81%d1%82%d1%8c-%d1%83%d1%81/
LOCATION:ЦГБ им. М.Горького\, ул. Советская\, 64\, Бобруйск\, 213826\, Беларусь
END:VEVENT
BEGIN:VEVENT
DTSTART;TZID=Europe/Moscow:20260407T130000
DTEND;TZID=Europe/Moscow:20260407T140000
DTSTAMP:20260420T144935
CREATED:20260331T094335Z
LAST-MODIFIED:20260331T094335Z
UID:892004-1775566800-1775570400@bobruisk-library.by
SUMMARY:Информационно-познавательное путешествие «Дорога к доброму здоровью» 6+
DESCRIPTION:
URL:https://bobruisk-library.by/event/%d0%b8%d0%bd%d1%84%d0%be%d1%80%d0%bc%d0%b0%d1%86%d0%b8%d0%be%d0%bd%d0%bd%d0%be-%d0%bf%d0%be%d0%b7%d0%bd%d0%b0%d0%b2%d0%b0%d1%82%d0%b5%d0%bb%d1%8c%d0%bd%d0%be%d0%b5-%d0%bf%d1%83%d1%82%d0%b5%d1%88-2/
LOCATION:ДБ №6 им. Н.А.Островского\, ул. Комсомольская\, 52\, Бобруйск\, 213826\, Беларусь
END:VEVENT
BEGIN:VEVENT
DTSTART;TZID=Europe/Moscow:20260407T120000
DTEND;TZID=Europe/Moscow:20260407T130000
DTSTAMP:20260420T144935
CREATED:20260331T093355Z
LAST-MODIFIED:20260331T093355Z
UID:891998-1775563200-1775566800@bobruisk-library.by
SUMMARY:Литературная скамейка «Быть здровым – это значит» (07.04. – Всемирный день здоровья) 6+
DESCRIPTION:
URL:https://bobruisk-library.by/event/%d0%bb%d0%b8%d1%82%d0%b5%d1%80%d0%b0%d1%82%d1%83%d1%80%d0%bd%d0%b0%d1%8f-%d1%81%d0%ba%d0%b0%d0%bc%d0%b5%d0%b9%d0%ba%d0%b0-%d0%b1%d1%8b%d1%82%d1%8c-%d0%b7%d0%b4%d1%80%d0%be%d0%b2%d1%8b%d0%bc/
LOCATION:ГБ им. А.С.Пушкина\, ул. Советская\, 87\, Бобруйск\, 213827\, Беларусь
END:VEVENT
BEGIN:VEVENT
DTSTART;TZID=Europe/Moscow:20260407T120000
DTEND;TZID=Europe/Moscow:20260407T130000
DTSTAMP:20260420T144935
CREATED:20260331T065254Z
LAST-MODIFIED:20260331T065254Z
UID:891976-1775563200-1775566800@bobruisk-library.by
SUMMARY:Православный час «Пасхальное чудо» (12  апреля – православная Пасха) 6+
DESCRIPTION:
URL:https://bobruisk-library.by/event/%d0%bf%d1%80%d0%b0%d0%b2%d0%be%d1%81%d0%bb%d0%b0%d0%b2%d0%bd%d1%8b%d0%b9-%d1%87%d0%b0%d1%81-%d0%bf%d0%b0%d1%81%d1%85%d0%b0%d0%bb%d1%8c%d0%bd%d0%be%d0%b5-%d1%87%d1%83%d0%b4%d0%be-12/
LOCATION:ГБ №8 им. Е. Полоцкой\, ул. Минская\, 90\, Бобруйск\, 213828\, Беларусь
END:VEVENT
BEGIN:VEVENT
DTSTART;TZID=Europe/Moscow:20260407T110000
DTEND;TZID=Europe/Moscow:20260407T140000
DTSTAMP:20260420T144935
CREATED:20260331T083458Z
LAST-MODIFIED:20260331T083458Z
UID:891986-1775559600-1775570400@bobruisk-library.by
SUMMARY:Интерактивная площадка «Молодёжь на волне ЗОЖ» (к Всемирному дню здоровья) 6+
DESCRIPTION:
URL:https://bobruisk-library.by/event/%d0%b8%d0%bd%d1%82%d0%b5%d1%80%d0%b0%d0%ba%d1%82%d0%b8%d0%b2%d0%bd%d0%b0%d1%8f-%d0%bf%d0%bb%d0%be%d1%89%d0%b0%d0%b4%d0%ba%d0%b0-%d0%bc%d0%be%d0%bb%d0%be%d0%b4%d1%91%d0%b6%d1%8c-%d0%bd%d0%b0-2/
LOCATION:ДБ № 5\, ул. 50 лет ВЛКСМ\, 19\, Бобруйск\, 213824\, Беларусь
END:VEVENT
BEGIN:VEVENT
DTSTART;TZID=Europe/Moscow:20260407T110000
DTEND;TZID=Europe/Moscow:20260407T120000
DTSTAMP:20260420T144935
CREATED:20260331T083925Z
LAST-MODIFIED:20260331T083925Z
UID:891990-1775559600-1775563200@bobruisk-library.by
SUMMARY:Информационный час  «Пять слагаемых  здоровья» (к Всемирному дню здоровья; в рамках проекта «Территория равных возможностей») 6+
DESCRIPTION:
URL:https://bobruisk-library.by/event/%d0%b8%d0%bd%d1%84%d0%be%d1%80%d0%bc%d0%b0%d1%86%d0%b8%d0%be%d0%bd%d0%bd%d1%8b%d0%b9-%d1%87%d0%b0%d1%81-%d0%bf%d1%8f%d1%82%d1%8c-%d1%81%d0%bb%d0%b0%d0%b3%d0%b0%d0%b5%d0%bc%d1%8b%d1%85-%d0%b7/
LOCATION:ЦДБ им. А.П.Гайдара\, ул. Урицкого\, 125\, Бобруйск\, 213809\, Беларусь
END:VEVENT
BEGIN:VEVENT
DTSTART;TZID=Europe/Moscow:20260407T100000
DTEND;TZID=Europe/Moscow:20260407T110000
DTSTAMP:20260420T144935
CREATED:20260331T083217Z
LAST-MODIFIED:20260331T083217Z
UID:891982-1775556000-1775559600@bobruisk-library.by
SUMMARY:Урок здоровья «Советы  Айболита» 6+
DESCRIPTION:
URL:https://bobruisk-library.by/event/%d1%83%d1%80%d0%be%d0%ba-%d0%b7%d0%b4%d0%be%d1%80%d0%be%d0%b2%d1%8c%d1%8f-%d1%81%d0%be%d0%b2%d0%b5%d1%82%d1%8b-%d0%b0%d0%b9%d0%b1%d0%be%d0%bb%d0%b8%d1%82%d0%b0-6/
LOCATION:ГБ №16\, ул. Гагарина\, 31а\, Бобруйск\, 213810\, Беларусь
END:VEVENT
BEGIN:VEVENT
DTSTART;VALUE=DATE:20260406
DTEND;VALUE=DATE:20260407
DTSTAMP:20260420T144935
CREATED:20260331T065221Z
LAST-MODIFIED:20260331T065221Z
UID:891974-1775433600-1775519999@bobruisk-library.by
SUMMARY:Стоп-10-минутка «В  здоровом теле – здоровый дух» (7 апреля –Всемирный день здоровья); (в рамках информационно-профилактических мероприятий «Быть здоровым ЗДОРОВО!» к Всемирному дню здоровья) 6+
DESCRIPTION:
URL:https://bobruisk-library.by/event/%d1%81%d1%82%d0%be%d0%bf-10-%d0%bc%d0%b8%d0%bd%d1%83%d1%82%d0%ba%d0%b0-%d0%b2-%d0%b7%d0%b4%d0%be%d1%80%d0%be%d0%b2%d0%be%d0%bc-%d1%82%d0%b5%d0%bb%d0%b5-%d0%b7%d0%b4%d0%be%d1%80%d0%be/
LOCATION:ГБ №8 им. Е. Полоцкой\, ул. Минская\, 90\, Бобруйск\, 213828\, Беларусь
END:VEVENT
BEGIN:VEVENT
DTSTART;TZID=Europe/Moscow:20260405T150000
DTEND;TZID=Europe/Moscow:20260405T160000
DTSTAMP:20260420T144935
CREATED:20260331T093314Z
LAST-MODIFIED:20260331T093314Z
UID:891996-1775401200-1775404800@bobruisk-library.by
SUMMARY:Познавательный видеоурок «Здоровье без лекарств» (07.04. – День здоровья) 6+
DESCRIPTION:
URL:https://bobruisk-library.by/event/%d0%bf%d0%be%d0%b7%d0%bd%d0%b0%d0%b2%d0%b0%d1%82%d0%b5%d0%bb%d1%8c%d0%bd%d1%8b%d0%b9-%d0%b2%d0%b8%d0%b4%d0%b5%d0%be%d1%83%d1%80%d0%be%d0%ba-%d0%b7%d0%b4%d0%be%d1%80%d0%be%d0%b2%d1%8c%d0%b5-2/
LOCATION:ГБ им. А.С.Пушкина\, ул. Советская\, 87\, Бобруйск\, 213827\, Беларусь
END:VEVENT
BEGIN:VEVENT
DTSTART;TZID=Europe/Moscow:20260405T150000
DTEND;TZID=Europe/Moscow:20260405T160000
DTSTAMP:20260420T144935
CREATED:20260324T114521Z
LAST-MODIFIED:20260324T114521Z
UID:891885-1775401200-1775404800@bobruisk-library.by
SUMMARY:Познавательный видеоурок «Здоровье без лекарств» (07.04 – День здоровья) 6+
DESCRIPTION:
URL:https://bobruisk-library.by/event/%d0%bf%d0%be%d0%b7%d0%bd%d0%b0%d0%b2%d0%b0%d1%82%d0%b5%d0%bb%d1%8c%d0%bd%d1%8b%d0%b9-%d0%b2%d0%b8%d0%b4%d0%b5%d0%be%d1%83%d1%80%d0%be%d0%ba-%d0%b7%d0%b4%d0%be%d1%80%d0%be%d0%b2%d1%8c%d0%b5/
LOCATION:ГБ им. А.С.Пушкина\, ул. Советская\, 87\, Бобруйск\, 213827\, Беларусь
END:VEVENT
BEGIN:VEVENT
DTSTART;TZID=Europe/Moscow:20260403T120000
DTEND;TZID=Europe/Moscow:20260403T130000
DTSTAMP:20260420T144935
CREATED:20260326T080422Z
LAST-MODIFIED:20260326T080422Z
UID:891927-1775217600-1775221200@bobruisk-library.by
SUMMARY:Литературная мозаика  «Не прожить на белом  свете без любимых книжек детям» (Декада детской и юношеской книги «С книгой мир ярче!) (проект «Книга+Я») 6+
DESCRIPTION:
URL:https://bobruisk-library.by/event/%d0%bb%d0%b8%d1%82%d0%b5%d1%80%d0%b0%d1%82%d1%83%d1%80%d0%bd%d0%b0%d1%8f-%d0%bc%d0%be%d0%b7%d0%b0%d0%b8%d0%ba%d0%b0-%d0%bd%d0%b5-%d0%bf%d1%80%d0%be%d0%b6%d0%b8%d1%82%d1%8c-%d0%bd%d0%b0-%d0%b1/
LOCATION:ГБ №4 им. Б.Микулича\, пр-т Строителей\, 56\, Бобруйск\, 213807\, Беларусь
END:VEVENT
BEGIN:VEVENT
DTSTART;TZID=Europe/Moscow:20260403T110000
DTEND;TZID=Europe/Moscow:20260403T120000
DTSTAMP:20260420T144935
CREATED:20260324T114417Z
LAST-MODIFIED:20260324T114417Z
UID:891883-1775214000-1775217600@bobruisk-library.by
SUMMARY:Диалог у выставки «Нас роднит вековая история (в рамках цикла «Беларусь и Россия: единство двух народов» ко Дню единения народов Беларуси и России) 6+
DESCRIPTION:
URL:https://bobruisk-library.by/event/%d0%b4%d0%b8%d0%b0%d0%bb%d0%be%d0%b3-%d1%83-%d0%b2%d1%8b%d1%81%d1%82%d0%b0%d0%b2%d0%ba%d0%b8-%d0%bd%d0%b0%d1%81-%d1%80%d0%be%d0%b4%d0%bd%d0%b8%d1%82-%d0%b2%d0%b5%d0%ba%d0%be%d0%b2%d0%b0%d1%8f/
LOCATION:ГБ №12\, ул. Бахарова\, 279\, Бобруйск\, Выберите штат:\, 213823\, Беларусь
END:VEVENT
BEGIN:VEVENT
DTSTART;TZID=Europe/Moscow:20260402T143500
DTEND;TZID=Europe/Moscow:20260402T153000
DTSTAMP:20260420T144935
CREATED:20260324T114156Z
LAST-MODIFIED:20260324T114156Z
UID:891881-1775140500-1775143800@bobruisk-library.by
SUMMARY:Информационный час  «Сила единства» (ко  Дню единения народов Беларуси и России) 6+
DESCRIPTION:
URL:https://bobruisk-library.by/event/%d0%b8%d0%bd%d1%84%d0%be%d1%80%d0%bc%d0%b0%d1%86%d0%b8%d0%be%d0%bd%d0%bd%d1%8b%d0%b9-%d1%87%d0%b0%d1%81-%d1%81%d0%b8%d0%bb%d0%b0-%d0%b5%d0%b4%d0%b8%d0%bd%d1%81%d1%82%d0%b2%d0%b0-%d0%ba/
LOCATION:ДБ № 5\, ул. 50 лет ВЛКСМ\, 19\, Бобруйск\, 213824\, Беларусь
END:VEVENT
BEGIN:VEVENT
DTSTART;TZID=Europe/Moscow:20260402T143000
DTEND;TZID=Europe/Moscow:20260402T153000
DTSTAMP:20260420T144935
CREATED:20260324T113509Z
LAST-MODIFIED:20260324T113509Z
UID:891871-1775140200-1775143800@bobruisk-library.by
SUMMARY:Патриотический час  «Беларусь и Россия  единством сильны» (2 апреля – День единения народов Беларуси и России); (в рамках цикла мероприятий и библиотечных выставок «Беларусь и Россия: единство двух народов» ко Дню единения Беларуси и России) 6+
DESCRIPTION:
URL:https://bobruisk-library.by/event/%d0%bf%d0%b0%d1%82%d1%80%d0%b8%d0%be%d1%82%d0%b8%d1%87%d0%b5%d1%81%d0%ba%d0%b8%d0%b9-%d1%87%d0%b0%d1%81-%d0%b1%d0%b5%d0%bb%d0%b0%d1%80%d1%83%d1%81%d1%8c-%d0%b8-%d1%80%d0%be%d1%81%d1%81%d0%b8-3/
END:VEVENT
END:VCALENDAR