BEGIN:VCALENDAR
VERSION:2.0
PRODID:-//Учреждение культуры &quot;Библиотечная система города Бобруйска&quot; - ECPv6.15.20//NONSGML v1.0//EN
CALSCALE:GREGORIAN
METHOD:PUBLISH
X-WR-CALNAME:Учреждение культуры &quot;Библиотечная система города Бобруйска&quot;
X-ORIGINAL-URL:https://bobruisk-library.by
X-WR-CALDESC:Мероприятия для Учреждение культуры &quot;Библиотечная система города Бобруйска&quot;
REFRESH-INTERVAL;VALUE=DURATION:PT1H
X-Robots-Tag:noindex
X-PUBLISHED-TTL:PT1H
BEGIN:VTIMEZONE
TZID:Europe/Moscow
BEGIN:STANDARD
TZOFFSETFROM:+0300
TZOFFSETTO:+0300
TZNAME:MSK
DTSTART:20240101T000000
END:STANDARD
END:VTIMEZONE
BEGIN:VEVENT
DTSTART;TZID=Europe/Moscow:20250601T110000
DTEND;TZID=Europe/Moscow:20250601T120000
DTSTAMP:20260421T020259
CREATED:20250520T121836Z
LAST-MODIFIED:20250520T121836Z
UID:887273-1748775600-1748779200@bobruisk-library.by
SUMMARY:Конкурсно-игровая программа «Сказка радость нам несет\, Тот\, кто знает\, тот поймет» (Библиопанорама «Мир детства – самый лучший мир» к Международному дню защиты детей) 6+
DESCRIPTION:
URL:https://bobruisk-library.by/event/%d0%ba%d0%be%d0%bd%d0%ba%d1%83%d1%80%d1%81%d0%bd%d0%be-%d0%b8%d0%b3%d1%80%d0%be%d0%b2%d0%b0%d1%8f-%d0%bf%d1%80%d0%be%d0%b3%d1%80%d0%b0%d0%bc%d0%bc%d0%b0-%d1%81%d0%ba%d0%b0%d0%b7%d0%ba%d0%b0/
LOCATION:ГБ им. А.С.Пушкина\, ул. Советская\, 87\, Бобруйск\, 213827\, Беларусь
END:VEVENT
BEGIN:VEVENT
DTSTART;TZID=Europe/Moscow:20250601T120000
DTEND;TZID=Europe/Moscow:20250601T130000
DTSTAMP:20260421T020259
CREATED:20250520T091917Z
LAST-MODIFIED:20250520T091917Z
UID:887261-1748779200-1748782800@bobruisk-library.by
SUMMARY:Праздничная акция «Детство – лучшая планета!» (1 июня – Международный день защиты детей) 6+
DESCRIPTION:
URL:https://bobruisk-library.by/event/%d0%bf%d1%80%d0%b0%d0%b7%d0%b4%d0%bd%d0%b8%d1%87%d0%bd%d0%b0%d1%8f-%d0%b0%d0%ba%d1%86%d0%b8%d1%8f-%d0%b4%d0%b5%d1%82%d1%81%d1%82%d0%b2%d0%be-%d0%bb%d1%83%d1%87%d1%88%d0%b0%d1%8f-%d0%bf/
LOCATION:ЦДБ им. А.П.Гайдара\, ул. Урицкого\, 125\, Бобруйск\, 213809\, Беларусь
END:VEVENT
BEGIN:VEVENT
DTSTART;TZID=Europe/Moscow:20250601T120000
DTEND;TZID=Europe/Moscow:20250601T130000
DTSTAMP:20260421T020259
CREATED:20250520T122303Z
LAST-MODIFIED:20250520T122303Z
UID:887278-1748779200-1748782800@bobruisk-library.by
SUMMARY:Литературная квест-игра «На солнечной поляне Лукоморья» (Библиотечный проект «Путешествуем вместе с Пушкиным») 6+
DESCRIPTION:
URL:https://bobruisk-library.by/event/%d0%bb%d0%b8%d1%82%d0%b5%d1%80%d0%b0%d1%82%d1%83%d1%80%d0%bd%d0%b0%d1%8f-%d0%ba%d0%b2%d0%b5%d1%81%d1%82-%d0%b8%d0%b3%d1%80%d0%b0-%d0%bd%d0%b0-%d1%81%d0%be%d0%bb%d0%bd%d0%b5%d1%87%d0%bd%d0%be/
LOCATION:ГБ им. А.С.Пушкина\, ул. Советская\, 87\, Бобруйск\, 213827\, Беларусь
END:VEVENT
BEGIN:VEVENT
DTSTART;TZID=Europe/Moscow:20250601T120000
DTEND;TZID=Europe/Moscow:20250601T140000
DTSTAMP:20260421T020259
CREATED:20250527T131815Z
LAST-MODIFIED:20250602T124216Z
UID:887352-1748779200-1748786400@bobruisk-library.by
SUMMARY:Библиотечный пятачок «Пусть детство звонкое смеется» (01.06. Международный день защиты детей) 6+
DESCRIPTION:
URL:https://bobruisk-library.by/event/%d0%b1%d0%b8%d0%b1%d0%bb%d0%b8%d0%be%d1%82%d0%b5%d1%87%d0%bd%d1%8b%d0%b9-%d0%bf%d1%8f%d1%82%d0%b0%d1%87%d0%be%d0%ba-%d0%bf%d1%83%d1%81%d1%82%d1%8c-%d0%b4%d0%b5%d1%82%d1%81%d1%82%d0%b2%d0%be/
LOCATION:ГБ №7 им. А.А.Шогенцукова\, ул. Интернациональная\, 72в\, Бобруйск\, 213819
END:VEVENT
BEGIN:VEVENT
DTSTART;TZID=Europe/Moscow:20250601T140000
DTEND;TZID=Europe/Moscow:20250601T150000
DTSTAMP:20260421T020259
CREATED:20250520T121803Z
LAST-MODIFIED:20250520T121803Z
UID:887271-1748786400-1748790000@bobruisk-library.by
SUMMARY:Правовая акция «Права свои знай\, обязанности не забывай» (01.06. – Международный день защиты детей) 6+
DESCRIPTION:
URL:https://bobruisk-library.by/event/%d0%bf%d1%80%d0%b0%d0%b2%d0%be%d0%b2%d0%b0%d1%8f-%d0%b0%d0%ba%d1%86%d0%b8%d1%8f-%d0%bf%d1%80%d0%b0%d0%b2%d0%b0-%d1%81%d0%b2%d0%be%d0%b8-%d0%b7%d0%bd%d0%b0%d0%b9-%d0%be%d0%b1%d1%8f%d0%b7%d0%b0/
LOCATION:ГБ им. А.С.Пушкина\, ул. Советская\, 87\, Бобруйск\, 213827\, Беларусь
END:VEVENT
BEGIN:VEVENT
DTSTART;TZID=Europe/Moscow:20250602T100000
DTEND;TZID=Europe/Moscow:20250602T110000
DTSTAMP:20260421T020259
CREATED:20250527T124918Z
LAST-MODIFIED:20250527T124918Z
UID:887319-1748858400-1748862000@bobruisk-library.by
SUMMARY:Праздничная программа «Живут дети на планете» (1 июня Международный день защиты детей); (в рамках библиопанорамы «Мир детства – самый лучший мир») 6+
DESCRIPTION:
URL:https://bobruisk-library.by/event/%d0%bf%d1%80%d0%b0%d0%b7%d0%b4%d0%bd%d0%b8%d1%87%d0%bd%d0%b0%d1%8f-%d0%bf%d1%80%d0%be%d0%b3%d1%80%d0%b0%d0%bc%d0%bc%d0%b0-%d0%b6%d0%b8%d0%b2%d1%83%d1%82-%d0%b4%d0%b5%d1%82%d0%b8-%d0%bd%d0%b0/
LOCATION:ГБ №8 им. Е. Полоцкой\, ул. Минская\, 90\, Бобруйск\, 213828\, Беларусь
END:VEVENT
BEGIN:VEVENT
DTSTART;TZID=Europe/Moscow:20250602T100000
DTEND;TZID=Europe/Moscow:20250602T110000
DTSTAMP:20260421T020259
CREATED:20250527T130131Z
LAST-MODIFIED:20250527T130131Z
UID:887331-1748858400-1748862000@bobruisk-library.by
SUMMARY:Игротека «Пусть детство звонкое смеётся» 6+
DESCRIPTION:
URL:https://bobruisk-library.by/event/%d0%b8%d0%b3%d1%80%d0%be%d1%82%d0%b5%d0%ba%d0%b0-%d0%bf%d1%83%d1%81%d1%82%d1%8c-%d0%b4%d0%b5%d1%82%d1%81%d1%82%d0%b2%d0%be-%d0%b7%d0%b2%d0%be%d0%bd%d0%ba%d0%be%d0%b5-%d1%81%d0%bc%d0%b5%d1%91/
LOCATION:ГБ №16\, ул. Гагарина\, 31а\, Бобруйск\, 213810\, Беларусь
END:VEVENT
BEGIN:VEVENT
DTSTART;TZID=Europe/Moscow:20250602T110000
DTEND;TZID=Europe/Moscow:20250602T120000
DTSTAMP:20260421T020259
CREATED:20250527T130548Z
LAST-MODIFIED:20250527T130548Z
UID:887335-1748862000-1748865600@bobruisk-library.by
SUMMARY:Литературный десант «С книгой на лавочке» 6+
DESCRIPTION:
URL:https://bobruisk-library.by/event/%d0%bb%d0%b8%d1%82%d0%b5%d1%80%d0%b0%d1%82%d1%83%d1%80%d0%bd%d1%8b%d0%b9-%d0%b4%d0%b5%d1%81%d0%b0%d0%bd%d1%82-%d1%81-%d0%ba%d0%bd%d0%b8%d0%b3%d0%be%d0%b9-%d0%bd%d0%b0-%d0%bb%d0%b0%d0%b2%d0%be/
LOCATION:ДБ №6 им. Н.А.Островского\, ул. Комсомольская\, 52\, Бобруйск\, 213826\, Беларусь
END:VEVENT
BEGIN:VEVENT
DTSTART;TZID=Europe/Moscow:20250602T130000
DTEND;TZID=Europe/Moscow:20250602T140000
DTSTAMP:20260421T020259
CREATED:20250527T130015Z
LAST-MODIFIED:20250527T130015Z
UID:887327-1748869200-1748872800@bobruisk-library.by
SUMMARY:Праздник детства «Детям планеты мир без тревог» (к Международному дню защиты детей) 6+
DESCRIPTION:
URL:https://bobruisk-library.by/event/%d0%bf%d1%80%d0%b0%d0%b7%d0%b4%d0%bd%d0%b8%d0%ba-%d0%b4%d0%b5%d1%82%d1%81%d1%82%d0%b2%d0%b0-%d0%b4%d0%b5%d1%82%d1%8f%d0%bc-%d0%bf%d0%bb%d0%b0%d0%bd%d0%b5%d1%82%d1%8b-%d0%bc%d0%b8%d1%80-%d0%b1/
LOCATION:ДБ № 5\, ул. 50 лет ВЛКСМ\, 19\, Бобруйск\, 213824\, Беларусь
END:VEVENT
BEGIN:VEVENT
DTSTART;TZID=Europe/Moscow:20250603T100000
DTEND;TZID=Europe/Moscow:20250603T110000
DTSTAMP:20260421T020259
CREATED:20250527T125536Z
LAST-MODIFIED:20250527T125536Z
UID:887321-1748944800-1748948400@bobruisk-library.by
SUMMARY:«Лето прекрасно – когда безопасно!» (в рамках уроков безопасности «Моё безопасное лето!») 6+
DESCRIPTION:
URL:https://bobruisk-library.by/event/%d0%bb%d0%b5%d1%82%d0%be-%d0%bf%d1%80%d0%b5%d0%ba%d1%80%d0%b0%d1%81%d0%bd%d0%be-%d0%ba%d0%be%d0%b3%d0%b4%d0%b0-%d0%b1%d0%b5%d0%b7%d0%be%d0%bf%d0%b0%d1%81%d0%bd%d0%be-%d0%b2/
LOCATION:ГБ №8 им. Е. Полоцкой\, ул. Минская\, 90\, Бобруйск\, 213828\, Беларусь
END:VEVENT
BEGIN:VEVENT
DTSTART;TZID=Europe/Moscow:20250603T100000
DTEND;TZID=Europe/Moscow:20250603T120000
DTSTAMP:20260421T020259
CREATED:20250527T130614Z
LAST-MODIFIED:20250527T130614Z
UID:887337-1748944800-1748952000@bobruisk-library.by
SUMMARY:Развлекательная программа «Пусть детство звонкое смеётся» 6+
DESCRIPTION:
URL:https://bobruisk-library.by/event/%d1%80%d0%b0%d0%b7%d0%b2%d0%bb%d0%b5%d0%ba%d0%b0%d1%82%d0%b5%d0%bb%d1%8c%d0%bd%d0%b0%d1%8f-%d0%bf%d1%80%d0%be%d0%b3%d1%80%d0%b0%d0%bc%d0%bc%d0%b0-%d0%bf%d1%83%d1%81%d1%82%d1%8c-%d0%b4%d0%b5/
LOCATION:ДБ №6 им. Н.А.Островского\, ул. Комсомольская\, 52\, Бобруйск\, 213826\, Беларусь
END:VEVENT
BEGIN:VEVENT
DTSTART;TZID=Europe/Moscow:20250603T103000
DTEND;TZID=Europe/Moscow:20250603T113000
DTSTAMP:20260421T020259
CREATED:20250527T131020Z
LAST-MODIFIED:20250527T131020Z
UID:887343-1748946600-1748950200@bobruisk-library.by
SUMMARY:Информационный час с участием кукольного театра «Петрушка» «Правила безопасности в летний период» 6+
DESCRIPTION:
URL:https://bobruisk-library.by/event/%d0%b8%d0%bd%d1%84%d0%be%d1%80%d0%bc%d0%b0%d1%86%d0%b8%d0%be%d0%bd%d0%bd%d1%8b%d0%b9-%d1%87%d0%b0%d1%81-%d1%81-%d1%83%d1%87%d0%b0%d1%81%d1%82%d0%b8%d0%b5%d0%bc-%d0%ba%d1%83%d0%ba%d0%be%d0%bb%d1%8c-2/
LOCATION:ЦДБ им. А.П.Гайдара\, ул. Урицкого\, 125\, Бобруйск\, 213809\, Беларусь
END:VEVENT
BEGIN:VEVENT
DTSTART;TZID=Europe/Moscow:20250604T100000
DTEND;TZID=Europe/Moscow:20250604T110000
DTSTAMP:20260421T020259
CREATED:20250527T131329Z
LAST-MODIFIED:20250527T131329Z
UID:887347-1749031200-1749034800@bobruisk-library.by
SUMMARY:Литературно-игровая программа «Мы Пушкина читаем и рисуем с детства» 6+
DESCRIPTION:
URL:https://bobruisk-library.by/event/%d0%bb%d0%b8%d1%82%d0%b5%d1%80%d0%b0%d1%82%d1%83%d1%80%d0%bd%d0%be-%d0%b8%d0%b3%d1%80%d0%be%d0%b2%d0%b0%d1%8f-%d0%bf%d1%80%d0%be%d0%b3%d1%80%d0%b0%d0%bc%d0%bc%d0%b0-%d0%bc%d1%8b-%d0%bf%d1%83/
LOCATION:ГБ им. А.С.Пушкина\, ул. Советская\, 87\, Бобруйск\, 213827\, Беларусь
END:VEVENT
BEGIN:VEVENT
DTSTART;TZID=Europe/Moscow:20250604T100000
DTEND;TZID=Europe/Moscow:20250604T110000
DTSTAMP:20260421T020259
CREATED:20250528T092732Z
LAST-MODIFIED:20250528T092732Z
UID:887358-1749031200-1749034800@bobruisk-library.by
SUMMARY:Познавательное мероприятие «Лето без опасности» (В рамках урока безопасности «Мое безопасное лето») 6+
DESCRIPTION:
URL:https://bobruisk-library.by/event/%d0%bf%d0%be%d0%b7%d0%bd%d0%b0%d0%b2%d0%b0%d1%82%d0%b5%d0%bb%d1%8c%d0%bd%d0%be%d0%b5-%d0%bc%d0%b5%d1%80%d0%be%d0%bf%d1%80%d0%b8%d1%8f%d1%82%d0%b8%d0%b5-%d0%bb%d0%b5%d1%82%d0%be-%d0%b1%d0%b5/
LOCATION:ГБ №4 им. Б.Микулича\, пр-т Строителей\, 56\, Бобруйск\, 213807\, Беларусь
END:VEVENT
BEGIN:VEVENT
DTSTART;TZID=Europe/Moscow:20250604T103000
DTEND;TZID=Europe/Moscow:20250604T113000
DTSTAMP:20260421T020259
CREATED:20250527T131055Z
LAST-MODIFIED:20250527T131055Z
UID:887345-1749033000-1749036600@bobruisk-library.by
SUMMARY:Эковикторина «Жили- были рыбы\, птицы\, звери» (5 июня – Всемирный день охраны окружающей среды; в рамках работы Эко-Инфо-Центра) 6+
DESCRIPTION:
URL:https://bobruisk-library.by/event/%d1%8d%d0%ba%d0%be%d0%b2%d0%b8%d0%ba%d1%82%d0%be%d1%80%d0%b8%d0%bd%d0%b0-%d0%b6%d0%b8%d0%bb%d0%b8-%d0%b1%d1%8b%d0%bb%d0%b8-%d1%80%d1%8b%d0%b1%d1%8b-%d0%bf%d1%82%d0%b8%d1%86%d1%8b-%d0%b7%d0%b2/
LOCATION:ЦДБ им. А.П.Гайдара\, ул. Урицкого\, 125\, Бобруйск\, 213809\, Беларусь
END:VEVENT
BEGIN:VEVENT
DTSTART;TZID=Europe/Moscow:20250604T110000
DTEND;TZID=Europe/Moscow:20250604T120000
DTSTAMP:20260421T020259
CREATED:20250527T131855Z
LAST-MODIFIED:20250527T131855Z
UID:887354-1749034800-1749038400@bobruisk-library.by
SUMMARY:Литературно-развлекательная программа «В гости к Пушкину спешим» (06.06. – День рождения А.С. Пушкина) 6+
DESCRIPTION:
URL:https://bobruisk-library.by/event/%d0%bb%d0%b8%d1%82%d0%b5%d1%80%d0%b0%d1%82%d1%83%d1%80%d0%bd%d0%be-%d1%80%d0%b0%d0%b7%d0%b2%d0%bb%d0%b5%d0%ba%d0%b0%d1%82%d0%b5%d0%bb%d1%8c%d0%bd%d0%b0%d1%8f-%d0%bf%d1%80%d0%be%d0%b3%d1%80%d0%b0-3/
LOCATION:ГБ №7 им. А.А.Шогенцукова\, ул. Интернациональная\, 72в\, Бобруйск\, 213819
END:VEVENT
BEGIN:VEVENT
DTSTART;VALUE=DATE:20250605
DTEND;VALUE=DATE:20250606
DTSTAMP:20260421T020259
CREATED:20250527T131917Z
LAST-MODIFIED:20250527T131917Z
UID:887356-1749081600-1749167999@bobruisk-library.by
SUMMARY:Акция «Через книгу в мир природы» (05.06. – Всемирный день окружающей среды) 6+
DESCRIPTION:
URL:https://bobruisk-library.by/event/%d0%b0%d0%ba%d1%86%d0%b8%d1%8f-%d1%87%d0%b5%d1%80%d0%b5%d0%b7-%d0%ba%d0%bd%d0%b8%d0%b3%d1%83-%d0%b2-%d0%bc%d0%b8%d1%80-%d0%bf%d1%80%d0%b8%d1%80%d0%be%d0%b4%d1%8b-05-06-%d0%b2/
LOCATION:ГБ №7 им. А.А.Шогенцукова\, ул. Интернациональная\, 72в\, Бобруйск\, 213819
END:VEVENT
BEGIN:VEVENT
DTSTART;TZID=Europe/Moscow:20250605T100000
DTEND;TZID=Europe/Moscow:20250605T110000
DTSTAMP:20260421T020259
CREATED:20250527T130158Z
LAST-MODIFIED:20250527T130158Z
UID:887333-1749117600-1749121200@bobruisk-library.by
SUMMARY:Библиопоход за знаниями «За воздух! За воду! За чистую природу!» 6+
DESCRIPTION:
URL:https://bobruisk-library.by/event/%d0%b1%d0%b8%d0%b1%d0%bb%d0%b8%d0%be%d0%bf%d0%be%d1%85%d0%be%d0%b4-%d0%b7%d0%b0-%d0%b7%d0%bd%d0%b0%d0%bd%d0%b8%d1%8f%d0%bc%d0%b8-%d0%b7%d0%b0-%d0%b2%d0%be%d0%b7%d0%b4%d1%83%d1%85-%d0%b7%d0%b0/
LOCATION:ГБ №16\, ул. Гагарина\, 31а\, Бобруйск\, 213810\, Беларусь
END:VEVENT
BEGIN:VEVENT
DTSTART;TZID=Europe/Moscow:20250605T100000
DTEND;TZID=Europe/Moscow:20250605T110000
DTSTAMP:20260421T020259
CREATED:20250527T130647Z
LAST-MODIFIED:20250527T130647Z
UID:887339-1749117600-1749121200@bobruisk-library.by
SUMMARY:Урок краеведения с элементами театрализации “Стань\, мой сноп\, на тысячу коп” 6+
DESCRIPTION:
URL:https://bobruisk-library.by/event/%d1%83%d1%80%d0%be%d0%ba-%d0%ba%d1%80%d0%b0%d0%b5%d0%b2%d0%b5%d0%b4%d0%b5%d0%bd%d0%b8%d1%8f-%d1%81-%d1%8d%d0%bb%d0%b5%d0%bc%d0%b5%d0%bd%d1%82%d0%b0%d0%bc%d0%b8-%d1%82%d0%b5%d0%b0%d1%82%d1%80%d0%b0/
LOCATION:ДБ №6 им. Н.А.Островского\, ул. Комсомольская\, 52\, Бобруйск\, 213826\, Беларусь
END:VEVENT
BEGIN:VEVENT
DTSTART;TZID=Europe/Moscow:20250605T110000
DTEND;TZID=Europe/Moscow:20250605T120000
DTSTAMP:20260421T020259
CREATED:20250527T125636Z
LAST-MODIFIED:20250527T125636Z
UID:887323-1749121200-1749124800@bobruisk-library.by
SUMMARY:Час память «Свет Евфросинии» (5 июня – день память святой Евфросинии Полоцкой) 6+
DESCRIPTION:
URL:https://bobruisk-library.by/event/%d1%87%d0%b0%d1%81-%d0%bf%d0%b0%d0%bc%d1%8f%d1%82%d1%8c-%d1%81%d0%b2%d0%b5%d1%82-%d0%b5%d0%b2%d1%84%d1%80%d0%be%d1%81%d0%b8%d0%bd%d0%b8%d0%b8-5-%d0%b8%d1%8e%d0%bd%d1%8f-%d0%b4/
LOCATION:ГБ №8 им. Е. Полоцкой\, ул. Минская\, 90\, Бобруйск\, 213828\, Беларусь
END:VEVENT
BEGIN:VEVENT
DTSTART;VALUE=DATE:20250606
DTEND;VALUE=DATE:20250607
DTSTAMP:20260421T020259
CREATED:20250527T131508Z
LAST-MODIFIED:20250527T131508Z
UID:887349-1749168000-1749254399@bobruisk-library.by
SUMMARY:День семейного чтения «Читаем Пушкина семьёй!» (6 июня – день рождения русского поэта А.С. Пушкина) 6+
DESCRIPTION:
URL:https://bobruisk-library.by/event/%d0%b4%d0%b5%d0%bd%d1%8c-%d1%81%d0%b5%d0%bc%d0%b5%d0%b9%d0%bd%d0%be%d0%b3%d0%be-%d1%87%d1%82%d0%b5%d0%bd%d0%b8%d1%8f-%d1%87%d0%b8%d1%82%d0%b0%d0%b5%d0%bc-%d0%bf%d1%83%d1%88%d0%ba%d0%b8%d0%bd/
LOCATION:ГБ им. А.С.Пушкина\, ул. Советская\, 87\, Бобруйск\, 213827\, Беларусь
END:VEVENT
BEGIN:VEVENT
DTSTART;TZID=Europe/Moscow:20250606T100000
DTEND;TZID=Europe/Moscow:20250606T110000
DTSTAMP:20260421T020259
CREATED:20250527T130052Z
LAST-MODIFIED:20250605T112157Z
UID:887329-1749204000-1749207600@bobruisk-library.by
SUMMARY:Экологическая акция «Мусор. НЕТ» (к Году благоустройства) 6+
DESCRIPTION:
URL:https://bobruisk-library.by/event/%d1%8d%d0%ba%d0%be%d0%bb%d0%be%d0%b3%d0%b8%d1%87%d0%b5%d1%81%d0%ba%d0%b0%d1%8f-%d0%b0%d0%ba%d1%86%d0%b8%d1%8f-%d0%bc%d1%83%d1%81%d0%be%d1%80-%d0%bd%d0%b5%d1%82-%d0%ba-%d0%b3%d0%be%d0%b4/
LOCATION:ДБ № 5\, ул. 50 лет ВЛКСМ\, 19\, Бобруйск\, 213824\, Беларусь
END:VEVENT
BEGIN:VEVENT
DTSTART;TZID=Europe/Moscow:20250606T100000
DTEND;TZID=Europe/Moscow:20250606T110000
DTSTAMP:20260421T020259
CREATED:20250527T130717Z
LAST-MODIFIED:20250527T130717Z
UID:887341-1749204000-1749207600@bobruisk-library.by
SUMMARY:Патриотический урок-путешествие с игровой программой «Их именами названы улицы Бобруйска» 6+
DESCRIPTION:
URL:https://bobruisk-library.by/event/%d0%bf%d0%b0%d1%82%d1%80%d0%b8%d0%be%d1%82%d0%b8%d1%87%d0%b5%d1%81%d0%ba%d0%b8%d0%b9-%d1%83%d1%80%d0%be%d0%ba-%d0%bf%d1%83%d1%82%d0%b5%d1%88%d0%b5%d1%81%d1%82%d0%b2%d0%b8%d0%b5-%d1%81-%d0%b8%d0%b3/
LOCATION:ДБ №6 им. Н.А.Островского\, ул. Комсомольская\, 52\, Бобруйск\, 213826\, Беларусь
END:VEVENT
BEGIN:VEVENT
DTSTART;TZID=Europe/Moscow:20250606T110000
DTEND;TZID=Europe/Moscow:20250606T120000
DTSTAMP:20260421T020259
CREATED:20250527T125737Z
LAST-MODIFIED:20250527T125737Z
UID:887325-1749207600-1749211200@bobruisk-library.by
SUMMARY:Игра-путешествие «По следам Пушкинских сказок» (6 июня – 226 лет со дня рождения А.С.Пушкина) 6+
DESCRIPTION:
URL:https://bobruisk-library.by/event/%d0%b8%d0%b3%d1%80%d0%b0-%d0%bf%d1%83%d1%82%d0%b5%d1%88%d0%b5%d1%81%d1%82%d0%b2%d0%b8%d0%b5-%d0%bf%d0%be-%d1%81%d0%bb%d0%b5%d0%b4%d0%b0%d0%bc-%d0%bf%d1%83%d1%88%d0%ba%d0%b8%d0%bd%d1%81%d0%ba-3/
LOCATION:ГБ №8 им. Е. Полоцкой\, ул. Минская\, 90\, Бобруйск\, 213828\, Беларусь
END:VEVENT
BEGIN:VEVENT
DTSTART;TZID=Europe/Moscow:20250609T100000
DTEND;TZID=Europe/Moscow:20250609T110000
DTSTAMP:20260421T020259
CREATED:20250603T080125Z
LAST-MODIFIED:20250603T080125Z
UID:887430-1749463200-1749466800@bobruisk-library.by
SUMMARY:Игровая программа «Путешествие в Дружбоград» 6+
DESCRIPTION:
URL:https://bobruisk-library.by/event/%d0%b8%d0%b3%d1%80%d0%be%d0%b2%d0%b0%d1%8f-%d0%bf%d1%80%d0%be%d0%b3%d1%80%d0%b0%d0%bc%d0%bc%d0%b0-%d0%bf%d1%83%d1%82%d0%b5%d1%88%d0%b5%d1%81%d1%82%d0%b2%d0%b8%d0%b5-%d0%b2-%d0%b4%d1%80%d1%83/
LOCATION:ГБ №16\, ул. Гагарина\, 31а\, Бобруйск\, 213810\, Беларусь
END:VEVENT
BEGIN:VEVENT
DTSTART;TZID=Europe/Moscow:20250609T100000
DTEND;TZID=Europe/Moscow:20250609T110000
DTSTAMP:20260421T020259
CREATED:20250603T094700Z
LAST-MODIFIED:20250603T094700Z
UID:887434-1749463200-1749466800@bobruisk-library.by
SUMMARY:Игра «Какой ты друг?» 6+
DESCRIPTION:
URL:https://bobruisk-library.by/event/%d0%b8%d0%b3%d1%80%d0%b0-%d0%ba%d0%b0%d0%ba%d0%be%d0%b9-%d1%82%d1%8b-%d0%b4%d1%80%d1%83%d0%b3-6/
LOCATION:ГБ №8 им. Е. Полоцкой\, ул. Минская\, 90\, Бобруйск\, 213828\, Беларусь
END:VEVENT
BEGIN:VEVENT
DTSTART;TZID=Europe/Moscow:20250609T100000
DTEND;TZID=Europe/Moscow:20250609T110000
DTSTAMP:20260421T020259
CREATED:20250603T123620Z
LAST-MODIFIED:20250603T123620Z
UID:887467-1749463200-1749466800@bobruisk-library.by
SUMMARY:Профилактическая беседа «Опасности вокруг нас» (в рамках комплексного плана по профилактике правонарушений) 6+
DESCRIPTION:
URL:https://bobruisk-library.by/event/%d0%bf%d1%80%d0%be%d1%84%d0%b8%d0%bb%d0%b0%d0%ba%d1%82%d0%b8%d1%87%d0%b5%d1%81%d0%ba%d0%b0%d1%8f-%d0%b1%d0%b5%d1%81%d0%b5%d0%b4%d0%b0-%d0%be%d0%bf%d0%b0%d1%81%d0%bd%d0%be%d1%81%d1%82%d0%b8/
LOCATION:ГБ №7 им. А.А.Шогенцукова\, ул. Интернациональная\, 72в\, Бобруйск\, 213819
END:VEVENT
BEGIN:VEVENT
DTSTART;TZID=Europe/Moscow:20250609T100000
DTEND;TZID=Europe/Moscow:20250609T110000
DTSTAMP:20260421T020259
CREATED:20250604T075144Z
LAST-MODIFIED:20250604T075144Z
UID:887475-1749463200-1749466800@bobruisk-library.by
SUMMARY:Литературно-игровая программа В гостях у сказки (в рамках программы летнего досуга и чтения “Летнее приклюЧтение”) 6+
DESCRIPTION:
URL:https://bobruisk-library.by/event/%d0%bb%d0%b8%d1%82%d0%b5%d1%80%d0%b0%d1%82%d1%83%d1%80%d0%bd%d0%be-%d0%b8%d0%b3%d1%80%d0%be%d0%b2%d0%b0%d1%8f-%d0%bf%d1%80%d0%be%d0%b3%d1%80%d0%b0%d0%bc%d0%bc%d0%b0-%d0%b2-%d0%b3%d0%be%d1%81%d1%82/
LOCATION:ГБ №4 им. Б.Микулича\, пр-т Строителей\, 56\, Бобруйск\, 213807\, Беларусь
END:VEVENT
BEGIN:VEVENT
DTSTART;TZID=Europe/Moscow:20250609T100000
DTEND;TZID=Europe/Moscow:20250609T120000
DTSTAMP:20260421T020259
CREATED:20250603T095219Z
LAST-MODIFIED:20250603T095219Z
UID:887444-1749463200-1749470400@bobruisk-library.by
SUMMARY:Краеведческий час “Што стварылі стагоддзі і захавалі нашы продкі” 6+
DESCRIPTION:
URL:https://bobruisk-library.by/event/%d0%ba%d1%80%d0%b0%d0%b5%d0%b2%d0%b5%d0%b4%d1%87%d0%b5%d1%81%d0%ba%d0%b8%d0%b9-%d1%87%d0%b0%d1%81-%d1%88%d1%82%d0%be-%d1%81%d1%82%d0%b2%d0%b0%d1%80%d1%8b%d0%bb%d1%96-%d1%81%d1%82%d0%b0%d0%b3/
LOCATION:ДБ №6 им. Н.А.Островского\, ул. Комсомольская\, 52\, Бобруйск\, 213826\, Беларусь
END:VEVENT
BEGIN:VEVENT
DTSTART;TZID=Europe/Moscow:20250609T110000
DTEND;TZID=Europe/Moscow:20250609T120000
DTSTAMP:20260421T020259
CREATED:20250603T074806Z
LAST-MODIFIED:20250603T074806Z
UID:887424-1749466800-1749470400@bobruisk-library.by
SUMMARY:Конкурсно-игровая программа «Мы встречаем праздник света\, праздник солнца\, праздник лета» 6+
DESCRIPTION:
URL:https://bobruisk-library.by/event/%d0%ba%d0%be%d0%bd%d0%ba%d1%83%d1%80%d1%81%d0%bd%d0%be-%d0%b8%d0%b3%d1%80%d0%be%d0%b2%d0%b0%d1%8f-%d0%bf%d1%80%d0%be%d0%b3%d1%80%d0%b0%d0%bc%d0%bc%d0%b0-%d0%bc%d1%8b-%d0%b2%d1%81%d1%82%d1%80-2/
LOCATION:ЦГБ им. М.Горького\, ул. Советская\, 64\, Бобруйск\, 213826\, Беларусь
END:VEVENT
END:VCALENDAR