BEGIN:VCALENDAR
VERSION:2.0
PRODID:-//Учреждение культуры &quot;Библиотечная система города Бобруйска&quot; - ECPv6.15.20//NONSGML v1.0//EN
CALSCALE:GREGORIAN
METHOD:PUBLISH
X-WR-CALNAME:Учреждение культуры &quot;Библиотечная система города Бобруйска&quot;
X-ORIGINAL-URL:https://bobruisk-library.by
X-WR-CALDESC:Мероприятия для Учреждение культуры &quot;Библиотечная система города Бобруйска&quot;
REFRESH-INTERVAL;VALUE=DURATION:PT1H
X-Robots-Tag:noindex
X-PUBLISHED-TTL:PT1H
BEGIN:VTIMEZONE
TZID:Europe/Moscow
BEGIN:STANDARD
TZOFFSETFROM:+0300
TZOFFSETTO:+0300
TZNAME:MSK
DTSTART:20240101T000000
END:STANDARD
END:VTIMEZONE
BEGIN:VEVENT
DTSTART;TZID=Europe/Moscow:20250923T140000
DTEND;TZID=Europe/Moscow:20250923T150000
DTSTAMP:20260421T013515
CREATED:20250917T054551Z
LAST-MODIFIED:20250917T054551Z
UID:888528-1758636000-1758639600@bobruisk-library.by
SUMMARY:Литературные сражения «Что? Где? Когда?»  6+
DESCRIPTION:
URL:https://bobruisk-library.by/event/%d0%bb%d0%b8%d1%82%d0%b5%d1%80%d0%b0%d1%82%d1%83%d1%80%d0%bd%d1%8b%d0%b5-%d1%81%d1%80%d0%b0%d0%b6%d0%b5%d0%bd%d0%b8%d1%8f-%d1%87%d1%82%d0%be-%d0%b3%d0%b4%d0%b5-%d0%ba%d0%be%d0%b3%d0%b4%d0%b0/
LOCATION:ГБ №16\, ул. Гагарина\, 31а\, Бобруйск\, 213810\, Беларусь
END:VEVENT
BEGIN:VEVENT
DTSTART;TZID=Europe/Moscow:20250924T120000
DTEND;TZID=Europe/Moscow:20250924T160000
DTSTAMP:20260421T013515
CREATED:20250917T055905Z
LAST-MODIFIED:20250917T055905Z
UID:888546-1758715200-1758729600@bobruisk-library.by
SUMMARY:Краеведческая викторина «Мой город  – моя история» (в рамках краеведческого проекта «Город\, который был\, есть\, будет») 6+
DESCRIPTION:
URL:https://bobruisk-library.by/event/%d0%ba%d1%80%d0%b0%d0%b5%d0%b2%d0%b5%d0%b4%d1%87%d0%b5%d1%81%d0%ba%d0%b0%d1%8f-%d0%b2%d0%b8%d0%ba%d1%82%d0%be%d1%80%d0%b8%d0%bd%d0%b0-%d0%bc%d0%be%d0%b9-%d0%b3%d0%be%d1%80%d0%be%d0%b4/
LOCATION:ЦДБ им. А.П.Гайдара\, ул. Урицкого\, 125\, Бобруйск\, 213809\, Беларусь
END:VEVENT
BEGIN:VEVENT
DTSTART;TZID=Europe/Moscow:20250924T130000
DTEND;TZID=Europe/Moscow:20250924T140000
DTSTAMP:20260421T013515
CREATED:20250917T055414Z
LAST-MODIFIED:20250917T055414Z
UID:888542-1758718800-1758722400@bobruisk-library.by
SUMMARY:Информационный час  «Пусть будет мир без  слёз» (21.09 – День мира) 6+
DESCRIPTION:
URL:https://bobruisk-library.by/event/%d0%b8%d0%bd%d1%84%d0%be%d1%80%d0%bc%d0%b0%d1%86%d0%b8%d0%be%d0%bd%d0%bd%d1%8b%d0%b9-%d1%87%d0%b0%d1%81-%d0%bf%d1%83%d1%81%d1%82%d1%8c-%d0%b1%d1%83%d0%b4%d0%b5%d1%82-%d0%bc%d0%b8%d1%80-%d0%b1/
LOCATION:ЦГБ им. М.Горького\, ул. Советская\, 64\, Бобруйск\, 213826\, Беларусь
END:VEVENT
BEGIN:VEVENT
DTSTART;TZID=Europe/Moscow:20250924T170000
DTEND;TZID=Europe/Moscow:20250924T180000
DTSTAMP:20260421T013515
CREATED:20250917T055018Z
LAST-MODIFIED:20250917T055018Z
UID:888538-1758733200-1758736800@bobruisk-library.by
SUMMARY:Лаборатория читательского вкуса «Территория чтения» 6+
DESCRIPTION:
URL:https://bobruisk-library.by/event/%d0%bb%d0%b0%d0%b1%d0%be%d1%80%d0%b0%d1%82%d0%be%d1%80%d0%b8%d1%8f-%d1%87%d0%b8%d1%82%d0%b0%d1%82%d0%b5%d0%bb%d1%8c%d1%81%d0%ba%d0%be%d0%b3%d0%be-%d0%b2%d0%ba%d1%83%d1%81%d0%b0-%d1%82%d0%b5-3/
LOCATION:ГБ №8 им. Е. Полоцкой\, ул. Минская\, 90\, Бобруйск\, 213828\, Беларусь
END:VEVENT
BEGIN:VEVENT
DTSTART;TZID=Europe/Moscow:20250925T100000
DTEND;TZID=Europe/Moscow:20250925T110000
DTSTAMP:20260421T013515
CREATED:20250918T074528Z
LAST-MODIFIED:20250918T074528Z
UID:888575-1758794400-1758798000@bobruisk-library.by
SUMMARY:"Азбука безопасности" (в рамках профилактической акции «Основы твоей безопасности» в рамках Единого дня безопасности) 6+
DESCRIPTION:
URL:https://bobruisk-library.by/event/%d0%b0%d0%b7%d0%b1%d1%83%d0%ba%d0%b0-%d0%b1%d0%b5%d0%b7%d0%be%d0%bf%d0%b0%d1%81%d0%bd%d0%be%d1%81%d1%82%d0%b8-%d0%b2-%d1%80%d0%b0%d0%bc%d0%ba%d0%b0%d1%85-%d0%bf%d1%80%d0%be%d1%84%d0%b8%d0%bb/
LOCATION:ГБ №4 им. Б.Микулича\, пр-т Строителей\, 56\, Бобруйск\, 213807\, Беларусь
END:VEVENT
BEGIN:VEVENT
DTSTART;TZID=Europe/Moscow:20250925T120000
DTEND;TZID=Europe/Moscow:20250925T124500
DTSTAMP:20260421T013515
CREATED:20250917T055939Z
LAST-MODIFIED:20250917T055939Z
UID:888548-1758801600-1758804300@bobruisk-library.by
SUMMARY:Урок безопасности «Ответственное поведение – залог безопасности» (в рамках Единого дня безопасности) 6+
DESCRIPTION:
URL:https://bobruisk-library.by/event/%d1%83%d1%80%d0%be%d0%ba-%d0%b1%d0%b5%d0%b7%d0%be%d0%bf%d0%b0%d1%81%d0%bd%d0%be%d1%81%d1%82%d0%b8-%d0%be%d1%82%d0%b2%d0%b5%d1%82%d1%81%d1%82%d0%b2%d0%b5%d0%bd%d0%bd%d0%be%d0%b5-%d0%bf%d0%be/
LOCATION:ЦДБ им. А.П.Гайдара\, ул. Урицкого\, 125\, Бобруйск\, 213809\, Беларусь
END:VEVENT
BEGIN:VEVENT
DTSTART;TZID=Europe/Moscow:20250925T120000
DTEND;TZID=Europe/Moscow:20250925T130000
DTSTAMP:20260421T013515
CREATED:20250917T054941Z
LAST-MODIFIED:20250917T054941Z
UID:888536-1758801600-1758805200@bobruisk-library.by
SUMMARY:Час безопасности «Законы улиц и дорог» 6+
DESCRIPTION:
URL:https://bobruisk-library.by/event/%d1%87%d0%b0%d1%81-%d0%b1%d0%b5%d0%b7%d0%be%d0%bf%d0%b0%d1%81%d0%bd%d0%be%d1%81%d1%82%d0%b8-%d0%b7%d0%b0%d0%ba%d0%be%d0%bd%d1%8b-%d1%83%d0%bb%d0%b8%d1%86-%d0%b8-%d0%b4%d0%be%d1%80%d0%be%d0%b3/
LOCATION:ГБ №8 им. Е. Полоцкой\, ул. Минская\, 90\, Бобруйск\, 213828\, Беларусь
END:VEVENT
BEGIN:VEVENT
DTSTART;TZID=Europe/Moscow:20250925T120000
DTEND;TZID=Europe/Moscow:20250925T130000
DTSTAMP:20260421T013515
CREATED:20250917T061049Z
LAST-MODIFIED:20250917T061049Z
UID:888552-1758801600-1758805200@bobruisk-library.by
SUMMARY:Библиотечная акция «Молодёжь читающая» 6+
DESCRIPTION:
URL:https://bobruisk-library.by/event/%d0%b1%d0%b8%d0%b1%d0%bb%d0%b8%d0%be%d1%82%d0%b5%d1%87%d0%bd%d0%b0%d1%8f-%d0%b0%d0%ba%d1%86%d0%b8%d1%8f-%d0%bc%d0%be%d0%bb%d0%be%d0%b4%d1%91%d0%b6%d1%8c-%d1%87%d0%b8%d1%82%d0%b0%d1%8e%d1%89/
LOCATION:ДБ № 5\, ул. 50 лет ВЛКСМ\, 19\, Бобруйск\, 213824\, Беларусь
END:VEVENT
BEGIN:VEVENT
DTSTART;TZID=Europe/Moscow:20250925T130000
DTEND;TZID=Europe/Moscow:20250925T140000
DTSTAMP:20260421T013515
CREATED:20250917T055540Z
LAST-MODIFIED:20250917T055540Z
UID:888544-1758805200-1758808800@bobruisk-library.by
SUMMARY:Воспитательный час  «Есть о чём  порассуждать» (в рамках единого дня безопасности) 6+
DESCRIPTION:
URL:https://bobruisk-library.by/event/%d0%b2%d0%be%d1%81%d0%bf%d0%b8%d1%82%d0%b0%d1%82%d0%b5%d0%bb%d1%8c%d0%bd%d1%8b%d0%b9-%d1%87%d0%b0%d1%81-%d0%b5%d1%81%d1%82%d1%8c-%d0%be-%d1%87%d1%91%d0%bc-%d0%bf%d0%be%d1%80%d0%b0%d1%81%d1%81/
LOCATION:ЦГБ им. М.Горького\, ул. Советская\, 64\, Бобруйск\, 213826\, Беларусь
END:VEVENT
BEGIN:VEVENT
DTSTART;TZID=Europe/Moscow:20250925T130000
DTEND;TZID=Europe/Moscow:20250925T140000
DTSTAMP:20260421T013515
CREATED:20250917T061150Z
LAST-MODIFIED:20250917T061150Z
UID:888554-1758805200-1758808800@bobruisk-library.by
SUMMARY:Эстафета безопасности «Дорога – зона повышенной опасности» (В рамках Единого дня безопасности) 6+
DESCRIPTION:
URL:https://bobruisk-library.by/event/%d1%8d%d1%81%d1%82%d0%b0%d1%84%d0%b5%d1%82%d0%b0-%d0%b1%d0%b5%d0%b7%d0%be%d0%bf%d0%b0%d1%81%d0%bd%d0%be%d1%81%d1%82%d0%b8-%d0%b4%d0%be%d1%80%d0%be%d0%b3%d0%b0-%d0%b7%d0%be%d0%bd%d0%b0/
LOCATION:ДБ № 5\, ул. 50 лет ВЛКСМ\, 19\, Бобруйск\, 213824\, Беларусь
END:VEVENT
BEGIN:VEVENT
DTSTART;TZID=Europe/Moscow:20250925T140000
DTEND;TZID=Europe/Moscow:20250925T150000
DTSTAMP:20260421T013515
CREATED:20250917T054621Z
LAST-MODIFIED:20250917T054621Z
UID:888530-1758808800-1758812400@bobruisk-library.by
SUMMARY:Час полезной информации «Наркотики: как противостоять риску» 6+
DESCRIPTION:
URL:https://bobruisk-library.by/event/%d1%87%d0%b0%d1%81-%d0%bf%d0%be%d0%bb%d0%b5%d0%b7%d0%bd%d0%be%d0%b9-%d0%b8%d0%bd%d1%84%d0%be%d1%80%d0%bc%d0%b0%d1%86%d0%b8%d0%b8-%d0%bd%d0%b0%d1%80%d0%ba%d0%be%d1%82%d0%b8%d0%ba%d0%b8-%d0%ba/
LOCATION:ГБ №16\, ул. Гагарина\, 31а\, Бобруйск\, 213810\, Беларусь
END:VEVENT
BEGIN:VEVENT
DTSTART;TZID=Europe/Moscow:20250926T100000
DTEND;TZID=Europe/Moscow:20250926T110000
DTSTAMP:20260421T013515
CREATED:20250917T054652Z
LAST-MODIFIED:20250917T054652Z
UID:888532-1758880800-1758884400@bobruisk-library.by
SUMMARY:Познавательно-игровая программа «Изучаем опасности\, чтобы жить в безопасности» 0+
DESCRIPTION:
URL:https://bobruisk-library.by/event/%d0%bf%d0%be%d0%b7%d0%bd%d0%b0%d0%b2%d0%b0%d1%82%d0%b5%d0%bb%d1%8c%d0%bd%d0%be-%d0%b8%d0%b3%d1%80%d0%be%d0%b2%d0%b0%d1%8f-%d0%bf%d1%80%d0%be%d0%b3%d1%80%d0%b0%d0%bc%d0%bc%d0%b0-%d0%b8%d0%b7/
LOCATION:ГБ №16\, ул. Гагарина\, 31а\, Бобруйск\, 213810\, Беларусь
END:VEVENT
BEGIN:VEVENT
DTSTART;TZID=Europe/Moscow:20250926T120000
DTEND;TZID=Europe/Moscow:20250926T130000
DTSTAMP:20260421T013515
CREATED:20250917T054746Z
LAST-MODIFIED:20250917T054746Z
UID:888534-1758888000-1758891600@bobruisk-library.by
SUMMARY:Видеотурне «Весь мир на ладони» (27.09. – Всемирный день туризма) 6+
DESCRIPTION:
URL:https://bobruisk-library.by/event/%d0%b2%d0%b8%d0%b4%d0%b5%d0%be%d1%82%d1%83%d1%80%d0%bd%d0%b5-%d0%b2%d0%b5%d1%81%d1%8c-%d0%bc%d0%b8%d1%80-%d0%bd%d0%b0-%d0%bb%d0%b0%d0%b4%d0%be%d0%bd%d0%b8-27-09-%d0%b2%d1%81/
LOCATION:ГБ им. А.С.Пушкина\, ул. Советская\, 87\, Бобруйск\, 213827\, Беларусь
END:VEVENT
BEGIN:VEVENT
DTSTART;TZID=Europe/Moscow:20250927T150000
DTEND;TZID=Europe/Moscow:20250927T160000
DTSTAMP:20260421T013515
CREATED:20250917T055058Z
LAST-MODIFIED:20250917T055058Z
UID:888540-1758985200-1758988800@bobruisk-library.by
SUMMARY:Выставка-обзор новой православной литературы «Духовной книги благодать» 6+
DESCRIPTION:
URL:https://bobruisk-library.by/event/%d0%b2%d1%8b%d1%81%d1%82%d0%b0%d0%b2%d0%ba%d0%b0-%d0%be%d0%b1%d0%b7%d0%be%d1%80-%d0%bd%d0%be%d0%b2%d0%be%d0%b9-%d0%bf%d1%80%d0%b0%d0%b2%d0%be%d1%81%d0%bb%d0%b0%d0%b2%d0%bd%d0%be%d0%b9-%d0%bb%d0%b8/
LOCATION:ГБ №8 им. Е. Полоцкой\, ул. Минская\, 90\, Бобруйск\, 213828\, Беларусь
END:VEVENT
BEGIN:VEVENT
DTSTART;TZID=Europe/Moscow:20250928T120000
DTEND;TZID=Europe/Moscow:20250928T150000
DTSTAMP:20260421T013515
CREATED:20250917T060022Z
LAST-MODIFIED:20250917T060022Z
UID:888550-1759060800-1759071600@bobruisk-library.by
SUMMARY:Викторина «Осенние дары природы» (в рамках работы Эко-Инфо-Центра) 6+
DESCRIPTION:
URL:https://bobruisk-library.by/event/%d0%b2%d0%b8%d0%ba%d1%82%d0%be%d1%80%d0%b8%d0%bd%d0%b0-%d0%be%d1%81%d0%b5%d0%bd%d0%bd%d0%b8%d0%b5-%d0%b4%d0%b0%d1%80%d1%8b-%d0%bf%d1%80%d0%b8%d1%80%d0%be%d0%b4%d1%8b-%d0%b2-%d1%80%d0%b0/
LOCATION:ЦДБ им. А.П.Гайдара\, ул. Урицкого\, 125\, Бобруйск\, 213809\, Беларусь
END:VEVENT
BEGIN:VEVENT
DTSTART;TZID=Europe/Moscow:20250929T120000
DTEND;TZID=Europe/Moscow:20250929T130000
DTSTAMP:20260421T013515
CREATED:20250924T085355Z
LAST-MODIFIED:20250924T085355Z
UID:888645-1759147200-1759150800@bobruisk-library.by
SUMMARY:Сказочно-игровая программа “ Волшебные  страницы” ( в рамках проекта “Билиотека растущего человека”) 6+
DESCRIPTION:
URL:https://bobruisk-library.by/event/%d1%81%d0%ba%d0%b0%d0%b7%d0%be%d1%87%d0%bd%d0%be-%d0%b8%d0%b3%d1%80%d0%be%d0%b2%d0%b0%d1%8f-%d0%bf%d1%80%d0%be%d0%b3%d1%80%d0%b0%d0%bc%d0%bc%d0%b0-%d0%b2%d0%be%d0%bb%d1%88%d0%b5%d0%b1%d0%bd/
LOCATION:ГБ №4 им. Б.Микулича\, пр-т Строителей\, 56\, Бобруйск\, 213807\, Беларусь
END:VEVENT
BEGIN:VEVENT
DTSTART;TZID=Europe/Moscow:20250929T130000
DTEND;TZID=Europe/Moscow:20250929T140000
DTSTAMP:20260421T013515
CREATED:20250923T111502Z
LAST-MODIFIED:20250923T111502Z
UID:888629-1759150800-1759154400@bobruisk-library.by
SUMMARY:Устный журнал «Бобруйский «Оазис» (СООО Оазис Груп) (20.09. – Международный день сока) 6+
DESCRIPTION:
URL:https://bobruisk-library.by/event/%d1%83%d1%81%d1%82%d0%bd%d1%8b%d0%b9-%d0%b6%d1%83%d1%80%d0%bd%d0%b0%d0%bb-%d0%b1%d0%be%d0%b1%d1%80%d1%83%d0%b9%d1%81%d0%ba%d0%b8%d0%b9-%d0%be%d0%b0%d0%b7%d0%b8%d1%81-%d1%81%d0%be/
LOCATION:ЦГБ им. М.Горького\, ул. Советская\, 64\, Бобруйск\, 213826\, Беларусь
END:VEVENT
BEGIN:VEVENT
DTSTART;TZID=Europe/Moscow:20250929T140000
DTEND;TZID=Europe/Moscow:20250929T150000
DTSTAMP:20260421T013515
CREATED:20250924T085459Z
LAST-MODIFIED:20250924T085459Z
UID:888647-1759154400-1759158000@bobruisk-library.by
SUMMARY:Праздничный калейдоскоп “Твори добро” (в рамках республиканской акции “Уважение. Забота. Ответственность.) 6+
DESCRIPTION:
URL:https://bobruisk-library.by/event/%d0%bf%d1%80%d0%b0%d0%b7%d0%b4%d0%bd%d0%b8%d1%87%d0%bd%d1%8b%d0%b9-%d0%ba%d0%b0%d0%bb%d0%b5%d0%b9%d0%b4%d0%be%d1%81%d0%ba%d0%be%d0%bf-%d1%82%d0%b2%d0%be%d1%80%d0%b8-%d0%b4%d0%be%d0%b1%d1%80/
LOCATION:ГБ №4 им. Б.Микулича\, пр-т Строителей\, 56\, Бобруйск\, 213807\, Беларусь
END:VEVENT
BEGIN:VEVENT
DTSTART;TZID=Europe/Moscow:20250930T120000
DTEND;TZID=Europe/Moscow:20250930T130000
DTSTAMP:20260421T013515
CREATED:20250923T110421Z
LAST-MODIFIED:20250923T110421Z
UID:888617-1759233600-1759237200@bobruisk-library.by
SUMMARY:Игровая программа  «Бабушки и дедушки:  наши друзья» (1 октября – Международный день пожилого человека) 6+
DESCRIPTION:
URL:https://bobruisk-library.by/event/%d0%b8%d0%b3%d1%80%d0%be%d0%b2%d0%b0%d1%8f-%d0%bf%d1%80%d0%be%d0%b3%d1%80%d0%b0%d0%bc%d0%bc%d0%b0-%d0%b1%d0%b0%d0%b1%d1%83%d1%88%d0%ba%d0%b8-%d0%b8-%d0%b4%d0%b5%d0%b4%d1%83%d1%88%d0%ba%d0%b8/
LOCATION:ГБ №8 им. Е. Полоцкой\, ул. Минская\, 90\, Бобруйск\, 213828\, Беларусь
END:VEVENT
BEGIN:VEVENT
DTSTART;TZID=Europe/Moscow:20250930T140000
DTEND;TZID=Europe/Moscow:20250930T150000
DTSTAMP:20260421T013515
CREATED:20250923T110451Z
LAST-MODIFIED:20250923T110451Z
UID:888619-1759240800-1759244400@bobruisk-library.by
SUMMARY:Час информации «Про  алкоголь: без мифов и  фейков» (3 октября – Всемирный трезвости и борьбы с алкоголизмом) (проект по ЗОЖ «Академия выживания») 6+
DESCRIPTION:
URL:https://bobruisk-library.by/event/%d1%87%d0%b0%d1%81-%d0%b8%d0%bd%d1%84%d0%be%d1%80%d0%bc%d0%b0%d1%86%d0%b8%d0%b8-%d0%bf%d1%80%d0%be-%d0%b0%d0%bb%d0%ba%d0%be%d0%b3%d0%be%d0%bb%d1%8c-%d0%b1%d0%b5%d0%b7-%d0%bc%d0%b8%d1%84%d0%be/
LOCATION:ГБ №8 им. Е. Полоцкой\, ул. Минская\, 90\, Бобруйск\, 213828\, Беларусь
END:VEVENT
BEGIN:VEVENT
DTSTART;VALUE=DATE:20251001
DTEND;VALUE=DATE:20251002
DTSTAMP:20260421T013515
CREATED:20250923T110522Z
LAST-MODIFIED:20250923T110522Z
UID:888621-1759276800-1759363199@bobruisk-library.by
SUMMARY:Акция-поздравление «Пусть годы будут золотыми» (1 октября –Международный день пожилого человека) 6+
DESCRIPTION:
URL:https://bobruisk-library.by/event/%d0%b0%d0%ba%d1%86%d0%b8%d1%8f-%d0%bf%d0%be%d0%b7%d0%b4%d1%80%d0%b0%d0%b2%d0%bb%d0%b5%d0%bd%d0%b8%d0%b5-%d0%bf%d1%83%d1%81%d1%82%d1%8c-%d0%b3%d0%be%d0%b4%d1%8b-%d0%b1%d1%83%d0%b4%d1%83%d1%82/
LOCATION:ГБ №8 им. Е. Полоцкой\, ул. Минская\, 90\, Бобруйск\, 213828\, Беларусь
END:VEVENT
BEGIN:VEVENT
DTSTART;VALUE=DATE:20251001
DTEND;VALUE=DATE:20251002
DTSTAMP:20260421T013515
CREATED:20250923T125336Z
LAST-MODIFIED:20250923T125336Z
UID:888634-1759276800-1759363199@bobruisk-library.by
SUMMARY:День добра и уважения "Души запасы золотые" (01.10 –День пожилых людей) 6+
DESCRIPTION:
URL:https://bobruisk-library.by/event/%d0%b4%d0%b5%d0%bd%d1%8c-%d0%b4%d0%be%d0%b1%d1%80%d0%b0-%d0%b8-%d1%83%d0%b2%d0%b0%d0%b6%d0%b5%d0%bd%d0%b8%d1%8f-%d0%b4%d1%83%d1%88%d0%b8-%d0%b7%d0%b0%d0%bf%d0%b0%d1%81%d1%8b-%d0%b7%d0%be%d0%bb%d0%be/
LOCATION:ГБ им. А.С.Пушкина\, ул. Советская\, 87\, Бобруйск\, 213827\, Беларусь
END:VEVENT
BEGIN:VEVENT
DTSTART;TZID=Europe/Moscow:20251001T120000
DTEND;TZID=Europe/Moscow:20251001T130000
DTSTAMP:20260421T013515
CREATED:20250923T105941Z
LAST-MODIFIED:20250923T105941Z
UID:888613-1759320000-1759323600@bobruisk-library.by
SUMMARY:Урок благодарности «Хорошо нам рядышком тс дедушкой и бабушкой» (01.10. – День пожилых людей; в рамках акции «Возраст мудрости\, тепла и доброты») 6+
DESCRIPTION:
URL:https://bobruisk-library.by/event/%d1%83%d1%80%d0%be%d0%ba-%d0%b1%d0%bb%d0%b0%d0%b3%d0%be%d0%b4%d0%b0%d1%80%d0%bd%d0%be%d1%81%d1%82%d0%b8-%d1%85%d0%be%d1%80%d0%be%d1%88%d0%be-%d0%bd%d0%b0%d0%bc-%d1%80%d1%8f%d0%b4%d1%8b%d1%88/
LOCATION:ГБ №16\, ул. Гагарина\, 31а\, Бобруйск\, 213810\, Беларусь
END:VEVENT
BEGIN:VEVENT
DTSTART;TZID=Europe/Moscow:20251001T150000
DTEND;TZID=Europe/Moscow:20251001T160000
DTSTAMP:20260421T013515
CREATED:20250923T111307Z
LAST-MODIFIED:20250923T111307Z
UID:888623-1759330800-1759334400@bobruisk-library.by
SUMMARY:Акция «Душой и сердцем молодые» (1 октября – День пожилого человека) 6+
DESCRIPTION:
URL:https://bobruisk-library.by/event/%d0%b0%d0%ba%d1%86%d0%b8%d1%8f-%d0%b4%d1%83%d1%88%d0%be%d0%b9-%d0%b8-%d1%81%d0%b5%d1%80%d0%b4%d1%86%d0%b5%d0%bc-%d0%bc%d0%be%d0%bb%d0%be%d0%b4%d1%8b%d0%b5-1-%d0%be%d0%ba%d1%82%d1%8f%d0%b1/
LOCATION:ЦДБ им. А.П.Гайдара\, ул. Урицкого\, 125\, Бобруйск\, 213809\, Беларусь
END:VEVENT
BEGIN:VEVENT
DTSTART;TZID=Europe/Moscow:20251002T110000
DTEND;TZID=Europe/Moscow:20251002T120000
DTSTAMP:20260421T013515
CREATED:20250923T111350Z
LAST-MODIFIED:20250923T111350Z
UID:888625-1759402800-1759406400@bobruisk-library.by
SUMMARY:Литературный час  «Жизнь моя\, иль ты  приснилась мне?» (3 октября – 130 лет со дня рождения Сергея Есенина (1895-1925); в рамках проекта «Территория равных возможностей») 6+
DESCRIPTION:
URL:https://bobruisk-library.by/event/%d0%bb%d0%b8%d1%82%d0%b5%d1%80%d0%b0%d1%82%d1%83%d1%80%d0%bd%d1%8b%d0%b9-%d1%87%d0%b0%d1%81-%d0%b6%d0%b8%d0%b7%d0%bd%d1%8c-%d0%bc%d0%be%d1%8f-%d0%b8%d0%bb%d1%8c-%d1%82%d1%8b-%d0%bf%d1%80/
LOCATION:ЦДБ им. А.П.Гайдара\, ул. Урицкого\, 125\, Бобруйск\, 213809\, Беларусь
END:VEVENT
BEGIN:VEVENT
DTSTART;TZID=Europe/Moscow:20251002T110000
DTEND;TZID=Europe/Moscow:20251002T120000
DTSTAMP:20260421T013515
CREATED:20250923T130829Z
LAST-MODIFIED:20250923T130829Z
UID:888636-1759402800-1759406400@bobruisk-library.by
SUMMARY:Час благодарности «Мы мудрости зрелой шлём низкий поклон» (Совместно с Первомайским районным общественным объединением ветеранов) 6+
DESCRIPTION:
URL:https://bobruisk-library.by/event/%d1%87%d0%b0%d1%81-%d0%b1%d0%bb%d0%b0%d0%b3%d0%be%d0%b4%d0%b0%d1%80%d0%bd%d0%be%d1%81%d1%82%d0%b8-%d0%bc%d1%8b-%d0%bc%d1%83%d0%b4%d1%80%d0%be%d1%81%d1%82%d0%b8-%d0%b7%d1%80%d0%b5%d0%bb%d0%be/
LOCATION:ДБ № 5\, ул. 50 лет ВЛКСМ\, 19\, Бобруйск\, 213824\, Беларусь
END:VEVENT
BEGIN:VEVENT
DTSTART;TZID=Europe/Moscow:20251002T140000
DTEND;TZID=Europe/Moscow:20251002T150000
DTSTAMP:20260421T013515
CREATED:20250923T110026Z
LAST-MODIFIED:20250923T110026Z
UID:888615-1759413600-1759417200@bobruisk-library.by
SUMMARY:Информационный час «Градусы риска» (03.10. – Всемирный день трезвости и борьбы с алкоголизмом) 6+
DESCRIPTION:
URL:https://bobruisk-library.by/event/%d0%b8%d0%bd%d1%84%d0%be%d1%80%d0%bc%d0%b0%d1%86%d0%b8%d0%be%d0%bd%d0%bd%d1%8b%d0%b9-%d1%87%d0%b0%d1%81-%d0%b3%d1%80%d0%b0%d0%b4%d1%83%d1%81%d1%8b-%d1%80%d0%b8%d1%81%d0%ba%d0%b0-03-10/
LOCATION:ГБ №16\, ул. Гагарина\, 31а\, Бобруйск\, 213810\, Беларусь
END:VEVENT
BEGIN:VEVENT
DTSTART;TZID=Europe/Moscow:20251003T120000
DTEND;TZID=Europe/Moscow:20251003T130000
DTSTAMP:20260421T013515
CREATED:20250923T125245Z
LAST-MODIFIED:20250923T125245Z
UID:888632-1759492800-1759496400@bobruisk-library.by
SUMMARY:Видеолекторий «Трезвость – норма жизни» 6+
DESCRIPTION:
URL:https://bobruisk-library.by/event/%d0%b2%d0%b8%d0%b4%d0%b5%d0%be%d0%bb%d0%b5%d0%ba%d1%82%d0%be%d1%80%d0%b8%d0%b9-%d1%82%d1%80%d0%b5%d0%b7%d0%b2%d0%be%d1%81%d1%82%d1%8c-%d0%bd%d0%be%d1%80%d0%bc%d0%b0-%d0%b6%d0%b8%d0%b7/
LOCATION:ГБ им. А.С.Пушкина\, ул. Советская\, 87\, Бобруйск\, 213827\, Беларусь
END:VEVENT
BEGIN:VEVENT
DTSTART;TZID=Europe/Moscow:20251003T120000
DTEND;TZID=Europe/Moscow:20251003T130000
DTSTAMP:20260421T013515
CREATED:20250924T085313Z
LAST-MODIFIED:20250924T085313Z
UID:888643-1759492800-1759496400@bobruisk-library.by
SUMMARY:Литературно- поэтический час “Есенина поёт нам осень…"(130 лет со дня рождения С.А.Есенина) 6+
DESCRIPTION:
URL:https://bobruisk-library.by/event/%d0%bb%d0%b8%d1%82%d0%b5%d1%80%d0%b0%d1%82%d1%83%d1%80%d0%bd%d0%be-%d0%bf%d0%be%d1%8d%d1%82%d0%b8%d1%87%d0%b5%d1%81%d0%ba%d0%b8%d0%b9-%d1%87%d0%b0%d1%81-%d0%b5%d1%81%d0%b5%d0%bd%d0%b8%d0%bd/
LOCATION:ГБ №4 им. Б.Микулича\, пр-т Строителей\, 56\, Бобруйск\, 213807\, Беларусь
END:VEVENT
BEGIN:VEVENT
DTSTART;TZID=Europe/Moscow:20251003T140000
DTEND;TZID=Europe/Moscow:20251003T150000
DTSTAMP:20260421T013515
CREATED:20250924T085240Z
LAST-MODIFIED:20250924T085240Z
UID:888641-1759500000-1759503600@bobruisk-library.by
SUMMARY:Информационный час “Моя безопасность в моих руках” 6+
DESCRIPTION:
URL:https://bobruisk-library.by/event/%d0%b8%d0%bd%d1%84%d0%be%d1%80%d0%bc%d0%b0%d1%86%d0%b8%d0%be%d0%bd%d0%bd%d1%8b%d0%b9-%d1%87%d0%b0%d1%81-%d0%bc%d0%be%d1%8f-%d0%b1%d0%b5%d0%b7%d0%be%d0%bf%d0%b0%d1%81%d0%bd%d0%be%d1%81%d1%82/
LOCATION:ГБ №4 им. Б.Микулича\, пр-т Строителей\, 56\, Бобруйск\, 213807\, Беларусь
END:VEVENT
END:VCALENDAR