BEGIN:VCALENDAR
VERSION:2.0
PRODID:-//Учреждение культуры &quot;Библиотечная система города Бобруйска&quot; - ECPv6.15.20//NONSGML v1.0//EN
CALSCALE:GREGORIAN
METHOD:PUBLISH
X-WR-CALNAME:Учреждение культуры &quot;Библиотечная система города Бобруйска&quot;
X-ORIGINAL-URL:https://bobruisk-library.by
X-WR-CALDESC:Мероприятия для Учреждение культуры &quot;Библиотечная система города Бобруйска&quot;
REFRESH-INTERVAL;VALUE=DURATION:PT1H
X-Robots-Tag:noindex
X-PUBLISHED-TTL:PT1H
BEGIN:VTIMEZONE
TZID:Europe/Moscow
BEGIN:STANDARD
TZOFFSETFROM:+0300
TZOFFSETTO:+0300
TZNAME:MSK
DTSTART:20240101T000000
END:STANDARD
END:VTIMEZONE
BEGIN:VEVENT
DTSTART;TZID=Europe/Moscow:20251024T160000
DTEND;TZID=Europe/Moscow:20251024T170000
DTSTAMP:20260420T210720
CREATED:20251014T074501Z
LAST-MODIFIED:20251014T074501Z
UID:888943-1761321600-1761325200@bobruisk-library.by
SUMMARY:Музыкально-поэтический час «Шепот осенних мелодий» (с участием ансамбля «Лира») 6+
DESCRIPTION:
URL:https://bobruisk-library.by/event/%d0%bc%d1%83%d0%b7%d1%8b%d0%ba%d0%b0%d0%bb%d1%8c%d0%bd%d0%be-%d0%bf%d0%be%d1%8d%d1%82%d0%b8%d1%87%d0%b5%d1%81%d0%ba%d0%b8%d0%b9-%d1%87%d0%b0%d1%81-%d1%88%d0%b5%d0%bf%d0%be%d1%82-%d0%be%d1%81/
LOCATION:ГБ им. А.С.Пушкина\, ул. Советская\, 87\, Бобруйск\, 213827\, Беларусь
END:VEVENT
BEGIN:VEVENT
DTSTART;TZID=Europe/Moscow:20251027T103000
DTEND;TZID=Europe/Moscow:20251027T113000
DTSTAMP:20260420T210720
CREATED:20251021T110038Z
LAST-MODIFIED:20251021T110038Z
UID:889038-1761561000-1761564600@bobruisk-library.by
SUMMARY:Библиопанорама «Библиотека знакомая и  незнакомая» 6+
DESCRIPTION:
URL:https://bobruisk-library.by/event/%d0%b1%d0%b8%d0%b1%d0%bb%d0%b8%d0%be%d0%bf%d0%b0%d0%bd%d0%be%d1%80%d0%b0%d0%bc%d0%b0-%d0%b1%d0%b8%d0%b1%d0%bb%d0%b8%d0%be%d1%82%d0%b5%d0%ba%d0%b0-%d0%b7%d0%bd%d0%b0%d0%ba%d0%be%d0%bc%d0%b0%d1%8f/
LOCATION:ГБ №8 им. Е. Полоцкой\, ул. Минская\, 90\, Бобруйск\, 213828\, Беларусь
END:VEVENT
BEGIN:VEVENT
DTSTART;TZID=Europe/Moscow:20251027T120000
DTEND;TZID=Europe/Moscow:20251027T130000
DTSTAMP:20260420T210720
CREATED:20251021T074649Z
LAST-MODIFIED:20251021T074649Z
UID:889032-1761566400-1761570000@bobruisk-library.by
SUMMARY:Урок толерантности «Инвалиды – не инвалиды: люди так не делятся» (в рамках цикла мероприятий и библиотечных выставок «И невозможное возможно…») 6+
DESCRIPTION:
URL:https://bobruisk-library.by/event/%d1%83%d1%80%d0%be%d0%ba-%d1%82%d0%be%d0%bb%d0%b5%d1%80%d0%b0%d0%bd%d1%82%d0%bd%d0%be%d1%81%d1%82%d0%b8-%d0%b8%d0%bd%d0%b2%d0%b0%d0%bb%d0%b8%d0%b4%d1%8b-%d0%bd%d0%b5-%d0%b8%d0%bd%d0%b2/
LOCATION:ГБ №16\, ул. Гагарина\, 31а\, Бобруйск\, 213810\, Беларусь
END:VEVENT
BEGIN:VEVENT
DTSTART;TZID=Europe/Moscow:20251027T153000
DTEND;TZID=Europe/Moscow:20251027T163000
DTSTAMP:20260420T210720
CREATED:20251021T110104Z
LAST-MODIFIED:20251021T110104Z
UID:889040-1761579000-1761582600@bobruisk-library.by
SUMMARY:Библиопанорама «Библиотека знакомая и  незнакомая» 6+
DESCRIPTION:
URL:https://bobruisk-library.by/event/%d0%b1%d0%b8%d0%b1%d0%bb%d0%b8%d0%be%d0%bf%d0%b0%d0%bd%d0%be%d1%80%d0%b0%d0%bc%d0%b0-%d0%b1%d0%b8%d0%b1%d0%bb%d0%b8%d0%be%d1%82%d0%b5%d0%ba%d0%b0-%d0%b7%d0%bd%d0%b0%d0%ba%d0%be%d0%bc%d0%b0%d1%8f-2/
LOCATION:ГБ №8 им. Е. Полоцкой\, ул. Минская\, 90\, Бобруйск\, 213828\, Беларусь
END:VEVENT
BEGIN:VEVENT
DTSTART;VALUE=DATE:20251028
DTEND;VALUE=DATE:20251029
DTSTAMP:20260420T210720
CREATED:20251021T122446Z
LAST-MODIFIED:20251021T122446Z
UID:889042-1761609600-1761695999@bobruisk-library.by
SUMMARY:Информминутка «Писатель\, верный своему времени» (к 125- летию со дня рождения А.А. Шогенцукова) 6+
DESCRIPTION:
URL:https://bobruisk-library.by/event/%d0%b8%d0%bd%d1%84%d0%be%d1%80%d0%bc%d0%bc%d0%b8%d0%bd%d1%83%d1%82%d0%ba%d0%b0-%d0%bf%d0%b8%d1%81%d0%b0%d1%82%d0%b5%d0%bb%d1%8c-%d0%b2%d0%b5%d1%80%d0%bd%d1%8b%d0%b9-%d1%81%d0%b2%d0%be%d0%b5/
LOCATION:ГБ №12\, ул. Бахарова\, 279\, Бобруйск\, Выберите штат:\, 213823\, Беларусь
END:VEVENT
BEGIN:VEVENT
DTSTART;VALUE=DATE:20251028
DTEND;VALUE=DATE:20251029
DTSTAMP:20260420T210720
CREATED:20251021T122545Z
LAST-MODIFIED:20251021T122545Z
UID:889044-1761609600-1761695999@bobruisk-library.by
SUMMARY:Тематическая беседа у выставки «Славный сын своего народа» (Международная акция «Единый день памяти «Живой родник кабардинской поэзии»» к 125-летию со дня рождения А. А. Шогенцукова) 6+
DESCRIPTION:
URL:https://bobruisk-library.by/event/%d1%82%d0%b5%d0%bc%d0%b0%d1%82%d0%b8%d1%87%d0%b5%d1%81%d0%ba%d0%b0%d1%8f-%d0%b1%d0%b5%d1%81%d0%b5%d0%b4%d0%b0-%d1%83-%d0%b2%d1%8b%d1%81%d1%82%d0%b0%d0%b2%d0%ba%d0%b8-%d1%81%d0%bb%d0%b0%d0%b2/
LOCATION:ГБ им. А.С.Пушкина\, ул. Советская\, 87\, Бобруйск\, 213827\, Беларусь
END:VEVENT
BEGIN:VEVENT
DTSTART;VALUE=DATE:20251028
DTEND;VALUE=DATE:20251029
DTSTAMP:20260420T210720
CREATED:20251021T123033Z
LAST-MODIFIED:20251021T123033Z
UID:889046-1761609600-1761695999@bobruisk-library.by
SUMMARY:Слайд-презентация «Тебя я не забуду\, Родина моя» к 125-летию со дня рождения А. А. Шогенцукова 6+
DESCRIPTION:
URL:https://bobruisk-library.by/event/%d1%81%d0%bb%d0%b0%d0%b9%d0%b4-%d0%bf%d1%80%d0%b5%d0%b7%d0%b5%d0%bd%d1%82%d0%b0%d1%86%d0%b8%d1%8f-%d1%82%d0%b5%d0%b1%d1%8f-%d1%8f-%d0%bd%d0%b5-%d0%b7%d0%b0%d0%b1%d1%83%d0%b4%d1%83-%d1%80%d0%be/
LOCATION:ДБ №6 им. Н.А.Островского\, ул. Комсомольская\, 52\, Бобруйск\, 213826\, Беларусь
END:VEVENT
BEGIN:VEVENT
DTSTART;VALUE=DATE:20251028
DTEND;VALUE=DATE:20251029
DTSTAMP:20260420T210720
CREATED:20251021T131049Z
LAST-MODIFIED:20251021T131049Z
UID:889058-1761609600-1761695999@bobruisk-library.by
SUMMARY:Литературная минутка "Слово об Али Шогенцукове" к 125-летию со дня рождения А. А. Шогенцукова 6+
DESCRIPTION:
URL:https://bobruisk-library.by/event/%d0%bb%d0%b8%d1%82%d0%b5%d1%80%d0%b0%d1%82%d1%83%d1%80%d0%bd%d0%b0%d1%8f-%d0%bc%d0%b8%d0%bd%d1%83%d1%82%d0%ba%d0%b0-%d1%81%d0%bb%d0%be%d0%b2%d0%be-%d0%be%d0%b1-%d0%b0%d0%bb%d0%b8-%d1%88%d0%be%d0%b3/
LOCATION:ГБ №8 им. Е. Полоцкой\, ул. Минская\, 90\, Бобруйск\, 213828\, Беларусь
END:VEVENT
BEGIN:VEVENT
DTSTART;TZID=Europe/Moscow:20251028T143000
DTEND;TZID=Europe/Moscow:20251028T153000
DTSTAMP:20260420T210720
CREATED:20251021T091605Z
LAST-MODIFIED:20251021T091605Z
UID:889034-1761661800-1761665400@bobruisk-library.by
SUMMARY:Поэтическая встреча «Был орлом он гордого Кавказа» (28.10. – 125 года со дня рождения Кабардино- балкарского поэта А.А. Шогенцукова) в рамках проекта «История двух стран в судьбе поэта» 6+
DESCRIPTION:
URL:https://bobruisk-library.by/event/%d0%bf%d0%be%d1%8d%d1%82%d0%b8%d1%87%d0%b5%d1%81%d0%ba%d0%b0%d1%8f-%d0%b2%d1%81%d1%82%d1%80%d0%b5%d1%87%d0%b0-%d0%b1%d1%8b%d0%bb-%d0%be%d1%80%d0%bb%d0%be%d0%bc-%d0%be%d0%bd-%d0%b3%d0%be%d1%80/
LOCATION:ГБ №7 им. А.А.Шогенцукова\, ул. Интернациональная\, 72в\, Бобруйск\, 213819
END:VEVENT
BEGIN:VEVENT
DTSTART;TZID=Europe/Moscow:20251028T145000
DTEND;TZID=Europe/Moscow:20251028T153000
DTSTAMP:20260420T210720
CREATED:20251021T130330Z
LAST-MODIFIED:20251021T130330Z
UID:889054-1761663000-1761665400@bobruisk-library.by
SUMMARY:Час памяти «Али  Шогенцуков – поэт\,  писатель\, воин» (к 125- летию со дня рождения А.Шогенцукова) 6+
DESCRIPTION:
URL:https://bobruisk-library.by/event/%d1%87%d0%b0%d1%81-%d0%bf%d0%b0%d0%bc%d1%8f%d1%82%d0%b8-%d0%b0%d0%bb%d0%b8-%d1%88%d0%be%d0%b3%d0%b5%d0%bd%d1%86%d1%83%d0%ba%d0%be%d0%b2-%d0%bf%d0%be%d1%8d%d1%82-%d0%bf%d0%b8%d1%81/
LOCATION:ЦДБ им. А.П.Гайдара\, ул. Урицкого\, 125\, Бобруйск\, 213809\, Беларусь
END:VEVENT
BEGIN:VEVENT
DTSTART;TZID=Europe/Moscow:20251030T143000
DTEND;TZID=Europe/Moscow:20251030T153000
DTSTAMP:20260420T210720
CREATED:20251021T091641Z
LAST-MODIFIED:20251021T091641Z
UID:889036-1761834600-1761838200@bobruisk-library.by
SUMMARY:Арт-знакомство «Андрей Бембель. Титан эпохи соцреализма» (к 120-летию со дня рождения белорусского советского скульптора) 6+
DESCRIPTION:
URL:https://bobruisk-library.by/event/%d0%b0%d1%80%d1%82-%d0%b7%d0%bd%d0%b0%d0%ba%d0%be%d0%bc%d1%81%d1%82%d0%b2%d0%be-%d0%b0%d0%bd%d0%b4%d1%80%d0%b5%d0%b9-%d0%b1%d0%b5%d0%bc%d0%b1%d0%b5%d0%bb%d1%8c-%d1%82%d0%b8%d1%82%d0%b0%d0%bd/
LOCATION:ГБ №7 им. А.А.Шогенцукова\, ул. Интернациональная\, 72в\, Бобруйск\, 213819
END:VEVENT
BEGIN:VEVENT
DTSTART;TZID=Europe/Moscow:20251031T105000
DTEND;TZID=Europe/Moscow:20251031T113000
DTSTAMP:20260420T210720
CREATED:20251021T130508Z
LAST-MODIFIED:20251021T130508Z
UID:889056-1761907800-1761910200@bobruisk-library.by
SUMMARY:Профилактическое занятие «Дорога и Я –  верные друзья» 6+
DESCRIPTION:
URL:https://bobruisk-library.by/event/%d0%bf%d1%80%d0%be%d1%84%d0%b8%d0%bb%d0%b0%d0%ba%d1%82%d0%b8%d1%87%d0%b5%d1%81%d0%ba%d0%be%d0%b5-%d0%b7%d0%b0%d0%bd%d1%8f%d1%82%d0%b8%d0%b5-%d0%b4%d0%be%d1%80%d0%be%d0%b3%d0%b0-%d0%b8-%d1%8f/
LOCATION:ЦДБ им. А.П.Гайдара\, ул. Урицкого\, 125\, Бобруйск\, 213809\, Беларусь
END:VEVENT
BEGIN:VEVENT
DTSTART;TZID=Europe/Moscow:20251103T100000
DTEND;TZID=Europe/Moscow:20251103T110000
DTSTAMP:20260420T210721
CREATED:20251029T053542Z
LAST-MODIFIED:20251029T053542Z
UID:889152-1762164000-1762167600@bobruisk-library.by
SUMMARY:Час безопасности «В  городе дорожных наук» 6+
DESCRIPTION:
URL:https://bobruisk-library.by/event/%d1%87%d0%b0%d1%81-%d0%b1%d0%b5%d0%b7%d0%be%d0%bf%d0%b0%d1%81%d0%bd%d0%be%d1%81%d1%82%d0%b8-%d0%b2-%d0%b3%d0%be%d1%80%d0%be%d0%b4%d0%b5-%d0%b4%d0%be%d1%80%d0%be%d0%b6%d0%bd%d1%8b%d1%85-%d0%bd/
LOCATION:ГБ №8 им. Е. Полоцкой\, ул. Минская\, 90\, Бобруйск\, 213828\, Беларусь
END:VEVENT
BEGIN:VEVENT
DTSTART;TZID=Europe/Moscow:20251103T110000
DTEND;TZID=Europe/Moscow:20251103T120000
DTSTAMP:20260420T210721
CREATED:20251028T113448Z
LAST-MODIFIED:20251028T113448Z
UID:889146-1762167600-1762171200@bobruisk-library.by
SUMMARY:Познавательно-развлекательный час «Без друга в жизни туго» 6+
DESCRIPTION:
URL:https://bobruisk-library.by/event/%d0%bf%d0%be%d0%b7%d0%bd%d0%b0%d0%b2%d0%b0%d1%82%d0%b5%d0%bb%d1%8c%d0%bd%d0%be-%d1%80%d0%b0%d0%b7%d0%b2%d0%bb%d0%b5%d0%ba%d0%b0%d1%82%d0%b5%d0%bb%d1%8c%d0%bd%d1%8b%d0%b9-%d1%87%d0%b0%d1%81-5/
LOCATION:ДБ №6 им. Н.А.Островского\, ул. Комсомольская\, 52\, Бобруйск\, 213826\, Беларусь
END:VEVENT
BEGIN:VEVENT
DTSTART;TZID=Europe/Moscow:20251104T100000
DTEND;TZID=Europe/Moscow:20251104T110000
DTSTAMP:20260420T210721
CREATED:20251029T053714Z
LAST-MODIFIED:20251029T053714Z
UID:889154-1762250400-1762254000@bobruisk-library.by
SUMMARY:Квест-игра «Веселая зоология» 6+
DESCRIPTION:
URL:https://bobruisk-library.by/event/%d0%ba%d0%b2%d0%b5%d1%81%d1%82-%d0%b8%d0%b3%d1%80%d0%b0-%d0%b2%d0%b5%d1%81%d0%b5%d0%bb%d0%b0%d1%8f-%d0%b7%d0%be%d0%be%d0%bb%d0%be%d0%b3%d0%b8%d1%8f-6/
LOCATION:ГБ №8 им. Е. Полоцкой\, ул. Минская\, 90\, Бобруйск\, 213828\, Беларусь
END:VEVENT
BEGIN:VEVENT
DTSTART;TZID=Europe/Moscow:20251104T103000
DTEND;TZID=Europe/Moscow:20251104T113000
DTSTAMP:20260420T210721
CREATED:20251028T094518Z
LAST-MODIFIED:20251028T094518Z
UID:889140-1762252200-1762255800@bobruisk-library.by
SUMMARY:Интерактивный медиачас «Поиск. Призвание. Профессия» 6+
DESCRIPTION:
URL:https://bobruisk-library.by/event/%d0%b8%d0%bd%d1%82%d0%b5%d1%80%d0%b0%d0%ba%d1%82%d0%b8%d0%b2%d0%bd%d1%8b%d0%b9-%d0%bc%d0%b5%d0%b4%d0%b8%d0%b0%d1%87%d0%b0%d1%81-%d0%bf%d0%be%d0%b8%d1%81%d0%ba-%d0%bf%d1%80%d0%b8%d0%b7%d0%b2/
LOCATION:ГБ №16\, ул. Гагарина\, 31а\, Бобруйск\, 213810\, Беларусь
END:VEVENT
BEGIN:VEVENT
DTSTART;TZID=Europe/Moscow:20251104T110000
DTEND;TZID=Europe/Moscow:20251104T120000
DTSTAMP:20260420T210721
CREATED:20251028T113355Z
LAST-MODIFIED:20251031T080650Z
UID:889144-1762254000-1762257600@bobruisk-library.by
SUMMARY:Поле чудес «С витаминами к здоровью» 6+
DESCRIPTION:
URL:https://bobruisk-library.by/event/%d0%bf%d0%be%d0%bb%d0%b5-%d1%87%d1%83%d0%b4%d0%b5%d1%81-%d1%81-%d0%b2%d0%b8%d1%82%d0%b0%d0%bc%d0%b8%d0%bd%d0%b0%d0%bc%d0%b8-%d0%ba-%d0%b7%d0%b4%d0%be%d1%80%d0%be%d0%b2%d1%8c%d1%8e-6/
LOCATION:ГБ №12\, ул. Бахарова\, 279\, Бобруйск\, Выберите штат:\, 213823\, Беларусь
END:VEVENT
BEGIN:VEVENT
DTSTART;TZID=Europe/Moscow:20251104T110000
DTEND;TZID=Europe/Moscow:20251104T120000
DTSTAMP:20260420T210721
CREATED:20251028T113519Z
LAST-MODIFIED:20251028T113519Z
UID:889148-1762254000-1762257600@bobruisk-library.by
SUMMARY:Час здоровья с игровой программой «Быть здоровым я хочу» 6+
DESCRIPTION:
URL:https://bobruisk-library.by/event/%d1%87%d0%b0%d1%81-%d0%b7%d0%b4%d0%be%d1%80%d0%be%d0%b2%d1%8c%d1%8f-%d1%81-%d0%b8%d0%b3%d1%80%d0%be%d0%b2%d0%be%d0%b9-%d0%bf%d1%80%d0%be%d0%b3%d1%80%d0%b0%d0%bc%d0%bc%d0%be%d0%b9-%d0%b1%d1%8b/
LOCATION:ДБ №6 им. Н.А.Островского\, ул. Комсомольская\, 52\, Бобруйск\, 213826\, Беларусь
END:VEVENT
BEGIN:VEVENT
DTSTART;TZID=Europe/Moscow:20251104T110000
DTEND;TZID=Europe/Moscow:20251104T150000
DTSTAMP:20260420T210721
CREATED:20251028T093635Z
LAST-MODIFIED:20251028T093635Z
UID:889136-1762254000-1762268400@bobruisk-library.by
SUMMARY:Журнальное ассорти  «Периодика – твой  друг\, поможет скоротать досуг» 6+
DESCRIPTION:
URL:https://bobruisk-library.by/event/%d0%b6%d1%83%d1%80%d0%bd%d0%b0%d0%bb%d1%8c%d0%bd%d0%be%d0%b5-%d0%b0%d1%81%d1%81%d0%be%d1%80%d1%82%d0%b8-%d0%bf%d0%b5%d1%80%d0%b8%d0%be%d0%b4%d0%b8%d0%ba%d0%b0-%d1%82%d0%b2%d0%be%d0%b9/
LOCATION:ЦДБ им. А.П.Гайдара\, ул. Урицкого\, 125\, Бобруйск\, 213809\, Беларусь
END:VEVENT
BEGIN:VEVENT
DTSTART;TZID=Europe/Moscow:20251105T100000
DTEND;TZID=Europe/Moscow:20251105T110000
DTSTAMP:20260420T210721
CREATED:20251028T094431Z
LAST-MODIFIED:20251028T094431Z
UID:889138-1762336800-1762340400@bobruisk-library.by
SUMMARY:Сказочная прогулка «Сказки-подсказки» 6+
DESCRIPTION:
URL:https://bobruisk-library.by/event/%d1%81%d0%ba%d0%b0%d0%b7%d0%be%d1%87%d0%bd%d0%b0%d1%8f-%d0%bf%d1%80%d0%be%d0%b3%d1%83%d0%bb%d0%ba%d0%b0-%d1%81%d0%ba%d0%b0%d0%b7%d0%ba%d0%b8-%d0%bf%d0%be%d0%b4%d1%81%d0%ba%d0%b0%d0%b7%d0%ba/
LOCATION:ГБ №16\, ул. Гагарина\, 31а\, Бобруйск\, 213810\, Беларусь
END:VEVENT
BEGIN:VEVENT
DTSTART;TZID=Europe/Moscow:20251105T100000
DTEND;TZID=Europe/Moscow:20251105T110000
DTSTAMP:20260420T210721
CREATED:20251029T053819Z
LAST-MODIFIED:20251029T053819Z
UID:889156-1762336800-1762340400@bobruisk-library.by
SUMMARY:Игровая программа «Чем  порадует нас осень» 6+
DESCRIPTION:
URL:https://bobruisk-library.by/event/%d0%b8%d0%b3%d1%80%d0%be%d0%b2%d0%b0%d1%8f-%d0%bf%d1%80%d0%be%d0%b3%d1%80%d0%b0%d0%bc%d0%bc%d0%b0-%d1%87%d0%b5%d0%bc-%d0%bf%d0%be%d1%80%d0%b0%d0%b4%d1%83%d0%b5%d1%82-%d0%bd%d0%b0%d1%81-%d0%be/
LOCATION:ГБ №8 им. Е. Полоцкой\, ул. Минская\, 90\, Бобруйск\, 213828\, Беларусь
END:VEVENT
BEGIN:VEVENT
DTSTART;TZID=Europe/Moscow:20251105T110000
DTEND;TZID=Europe/Moscow:20251105T120000
DTSTAMP:20260420T210721
CREATED:20251028T093235Z
LAST-MODIFIED:20251028T093235Z
UID:889132-1762340400-1762344000@bobruisk-library.by
SUMMARY:Час информации «Правила поведения в сети Интернет» 6+
DESCRIPTION:
URL:https://bobruisk-library.by/event/%d1%87%d0%b0%d1%81-%d0%b8%d0%bd%d1%84%d0%be%d1%80%d0%bc%d0%b0%d1%86%d0%b8%d0%b8-%d0%bf%d1%80%d0%b0%d0%b2%d0%b8%d0%bb%d0%b0-%d0%bf%d0%be%d0%b2%d0%b5%d0%b4%d0%b5%d0%bd%d0%b8%d1%8f-%d0%b2-%d1%81/
LOCATION:ГБ №7 им. А.А.Шогенцукова\, ул. Интернациональная\, 72в\, Бобруйск\, 213819
END:VEVENT
BEGIN:VEVENT
DTSTART;TZID=Europe/Moscow:20251105T110000
DTEND;TZID=Europe/Moscow:20251105T120000
DTSTAMP:20260420T210721
CREATED:20251029T114707Z
LAST-MODIFIED:20251029T114707Z
UID:889168-1762340400-1762344000@bobruisk-library.by
SUMMARY:Познавательно-развлекательное мероприятие “У книжки нет каникул” 6+
DESCRIPTION:
URL:https://bobruisk-library.by/event/%d0%bf%d0%be%d0%b7%d0%bd%d0%b0%d0%b2%d0%b0%d1%82%d0%b5%d0%bb%d1%8c%d0%bd%d0%be-%d1%80%d0%b0%d0%b7%d0%b2%d0%bb%d0%b5%d0%ba%d0%b0%d1%82%d0%b5%d0%bb%d1%8c%d0%bd%d0%be%d0%b5-%d0%bc%d0%b5%d1%80%d0%be%d0%bf/
LOCATION:ГБ №4 им. Б.Микулича\, пр-т Строителей\, 56\, Бобруйск\, 213807\, Беларусь
END:VEVENT
BEGIN:VEVENT
DTSTART;TZID=Europe/Moscow:20251105T110000
DTEND;TZID=Europe/Moscow:20251105T120000
DTSTAMP:20260420T210721
CREATED:20251104T095107Z
LAST-MODIFIED:20251104T095107Z
UID:889200-1762340400-1762344000@bobruisk-library.by
SUMMARY:Викторина «В мире сказок» 6+
DESCRIPTION:
URL:https://bobruisk-library.by/event/%d0%b2%d0%b8%d0%ba%d1%82%d0%be%d1%80%d0%b8%d0%bd%d0%b0-%d0%b2-%d0%bc%d0%b8%d1%80%d0%b5-%d1%81%d0%ba%d0%b0%d0%b7%d0%be%d0%ba-6/
LOCATION:ДБ № 5\, ул. 50 лет ВЛКСМ\, 19\, Бобруйск\, 213824\, Беларусь
END:VEVENT
BEGIN:VEVENT
DTSTART;TZID=Europe/Moscow:20251106T100000
DTEND;TZID=Europe/Moscow:20251106T110000
DTSTAMP:20260420T210721
CREATED:20251028T094617Z
LAST-MODIFIED:20251028T094617Z
UID:889142-1762423200-1762426800@bobruisk-library.by
SUMMARY:Информационный час «Нам жить и помнить» 6+
DESCRIPTION:
URL:https://bobruisk-library.by/event/%d0%b8%d0%bd%d1%84%d0%be%d1%80%d0%bc%d0%b0%d1%86%d0%b8%d0%be%d0%bd%d0%bd%d1%8b%d0%b9-%d1%87%d0%b0%d1%81-%d0%bd%d0%b0%d0%bc-%d0%b6%d0%b8%d1%82%d1%8c-%d0%b8-%d0%bf%d0%be%d0%bc%d0%bd%d0%b8%d1%82/
LOCATION:ГБ №16\, ул. Гагарина\, 31а\, Бобруйск\, 213810\, Беларусь
END:VEVENT
BEGIN:VEVENT
DTSTART;TZID=Europe/Moscow:20251106T100000
DTEND;TZID=Europe/Moscow:20251106T110000
DTSTAMP:20260420T210721
CREATED:20251029T053902Z
LAST-MODIFIED:20251029T053902Z
UID:889158-1762423200-1762426800@bobruisk-library.by
SUMMARY:Викторина-тест «Дядя Фёдор и компания» (по творчеству Э.Успенского) 6+
DESCRIPTION:
URL:https://bobruisk-library.by/event/%d0%b2%d0%b8%d0%ba%d1%82%d0%be%d1%80%d0%b8%d0%bd%d0%b0-%d1%82%d0%b5%d1%81%d1%82-%d0%b4%d1%8f%d0%b4%d1%8f-%d1%84%d1%91%d0%b4%d0%be%d1%80-%d0%b8-%d0%ba%d0%be%d0%bc%d0%bf%d0%b0%d0%bd%d0%b8%d1%8f/
LOCATION:ГБ №8 им. Е. Полоцкой\, ул. Минская\, 90\, Бобруйск\, 213828\, Беларусь
END:VEVENT
BEGIN:VEVENT
DTSTART;TZID=Europe/Moscow:20251106T110000
DTEND;TZID=Europe/Moscow:20251106T120000
DTSTAMP:20260420T210721
CREATED:20251028T093301Z
LAST-MODIFIED:20251028T093301Z
UID:889134-1762426800-1762430400@bobruisk-library.by
SUMMARY:Познавательно-развлекательный урок «Правила этикета для детей в любых жизненных ситуациях» 6+
DESCRIPTION:
URL:https://bobruisk-library.by/event/%d0%bf%d0%be%d0%b7%d0%bd%d0%b0%d0%b2%d0%b0%d1%82%d0%b5%d0%bb%d1%8c%d0%bd%d0%be-%d1%80%d0%b0%d0%b7%d0%b2%d0%bb%d0%b5%d0%ba%d0%b0%d1%82%d0%b5%d0%bb%d1%8c%d0%bd%d1%8b%d0%b9-%d1%83%d1%80%d0%be%d0%ba/
LOCATION:ГБ №7 им. А.А.Шогенцукова\, ул. Интернациональная\, 72в\, Бобруйск\, 213819
END:VEVENT
BEGIN:VEVENT
DTSTART;TZID=Europe/Moscow:20251106T110000
DTEND;TZID=Europe/Moscow:20251106T120000
DTSTAMP:20260420T210721
CREATED:20251028T113557Z
LAST-MODIFIED:20251028T113557Z
UID:889150-1762426800-1762430400@bobruisk-library.by
SUMMARY:Тематический урок-игра «Знает каждый: безопасность – это важно» 6+
DESCRIPTION:
URL:https://bobruisk-library.by/event/%d1%82%d0%b5%d0%bc%d0%b0%d1%82%d0%b8%d1%87%d0%b5%d1%81%d0%ba%d0%b8%d0%b9-%d1%83%d1%80%d0%be%d0%ba-%d0%b8%d0%b3%d1%80%d0%b0-%d0%b7%d0%bd%d0%b0%d0%b5%d1%82-%d0%ba%d0%b0%d0%b6%d0%b4%d1%8b%d0%b9/
LOCATION:ДБ №6 им. Н.А.Островского\, ул. Комсомольская\, 52\, Бобруйск\, 213826\, Беларусь
END:VEVENT
BEGIN:VEVENT
DTSTART;TZID=Europe/Moscow:20251106T110000
DTEND;TZID=Europe/Moscow:20251106T120000
DTSTAMP:20260420T210721
CREATED:20251104T095131Z
LAST-MODIFIED:20251104T095131Z
UID:889202-1762426800-1762430400@bobruisk-library.by
SUMMARY:Урок памяти «Дети военной поры» 6+
DESCRIPTION:
URL:https://bobruisk-library.by/event/%d1%83%d1%80%d0%be%d0%ba-%d0%bf%d0%b0%d0%bc%d1%8f%d1%82%d0%b8-%d0%b4%d0%b5%d1%82%d0%b8-%d0%b2%d0%be%d0%b5%d0%bd%d0%bd%d0%be%d0%b9-%d0%bf%d0%be%d1%80%d1%8b-6/
LOCATION:ДБ № 5\, ул. 50 лет ВЛКСМ\, 19\, Бобруйск\, 213824\, Беларусь
END:VEVENT
BEGIN:VEVENT
DTSTART;TZID=Europe/Moscow:20251111T100000
DTEND;TZID=Europe/Moscow:20251111T110000
DTSTAMP:20260420T210721
CREATED:20251104T081918Z
LAST-MODIFIED:20251104T081918Z
UID:889196-1762855200-1762858800@bobruisk-library.by
SUMMARY:Урок-игра «Правила дорожные – друзья надёжные» 6+
DESCRIPTION:
URL:https://bobruisk-library.by/event/%d1%83%d1%80%d0%be%d0%ba-%d0%b8%d0%b3%d1%80%d0%b0-%d0%bf%d1%80%d0%b0%d0%b2%d0%b8%d0%bb%d0%b0-%d0%b4%d0%be%d1%80%d0%be%d0%b6%d0%bd%d1%8b%d0%b5-%d0%b4%d1%80%d1%83%d0%b7%d1%8c%d1%8f/
LOCATION:ГБ №16\, ул. Гагарина\, 31а\, Бобруйск\, 213810\, Беларусь
END:VEVENT
END:VCALENDAR