BEGIN:VCALENDAR
VERSION:2.0
PRODID:-//Учреждение культуры &quot;Библиотечная система города Бобруйска&quot; - ECPv6.15.20//NONSGML v1.0//EN
CALSCALE:GREGORIAN
METHOD:PUBLISH
X-WR-CALNAME:Учреждение культуры &quot;Библиотечная система города Бобруйска&quot;
X-ORIGINAL-URL:https://bobruisk-library.by
X-WR-CALDESC:Мероприятия для Учреждение культуры &quot;Библиотечная система города Бобруйска&quot;
REFRESH-INTERVAL;VALUE=DURATION:PT1H
X-Robots-Tag:noindex
X-PUBLISHED-TTL:PT1H
BEGIN:VTIMEZONE
TZID:Europe/Moscow
BEGIN:STANDARD
TZOFFSETFROM:+0300
TZOFFSETTO:+0300
TZNAME:MSK
DTSTART:20240101T000000
END:STANDARD
END:VTIMEZONE
BEGIN:VEVENT
DTSTART;TZID=Europe/Moscow:20251106T100000
DTEND;TZID=Europe/Moscow:20251106T110000
DTSTAMP:20260420T192036
CREATED:20251028T094617Z
LAST-MODIFIED:20251028T094617Z
UID:889142-1762423200-1762426800@bobruisk-library.by
SUMMARY:Информационный час «Нам жить и помнить» 6+
DESCRIPTION:
URL:https://bobruisk-library.by/event/%d0%b8%d0%bd%d1%84%d0%be%d1%80%d0%bc%d0%b0%d1%86%d0%b8%d0%be%d0%bd%d0%bd%d1%8b%d0%b9-%d1%87%d0%b0%d1%81-%d0%bd%d0%b0%d0%bc-%d0%b6%d0%b8%d1%82%d1%8c-%d0%b8-%d0%bf%d0%be%d0%bc%d0%bd%d0%b8%d1%82/
LOCATION:ГБ №16\, ул. Гагарина\, 31а\, Бобруйск\, 213810\, Беларусь
END:VEVENT
BEGIN:VEVENT
DTSTART;TZID=Europe/Moscow:20251106T100000
DTEND;TZID=Europe/Moscow:20251106T110000
DTSTAMP:20260420T192036
CREATED:20251029T053902Z
LAST-MODIFIED:20251029T053902Z
UID:889158-1762423200-1762426800@bobruisk-library.by
SUMMARY:Викторина-тест «Дядя Фёдор и компания» (по творчеству Э.Успенского) 6+
DESCRIPTION:
URL:https://bobruisk-library.by/event/%d0%b2%d0%b8%d0%ba%d1%82%d0%be%d1%80%d0%b8%d0%bd%d0%b0-%d1%82%d0%b5%d1%81%d1%82-%d0%b4%d1%8f%d0%b4%d1%8f-%d1%84%d1%91%d0%b4%d0%be%d1%80-%d0%b8-%d0%ba%d0%be%d0%bc%d0%bf%d0%b0%d0%bd%d0%b8%d1%8f/
LOCATION:ГБ №8 им. Е. Полоцкой\, ул. Минская\, 90\, Бобруйск\, 213828\, Беларусь
END:VEVENT
BEGIN:VEVENT
DTSTART;TZID=Europe/Moscow:20251106T110000
DTEND;TZID=Europe/Moscow:20251106T120000
DTSTAMP:20260420T192036
CREATED:20251028T093301Z
LAST-MODIFIED:20251028T093301Z
UID:889134-1762426800-1762430400@bobruisk-library.by
SUMMARY:Познавательно-развлекательный урок «Правила этикета для детей в любых жизненных ситуациях» 6+
DESCRIPTION:
URL:https://bobruisk-library.by/event/%d0%bf%d0%be%d0%b7%d0%bd%d0%b0%d0%b2%d0%b0%d1%82%d0%b5%d0%bb%d1%8c%d0%bd%d0%be-%d1%80%d0%b0%d0%b7%d0%b2%d0%bb%d0%b5%d0%ba%d0%b0%d1%82%d0%b5%d0%bb%d1%8c%d0%bd%d1%8b%d0%b9-%d1%83%d1%80%d0%be%d0%ba/
LOCATION:ГБ №7 им. А.А.Шогенцукова\, ул. Интернациональная\, 72в\, Бобруйск\, 213819
END:VEVENT
BEGIN:VEVENT
DTSTART;TZID=Europe/Moscow:20251106T110000
DTEND;TZID=Europe/Moscow:20251106T120000
DTSTAMP:20260420T192036
CREATED:20251028T113557Z
LAST-MODIFIED:20251028T113557Z
UID:889150-1762426800-1762430400@bobruisk-library.by
SUMMARY:Тематический урок-игра «Знает каждый: безопасность – это важно» 6+
DESCRIPTION:
URL:https://bobruisk-library.by/event/%d1%82%d0%b5%d0%bc%d0%b0%d1%82%d0%b8%d1%87%d0%b5%d1%81%d0%ba%d0%b8%d0%b9-%d1%83%d1%80%d0%be%d0%ba-%d0%b8%d0%b3%d1%80%d0%b0-%d0%b7%d0%bd%d0%b0%d0%b5%d1%82-%d0%ba%d0%b0%d0%b6%d0%b4%d1%8b%d0%b9/
LOCATION:ДБ №6 им. Н.А.Островского\, ул. Комсомольская\, 52\, Бобруйск\, 213826\, Беларусь
END:VEVENT
BEGIN:VEVENT
DTSTART;TZID=Europe/Moscow:20251106T110000
DTEND;TZID=Europe/Moscow:20251106T120000
DTSTAMP:20260420T192036
CREATED:20251104T095131Z
LAST-MODIFIED:20251104T095131Z
UID:889202-1762426800-1762430400@bobruisk-library.by
SUMMARY:Урок памяти «Дети военной поры» 6+
DESCRIPTION:
URL:https://bobruisk-library.by/event/%d1%83%d1%80%d0%be%d0%ba-%d0%bf%d0%b0%d0%bc%d1%8f%d1%82%d0%b8-%d0%b4%d0%b5%d1%82%d0%b8-%d0%b2%d0%be%d0%b5%d0%bd%d0%bd%d0%be%d0%b9-%d0%bf%d0%be%d1%80%d1%8b-6/
LOCATION:ДБ № 5\, ул. 50 лет ВЛКСМ\, 19\, Бобруйск\, 213824\, Беларусь
END:VEVENT
BEGIN:VEVENT
DTSTART;TZID=Europe/Moscow:20251111T100000
DTEND;TZID=Europe/Moscow:20251111T110000
DTSTAMP:20260420T192036
CREATED:20251104T081918Z
LAST-MODIFIED:20251104T081918Z
UID:889196-1762855200-1762858800@bobruisk-library.by
SUMMARY:Урок-игра «Правила дорожные – друзья надёжные» 6+
DESCRIPTION:
URL:https://bobruisk-library.by/event/%d1%83%d1%80%d0%be%d0%ba-%d0%b8%d0%b3%d1%80%d0%b0-%d0%bf%d1%80%d0%b0%d0%b2%d0%b8%d0%bb%d0%b0-%d0%b4%d0%be%d1%80%d0%be%d0%b6%d0%bd%d1%8b%d0%b5-%d0%b4%d1%80%d1%83%d0%b7%d1%8c%d1%8f/
LOCATION:ГБ №16\, ул. Гагарина\, 31а\, Бобруйск\, 213810\, Беларусь
END:VEVENT
BEGIN:VEVENT
DTSTART;TZID=Europe/Moscow:20251112T110000
DTEND;TZID=Europe/Moscow:20251112T150000
DTSTAMP:20260420T192036
CREATED:20251104T115942Z
LAST-MODIFIED:20251104T115942Z
UID:889219-1762945200-1762959600@bobruisk-library.by
SUMMARY:Информационный урок  «Кибербуллинг. Прикольно или противоправно?» (в рамках работы информационно- образовательного центра) 6+
DESCRIPTION:
URL:https://bobruisk-library.by/event/%d0%b8%d0%bd%d1%84%d0%be%d1%80%d0%bc%d0%b0%d1%86%d0%b8%d0%be%d0%bd%d0%bd%d1%8b%d0%b9-%d1%83%d1%80%d0%be%d0%ba-%d0%ba%d0%b8%d0%b1%d0%b5%d1%80%d0%b1%d1%83%d0%bb%d0%bb%d0%b8%d0%bd%d0%b3-%d0%bf/
LOCATION:ЦДБ им. А.П.Гайдара\, ул. Урицкого\, 125\, Бобруйск\, 213809\, Беларусь
END:VEVENT
BEGIN:VEVENT
DTSTART;TZID=Europe/Moscow:20251112T153000
DTEND;TZID=Europe/Moscow:20251112T163000
DTSTAMP:20260420T192036
CREATED:20251104T095330Z
LAST-MODIFIED:20251104T095330Z
UID:889206-1762961400-1762965000@bobruisk-library.by
SUMMARY:Правовой час «Консультация специалиста» (Нотариусы Нотариальной конторы №2 Ленинского района г.Бобруйска) 6+
DESCRIPTION:
URL:https://bobruisk-library.by/event/%d0%bf%d1%80%d0%b0%d0%b2%d0%be%d0%b2%d0%be%d0%b9-%d1%87%d0%b0%d1%81-%d0%ba%d0%be%d0%bd%d1%81%d1%83%d0%bb%d1%8c%d1%82%d0%b0%d1%86%d0%b8%d1%8f-%d1%81%d0%bf%d0%b5%d1%86%d0%b8%d0%b0%d0%bb%d0%b8-13/
LOCATION:ГБ им. А.С.Пушкина\, ул. Советская\, 87\, Бобруйск\, 213827\, Беларусь
END:VEVENT
BEGIN:VEVENT
DTSTART;TZID=Europe/Moscow:20251113T140000
DTEND;TZID=Europe/Moscow:20251113T150000
DTSTAMP:20260420T192036
CREATED:20251104T120118Z
LAST-MODIFIED:20251104T120118Z
UID:889221-1763042400-1763046000@bobruisk-library.by
SUMMARY:Заочное путешествие «Места родные\, заповедные» (в рамках краеведческого проекта «Город\, который был\, есть\, будет») 6+
DESCRIPTION:
URL:https://bobruisk-library.by/event/%d0%b7%d0%b0%d0%be%d1%87%d0%bd%d0%be%d0%b5-%d0%bf%d1%83%d1%82%d0%b5%d1%88%d0%b5%d1%81%d1%82%d0%b2%d0%b8%d0%b5-%d0%bc%d0%b5%d1%81%d1%82%d0%b0-%d1%80%d0%be%d0%b4%d0%bd%d1%8b%d0%b5-%d0%b7%d0%b0/
LOCATION:ЦДБ им. А.П.Гайдара\, ул. Урицкого\, 125\, Бобруйск\, 213809\, Беларусь
END:VEVENT
BEGIN:VEVENT
DTSTART;TZID=Europe/Moscow:20251113T143000
DTEND;TZID=Europe/Moscow:20251113T153000
DTSTAMP:20260420T192036
CREATED:20251104T120234Z
LAST-MODIFIED:20251104T120234Z
UID:889223-1763044200-1763047800@bobruisk-library.by
SUMMARY:Час общения «Необычные люди в обычной жизни» в рамках месячника «Человек с белой тростью» 6+
DESCRIPTION:
URL:https://bobruisk-library.by/event/%d1%87%d0%b0%d1%81-%d0%be%d0%b1%d1%89%d0%b5%d0%bd%d0%b8%d1%8f-%d0%bd%d0%b5%d0%be%d0%b1%d1%8b%d1%87%d0%bd%d1%8b%d0%b5-%d0%bb%d1%8e%d0%b4%d0%b8-%d0%b2-%d0%be%d0%b1%d1%8b%d1%87%d0%bd%d0%be%d0%b9/
LOCATION:ГБ №7 им. А.А.Шогенцукова\, ул. Интернациональная\, 72в\, Бобруйск\, 213819
END:VEVENT
BEGIN:VEVENT
DTSTART;TZID=Europe/Moscow:20251114T103000
DTEND;TZID=Europe/Moscow:20251114T113000
DTSTAMP:20260420T192036
CREATED:20251104T081944Z
LAST-MODIFIED:20251104T081956Z
UID:889198-1763116200-1763119800@bobruisk-library.by
SUMMARY:Познавательная игра «ЭКОагенты спасают планету» 6+
DESCRIPTION:
URL:https://bobruisk-library.by/event/%d0%bf%d0%be%d0%b7%d0%bd%d0%b0%d0%b2%d0%b0%d1%82%d0%b5%d0%bb%d1%8c%d0%bd%d0%b0%d1%8f-%d0%b8%d0%b3%d1%80%d0%b0-%d1%8d%d0%ba%d0%be%d0%b0%d0%b3%d0%b5%d0%bd%d1%82%d1%8b-%d1%81%d0%bf%d0%b0%d1%81/
LOCATION:ГБ №16\, ул. Гагарина\, 31а\, Бобруйск\, 213810\, Беларусь
END:VEVENT
BEGIN:VEVENT
DTSTART;TZID=Europe/Moscow:20251115T100000
DTEND;TZID=Europe/Moscow:20251115T110000
DTSTAMP:20260420T192036
CREATED:20251111T075552Z
LAST-MODIFIED:20251111T075552Z
UID:889264-1763200800-1763204400@bobruisk-library.by
SUMMARY:Познавательная игра «ЭКОагенты спасают планету» 6+
DESCRIPTION:
URL:https://bobruisk-library.by/event/%d0%bf%d0%be%d0%b7%d0%bd%d0%b0%d0%b2%d0%b0%d1%82%d0%b5%d0%bb%d1%8c%d0%bd%d0%b0%d1%8f-%d0%b8%d0%b3%d1%80%d0%b0-%d1%8d%d0%ba%d0%be%d0%b0%d0%b3%d0%b5%d0%bd%d1%82%d1%8b-%d1%81%d0%bf%d0%b0%d1%81-2/
LOCATION:ГБ №16\, ул. Гагарина\, 31а\, Бобруйск\, 213810\, Беларусь
END:VEVENT
BEGIN:VEVENT
DTSTART;TZID=Europe/Moscow:20251115T140000
DTEND;TZID=Europe/Moscow:20251115T150000
DTSTAMP:20260420T192036
CREATED:20251104T095517Z
LAST-MODIFIED:20251104T095517Z
UID:889208-1763215200-1763218800@bobruisk-library.by
SUMMARY:Видеознакомство  Человек живого ума и большого сердца» (Н.А.Воронцова-Вельяминова) 6+
DESCRIPTION:
URL:https://bobruisk-library.by/event/%d0%b2%d0%b8%d0%b4%d0%b5%d0%be%d0%b7%d0%bd%d0%b0%d0%ba%d0%be%d0%bc%d1%81%d1%82%d0%b2%d0%be-%d1%87%d0%b5%d0%bb%d0%be%d0%b2%d0%b5%d0%ba-%d0%b6%d0%b8%d0%b2%d0%be%d0%b3%d0%be-%d1%83%d0%bc%d0%b0-%d0%b8/
LOCATION:ГБ им. А.С.Пушкина\, ул. Советская\, 87\, Бобруйск\, 213827\, Беларусь
END:VEVENT
BEGIN:VEVENT
DTSTART;TZID=Europe/Moscow:20251117T130000
DTEND;TZID=Europe/Moscow:20251117T140000
DTSTAMP:20260420T192036
CREATED:20251111T112038Z
LAST-MODIFIED:20251111T112038Z
UID:889286-1763384400-1763388000@bobruisk-library.by
SUMMARY:Час профилактики «Я и ПДД» (16.11. – Всемирный день памяти жертв дорожно-транспортных аварий 6+
DESCRIPTION:
URL:https://bobruisk-library.by/event/%d1%87%d0%b0%d1%81-%d0%bf%d1%80%d0%be%d1%84%d0%b8%d0%bb%d0%b0%d0%ba%d1%82%d0%b8%d0%ba%d0%b8-%d1%8f-%d0%b8-%d0%bf%d0%b4%d0%b4-16-11-%d0%b2%d1%81%d0%b5%d0%bc%d0%b8%d1%80%d0%bd/
LOCATION:ЦГБ им. М.Горького\, ул. Советская\, 64\, Бобруйск\, 213826\, Беларусь
END:VEVENT
BEGIN:VEVENT
DTSTART;TZID=Europe/Moscow:20251117T140000
DTEND;TZID=Europe/Moscow:20251117T150000
DTSTAMP:20260420T192036
CREATED:20251111T075506Z
LAST-MODIFIED:20251111T075506Z
UID:889262-1763388000-1763391600@bobruisk-library.by
SUMMARY:Информационная акция «Выбери жизнь без  табачного дыма»   6+
DESCRIPTION:
URL:https://bobruisk-library.by/event/%d0%b8%d0%bd%d1%84%d0%be%d1%80%d0%bc%d0%b0%d1%86%d0%b8%d0%be%d0%bd%d0%bd%d0%b0%d1%8f-%d0%b0%d0%ba%d1%86%d0%b8%d1%8f-%d0%b2%d1%8b%d0%b1%d0%b5%d1%80%d0%b8-%d0%b6%d0%b8%d0%b7%d0%bd%d1%8c-%d0%b1/
LOCATION:ГБ №16\, ул. Гагарина\, 31а\, Бобруйск\, 213810\, Беларусь
END:VEVENT
BEGIN:VEVENT
DTSTART;VALUE=DATE:20251118
DTEND;VALUE=DATE:20251119
DTSTAMP:20260420T192036
CREATED:20251111T110637Z
LAST-MODIFIED:20251111T110637Z
UID:889278-1763424000-1763510399@bobruisk-library.by
SUMMARY:Информационная беседа «Права и обязанности школьников» 6+
DESCRIPTION:
URL:https://bobruisk-library.by/event/%d0%b8%d0%bd%d1%84%d0%be%d1%80%d0%bc%d0%b0%d1%86%d0%b8%d0%be%d0%bd%d0%bd%d0%b0%d1%8f-%d0%b1%d0%b5%d1%81%d0%b5%d0%b4%d0%b0-%d0%bf%d1%80%d0%b0%d0%b2%d0%b0-%d0%b8-%d0%be%d0%b1%d1%8f%d0%b7%d0%b0/
LOCATION:ЦДБ им. А.П.Гайдара\, ул. Урицкого\, 125\, Бобруйск\, 213809\, Беларусь
END:VEVENT
BEGIN:VEVENT
DTSTART;TZID=Europe/Moscow:20251118T120000
DTEND;TZID=Europe/Moscow:20251118T130000
DTSTAMP:20260420T192036
CREATED:20251111T134811Z
LAST-MODIFIED:20251111T134811Z
UID:889297-1763467200-1763470800@bobruisk-library.by
SUMMARY:Интерактивный урок «Мой друг надёжный – знак дорожный» 6+
DESCRIPTION:
URL:https://bobruisk-library.by/event/%d0%b8%d0%bd%d1%82%d0%b5%d1%80%d0%b0%d0%ba%d1%82%d0%b8%d0%b2%d0%bd%d1%8b%d0%b9-%d1%83%d1%80%d0%be%d0%ba-%d0%bc%d0%be%d0%b9-%d0%b4%d1%80%d1%83%d0%b3-%d0%bd%d0%b0%d0%b4%d1%91%d0%b6%d0%bd%d1%8b/
LOCATION:ДБ № 5\, ул. 50 лет ВЛКСМ\, 19\, Бобруйск\, 213824\, Беларусь
END:VEVENT
BEGIN:VEVENT
DTSTART;TZID=Europe/Moscow:20251118T130000
DTEND;TZID=Europe/Moscow:20251118T140000
DTSTAMP:20260420T192036
CREATED:20251111T090746Z
LAST-MODIFIED:20251111T090746Z
UID:889266-1763470800-1763474400@bobruisk-library.by
SUMMARY:Урок правовых знаний «Ответственность за свои поступки» 6+
DESCRIPTION:
URL:https://bobruisk-library.by/event/%d1%83%d1%80%d0%be%d0%ba-%d0%bf%d1%80%d0%b0%d0%b2%d0%be%d0%b2%d1%8b%d1%85-%d0%b7%d0%bd%d0%b0%d0%bd%d0%b8%d0%b9-%d0%be%d1%82%d0%b2%d0%b5%d1%82%d1%81%d1%82%d0%b2%d0%b5%d0%bd%d0%bd%d0%be%d1%81/
LOCATION:ГБ им. А.С.Пушкина\, ул. Советская\, 87\, Бобруйск\, 213827\, Беларусь
END:VEVENT
BEGIN:VEVENT
DTSTART;TZID=Europe/Moscow:20251118T130000
DTEND;TZID=Europe/Moscow:20251118T140000
DTSTAMP:20260420T192036
CREATED:20251111T132758Z
LAST-MODIFIED:20251111T132758Z
UID:889293-1763470800-1763474400@bobruisk-library.by
SUMMARY:Литературно-правовой  час «Мои права – моя защита» (К Всемирному дню прав ребенка) 6+
DESCRIPTION:
URL:https://bobruisk-library.by/event/%d0%bb%d0%b8%d1%82%d0%b5%d1%80%d0%b0%d1%82%d1%83%d1%80%d0%bd%d0%be-%d0%bf%d1%80%d0%b0%d0%b2%d0%be%d0%b2%d0%be%d0%b9-%d1%87%d0%b0%d1%81-%d0%bc%d0%be%d0%b8-%d0%bf%d1%80%d0%b0%d0%b2%d0%b0/
LOCATION:ДБ №6 им. Н.А.Островского\, ул. Комсомольская\, 52\, Бобруйск\, 213826\, Беларусь
END:VEVENT
BEGIN:VEVENT
DTSTART;TZID=Europe/Moscow:20251118T140000
DTEND;TZID=Europe/Moscow:20251118T150000
DTSTAMP:20260420T192036
CREATED:20251111T090838Z
LAST-MODIFIED:20251111T090838Z
UID:889268-1763474400-1763478000@bobruisk-library.by
SUMMARY:Видеовикторина «Опасная дружба» (20.11. – Международный день отказа от курения) 6+
DESCRIPTION:
URL:https://bobruisk-library.by/event/%d0%b2%d0%b8%d0%b4%d0%b5%d0%be%d0%b2%d0%b8%d0%ba%d1%82%d0%be%d1%80%d0%b8%d0%bd%d0%b0-%d0%be%d0%bf%d0%b0%d1%81%d0%bd%d0%b0%d1%8f-%d0%b4%d1%80%d1%83%d0%b6%d0%b1%d0%b0-20-11/
LOCATION:ГБ им. А.С.Пушкина\, ул. Советская\, 87\, Бобруйск\, 213827\, Беларусь
END:VEVENT
BEGIN:VEVENT
DTSTART;TZID=Europe/Moscow:20251118T160000
DTEND;TZID=Europe/Moscow:20251118T170000
DTSTAMP:20260420T192036
CREATED:20251111T105823Z
LAST-MODIFIED:20251111T105823Z
UID:889274-1763481600-1763485200@bobruisk-library.by
SUMMARY:Православный час «Небесная заступница  земли белорусской» 6+
DESCRIPTION:
URL:https://bobruisk-library.by/event/%d0%bf%d1%80%d0%b0%d0%b2%d0%be%d1%81%d0%bb%d0%b0%d0%b2%d0%bd%d1%8b%d0%b9-%d1%87%d0%b0%d1%81-%d0%bd%d0%b5%d0%b1%d0%b5%d1%81%d0%bd%d0%b0%d1%8f-%d0%b7%d0%b0%d1%81%d1%82%d1%83%d0%bf%d0%bd%d0%b8/
LOCATION:ГБ №8 им. Е. Полоцкой\, ул. Минская\, 90\, Бобруйск\, 213828\, Беларусь
END:VEVENT
BEGIN:VEVENT
DTSTART;VALUE=DATE:20251119
DTEND;VALUE=DATE:20251120
DTSTAMP:20260420T192036
CREATED:20251111T090855Z
LAST-MODIFIED:20251111T090855Z
UID:889270-1763510400-1763596799@bobruisk-library.by
SUMMARY:Информационная акция «Права ребёнка – доступно и интересно» 6+
DESCRIPTION:
URL:https://bobruisk-library.by/event/%d0%b8%d0%bd%d1%84%d0%be%d1%80%d0%bc%d0%b0%d1%86%d0%b8%d0%be%d0%bd%d0%bd%d0%b0%d1%8f-%d0%b0%d0%ba%d1%86%d0%b8%d1%8f-%d0%bf%d1%80%d0%b0%d0%b2%d0%b0-%d1%80%d0%b5%d0%b1%d1%91%d0%bd%d0%ba%d0%b0/
LOCATION:ГБ им. А.С.Пушкина\, ул. Советская\, 87\, Бобруйск\, 213827\, Беларусь
END:VEVENT
BEGIN:VEVENT
DTSTART;VALUE=DATE:20251119
DTEND;VALUE=DATE:20251120
DTSTAMP:20260420T192036
CREATED:20251111T110811Z
LAST-MODIFIED:20251111T110811Z
UID:889280-1763510400-1763596799@bobruisk-library.by
SUMMARY:Экспресс-беседа «Ваш  труд должен быть безопасным» (в рамках дня Недели нулевого травматизма (17.11.- 21.11.2025)) 6+
DESCRIPTION:
URL:https://bobruisk-library.by/event/%d1%8d%d0%ba%d1%81%d0%bf%d1%80%d0%b5%d1%81%d1%81-%d0%b1%d0%b5%d1%81%d0%b5%d0%b4%d0%b0-%d0%b2%d0%b0%d1%88-%d1%82%d1%80%d1%83%d0%b4-%d0%b4%d0%be%d0%bb%d0%b6%d0%b5%d0%bd-%d0%b1%d1%8b%d1%82%d1%8c/
LOCATION:ЦДБ им. А.П.Гайдара\, ул. Урицкого\, 125\, Бобруйск\, 213809\, Беларусь
END:VEVENT
BEGIN:VEVENT
DTSTART;TZID=Europe/Moscow:20251119T080000
DTEND;TZID=Europe/Moscow:20251127T170000
DTSTAMP:20260420T192036
CREATED:20251111T110954Z
LAST-MODIFIED:20251111T110954Z
UID:889282-1763539200-1764262800@bobruisk-library.by
SUMMARY:Выставка работ  руководителя кружка ДПИ “Скарбніца” Прищеповой О.И. «Золотая соломка» (отдел традиционного искусства и ремёсел ГУК «Дворец искусств г. Бобруйска») 6+
DESCRIPTION:
URL:https://bobruisk-library.by/event/%d0%b2%d1%8b%d1%81%d1%82%d0%b0%d0%b2%d0%ba%d0%b0-%d1%80%d0%b0%d0%b1%d0%be%d1%82-%d1%80%d1%83%d0%ba%d0%be%d0%b2%d0%be%d0%b4%d0%b8%d1%82%d0%b5%d0%bb%d1%8f-%d0%ba%d1%80%d1%83%d0%b6%d0%ba%d0%b0-%d0%b4/
LOCATION:ЦДБ им. А.П.Гайдара\, ул. Урицкого\, 125\, Бобруйск\, 213809\, Беларусь
END:VEVENT
BEGIN:VEVENT
DTSTART;TZID=Europe/Moscow:20251119T120000
DTEND;TZID=Europe/Moscow:20251119T130000
DTSTAMP:20260420T192036
CREATED:20251111T110256Z
LAST-MODIFIED:20251111T110256Z
UID:889276-1763553600-1763557200@bobruisk-library.by
SUMMARY:Правовая игра «Маленьким людям – большие права» 6+
DESCRIPTION:
URL:https://bobruisk-library.by/event/%d0%bf%d1%80%d0%b0%d0%b2%d0%be%d0%b2%d0%b0%d1%8f-%d0%b8%d0%b3%d1%80%d0%b0-%d0%bc%d0%b0%d0%bb%d0%b5%d0%bd%d1%8c%d0%ba%d0%b8%d0%bc-%d0%bb%d1%8e%d0%b4%d1%8f%d0%bc-%d0%b1%d0%be%d0%bb%d1%8c/
LOCATION:ГБ №8 им. Е. Полоцкой\, ул. Минская\, 90\, Бобруйск\, 213828\, Беларусь
END:VEVENT
BEGIN:VEVENT
DTSTART;TZID=Europe/Moscow:20251119T130000
DTEND;TZID=Europe/Moscow:20251119T140000
DTSTAMP:20260420T192036
CREATED:20251111T112108Z
LAST-MODIFIED:20251113T073321Z
UID:889288-1763557200-1763560800@bobruisk-library.by
SUMMARY:Библиотечный урок «А где хранят вселенную?» (22.11. – День словарей и энциклопедий) 6+
DESCRIPTION:
URL:https://bobruisk-library.by/event/%d0%b1%d0%b8%d0%b1%d0%bb%d0%b8%d0%be%d1%82%d0%b5%d1%87%d0%bd%d1%8b%d0%b9-%d1%83%d1%80%d0%be%d0%ba-%d0%b0-%d0%b3%d0%b4%d0%b5-%d1%85%d1%80%d0%b0%d0%bd%d1%8f%d1%82-%d0%b2%d1%81%d0%b5%d0%bb%d0%b5/
LOCATION:ЦГБ им. М.Горького\, ул. Советская\, 64\, Бобруйск\, 213826\, Беларусь
END:VEVENT
BEGIN:VEVENT
DTSTART;TZID=Europe/Moscow:20251119T140000
DTEND;TZID=Europe/Moscow:20251119T150000
DTSTAMP:20260420T192036
CREATED:20251111T075334Z
LAST-MODIFIED:20251111T075334Z
UID:889258-1763560800-1763564400@bobruisk-library.by
SUMMARY:Час общения «Свобода и ответственность» (20.11. – Всемирный день ребёнка) 6+
DESCRIPTION:
URL:https://bobruisk-library.by/event/%d1%87%d0%b0%d1%81-%d0%be%d0%b1%d1%89%d0%b5%d0%bd%d0%b8%d1%8f-%d1%81%d0%b2%d0%be%d0%b1%d0%be%d0%b4%d0%b0-%d0%b8-%d0%be%d1%82%d0%b2%d0%b5%d1%82%d1%81%d1%82%d0%b2%d0%b5%d0%bd%d0%bd%d0%be%d1%81/
LOCATION:ГБ №7 им. А.А.Шогенцукова\, ул. Интернациональная\, 72в\, Бобруйск\, 213819
END:VEVENT
BEGIN:VEVENT
DTSTART;VALUE=DATE:20251120
DTEND;VALUE=DATE:20251121
DTSTAMP:20260420T192036
CREATED:20251111T090923Z
LAST-MODIFIED:20251111T090923Z
UID:889272-1763596800-1763683199@bobruisk-library.by
SUMMARY:Акция «Прочь курение! Мы – здоровое поколение!» 6+
DESCRIPTION:
URL:https://bobruisk-library.by/event/%d0%b0%d0%ba%d1%86%d0%b8%d1%8f-%d0%bf%d1%80%d0%be%d1%87%d1%8c-%d0%ba%d1%83%d1%80%d0%b5%d0%bd%d0%b8%d0%b5-%d0%bc%d1%8b-%d0%b7%d0%b4%d0%be%d1%80%d0%be%d0%b2%d0%be%d0%b5-%d0%bf%d0%be/
LOCATION:ГБ им. А.С.Пушкина\, ул. Советская\, 87\, Бобруйск\, 213827\, Беларусь
END:VEVENT
BEGIN:VEVENT
DTSTART;TZID=Europe/Moscow:20251120T110000
DTEND;TZID=Europe/Moscow:20251120T140000
DTSTAMP:20260420T192036
CREATED:20251111T132909Z
LAST-MODIFIED:20251111T132909Z
UID:889295-1763636400-1763647200@bobruisk-library.by
SUMMARY:Акция «Чтоб здоровым быть на свете\, скажем  «Нет!» мы сигарете» (20 ноября - Международный день отказа от курения) 6+
DESCRIPTION:
URL:https://bobruisk-library.by/event/%d0%b0%d0%ba%d1%86%d0%b8%d1%8f-%d1%87%d1%82%d0%be%d0%b1-%d0%b7%d0%b4%d0%be%d1%80%d0%be%d0%b2%d1%8b%d0%bc-%d0%b1%d1%8b%d1%82%d1%8c-%d0%bd%d0%b0-%d1%81%d0%b2%d0%b5%d1%82%d0%b5-%d1%81%d0%ba%d0%b0/
LOCATION:ДБ №6 им. Н.А.Островского\, ул. Комсомольская\, 52\, Бобруйск\, 213826\, Беларусь
END:VEVENT
BEGIN:VEVENT
DTSTART;TZID=Europe/Moscow:20251120T120000
DTEND;TZID=Europe/Moscow:20251120T130000
DTSTAMP:20260420T192036
CREATED:20251111T111104Z
LAST-MODIFIED:20251111T111104Z
UID:889284-1763640000-1763643600@bobruisk-library.by
SUMMARY:Урок здоровья с  участием кукольного театра «Петрушка» «Табак – наш враг» (к Международному дню отказа от курения) 6+
DESCRIPTION:
URL:https://bobruisk-library.by/event/%d1%83%d1%80%d0%be%d0%ba-%d0%b7%d0%b4%d0%be%d1%80%d0%be%d0%b2%d1%8c%d1%8f-%d1%81-%d1%83%d1%87%d0%b0%d1%81%d1%82%d0%b8%d0%b5%d0%bc-%d0%ba%d1%83%d0%ba%d0%be%d0%bb%d1%8c%d0%bd%d0%be%d0%b3%d0%be-%d1%82-2/
LOCATION:ЦДБ им. А.П.Гайдара\, ул. Урицкого\, 125\, Бобруйск\, 213809\, Беларусь
END:VEVENT
END:VCALENDAR