BEGIN:VCALENDAR
VERSION:2.0
PRODID:-//Учреждение культуры &quot;Библиотечная система города Бобруйска&quot; - ECPv6.15.20//NONSGML v1.0//EN
CALSCALE:GREGORIAN
METHOD:PUBLISH
X-WR-CALNAME:Учреждение культуры &quot;Библиотечная система города Бобруйска&quot;
X-ORIGINAL-URL:https://bobruisk-library.by
X-WR-CALDESC:Мероприятия для Учреждение культуры &quot;Библиотечная система города Бобруйска&quot;
REFRESH-INTERVAL;VALUE=DURATION:PT1H
X-Robots-Tag:noindex
X-PUBLISHED-TTL:PT1H
BEGIN:VTIMEZONE
TZID:Europe/Moscow
BEGIN:STANDARD
TZOFFSETFROM:+0300
TZOFFSETTO:+0300
TZNAME:MSK
DTSTART:20240101T000000
END:STANDARD
END:VTIMEZONE
BEGIN:VEVENT
DTSTART;TZID=Europe/Moscow:20251229T100000
DTEND;TZID=Europe/Moscow:20251229T110000
DTSTAMP:20260420T173854
CREATED:20251223T083537Z
LAST-MODIFIED:20251223T083537Z
UID:890645-1767002400-1767006000@bobruisk-library.by
SUMMARY:Праздничная программа «Новогодние огни приглашают в библиотеку» 6+
DESCRIPTION:
URL:https://bobruisk-library.by/event/%d0%bf%d1%80%d0%b0%d0%b7%d0%b4%d0%bd%d0%b8%d1%87%d0%bd%d0%b0%d1%8f-%d0%bf%d1%80%d0%be%d0%b3%d1%80%d0%b0%d0%bc%d0%bc%d0%b0-%d0%bd%d0%be%d0%b2%d0%be%d0%b3%d0%be%d0%b4%d0%bd%d0%b8%d0%b5-%d0%be-2/
LOCATION:ГБ №16\, ул. Гагарина\, 31а\, Бобруйск\, 213810\, Беларусь
END:VEVENT
BEGIN:VEVENT
DTSTART;TZID=Europe/Moscow:20251229T103000
DTEND;TZID=Europe/Moscow:20251229T113000
DTSTAMP:20260420T173854
CREATED:20251224T103024Z
LAST-MODIFIED:20251224T103024Z
UID:890668-1767004200-1767007800@bobruisk-library.by
SUMMARY:Новогодний калейдоскоп «Чудеса под Новый год» 6+
DESCRIPTION:
URL:https://bobruisk-library.by/event/%d0%bd%d0%be%d0%b2%d0%be%d0%b3%d0%be%d0%b4%d0%bd%d0%b8%d0%b9-%d0%ba%d0%b0%d0%bb%d0%b5%d0%b9%d0%b4%d0%be%d1%81%d0%ba%d0%be%d0%bf-%d1%87%d1%83%d0%b4%d0%b5%d1%81%d0%b0-%d0%bf%d0%be%d0%b4-%d0%bd/
LOCATION:ГБ №4 им. Б.Микулича\, пр-т Строителей\, 56\, Бобруйск\, 213807\, Беларусь
END:VEVENT
BEGIN:VEVENT
DTSTART;TZID=Europe/Moscow:20251230T100000
DTEND;TZID=Europe/Moscow:20251230T110000
DTSTAMP:20260420T173854
CREATED:20251223T083559Z
LAST-MODIFIED:20251223T083559Z
UID:890647-1767088800-1767092400@bobruisk-library.by
SUMMARY:Праздничная программа «Новогодние огни приглашают в библиотеку» 6+
DESCRIPTION:
URL:https://bobruisk-library.by/event/%d0%bf%d1%80%d0%b0%d0%b7%d0%b4%d0%bd%d0%b8%d1%87%d0%bd%d0%b0%d1%8f-%d0%bf%d1%80%d0%be%d0%b3%d1%80%d0%b0%d0%bc%d0%bc%d0%b0-%d0%bd%d0%be%d0%b2%d0%be%d0%b3%d0%be%d0%b4%d0%bd%d0%b8%d0%b5-%d0%be-3/
LOCATION:ГБ №16\, ул. Гагарина\, 31а\, Бобруйск\, 213810\, Беларусь
END:VEVENT
BEGIN:VEVENT
DTSTART;TZID=Europe/Moscow:20251230T100000
DTEND;TZID=Europe/Moscow:20251230T110000
DTSTAMP:20260420T173854
CREATED:20251223T125803Z
LAST-MODIFIED:20251223T125803Z
UID:890663-1767088800-1767092400@bobruisk-library.by
SUMMARY:Новогодний серпантин «Праздник елки и зимы с нетерпеньем ждали мы» 6+
DESCRIPTION:
URL:https://bobruisk-library.by/event/%d0%bd%d0%be%d0%b2%d0%be%d0%b3%d0%be%d0%b4%d0%bd%d0%b8%d0%b9-%d1%81%d0%b5%d1%80%d0%bf%d0%b0%d0%bd%d1%82%d0%b8%d0%bd-%d0%bf%d1%80%d0%b0%d0%b7%d0%b4%d0%bd%d0%b8%d0%ba-%d0%b5%d0%bb%d0%ba%d0%b8/
LOCATION:ДБ № 5\, ул. 50 лет ВЛКСМ\, 19\, Бобруйск\, 213824\, Беларусь
END:VEVENT
BEGIN:VEVENT
DTSTART;TZID=Europe/Moscow:20251230T110000
DTEND;TZID=Europe/Moscow:20251230T120000
DTSTAMP:20260420T173854
CREATED:20251223T080543Z
LAST-MODIFIED:20251223T080543Z
UID:890642-1767092400-1767096000@bobruisk-library.by
SUMMARY:Веселый ералаш «Какого  цвета Новый год?» (в рамках цикла Новогодние приключения в библиотеке «Зимней праздничной порой») 6+
DESCRIPTION:
URL:https://bobruisk-library.by/event/%d0%b2%d0%b5%d1%81%d0%b5%d0%bb%d1%8b%d0%b9-%d0%b5%d1%80%d0%b0%d0%bb%d0%b0%d1%88-%d0%ba%d0%b0%d0%ba%d0%be%d0%b3%d0%be-%d1%86%d0%b2%d0%b5%d1%82%d0%b0-%d0%bd%d0%be%d0%b2%d1%8b%d0%b9-%d0%b3%d0%be/
LOCATION:ГБ №8 им. Е. Полоцкой\, ул. Минская\, 90\, Бобруйск\, 213828\, Беларусь
END:VEVENT
BEGIN:VEVENT
DTSTART;TZID=Europe/Moscow:20251230T110000
DTEND;TZID=Europe/Moscow:20251230T120000
DTSTAMP:20260420T173854
CREATED:20251223T125847Z
LAST-MODIFIED:20251223T125847Z
UID:890665-1767092400-1767096000@bobruisk-library.by
SUMMARY:Интерактивная игра «Моя Беларусь» 6+
DESCRIPTION:
URL:https://bobruisk-library.by/event/%d0%b8%d0%bd%d1%82%d0%b5%d1%80%d0%b0%d0%ba%d1%82%d0%b8%d0%b2%d0%bd%d0%b0%d1%8f-%d0%b8%d0%b3%d1%80%d0%b0-%d0%bc%d0%be%d1%8f-%d0%b1%d0%b5%d0%bb%d0%b0%d1%80%d1%83%d1%81%d1%8c-6/
LOCATION:ДБ № 5\, ул. 50 лет ВЛКСМ\, 19\, Бобруйск\, 213824\, Беларусь
END:VEVENT
BEGIN:VEVENT
DTSTART;TZID=Europe/Moscow:20251230T130000
DTEND;TZID=Europe/Moscow:20251230T140000
DTSTAMP:20260420T173854
CREATED:20251223T120341Z
LAST-MODIFIED:20251223T120341Z
UID:890661-1767099600-1767103200@bobruisk-library.by
SUMMARY:Развлекательный час «Пусть праздник всем  подарит чудо» 6+
DESCRIPTION:
URL:https://bobruisk-library.by/event/%d1%80%d0%b0%d0%b7%d0%b2%d0%bb%d0%b5%d0%ba%d0%b0%d1%82%d0%b5%d0%bb%d1%8c%d0%bd%d1%8b%d0%b9-%d1%87%d0%b0%d1%81-%d0%bf%d1%83%d1%81%d1%82%d1%8c-%d0%bf%d1%80%d0%b0%d0%b7%d0%b4%d0%bd%d0%b8%d0%ba/
LOCATION:ЦГБ им. М.Горького\, ул. Советская\, 64\, Бобруйск\, 213826\, Беларусь
END:VEVENT
BEGIN:VEVENT
DTSTART;TZID=Europe/Moscow:20260105T100000
DTEND;TZID=Europe/Moscow:20260105T110000
DTSTAMP:20260420T173854
CREATED:20251231T054034Z
LAST-MODIFIED:20251231T054045Z
UID:890721-1767607200-1767610800@bobruisk-library.by
SUMMARY:Познавательно-развлекательный час «Новый год и Рождество – волшебство и колдовство» (в рамках цикла мероприятий «Зимней праздничной порой») 6+
DESCRIPTION:
URL:https://bobruisk-library.by/event/%d0%bf%d0%be%d0%b7%d0%bd%d0%b0%d0%b2%d0%b0%d1%82%d0%b5%d0%bb%d1%8c%d0%bd%d0%be-%d1%80%d0%b0%d0%b7%d0%b2%d0%bb%d0%b5%d0%ba%d0%b0%d1%82%d0%b5%d0%bb%d1%8c%d0%bd%d1%8b%d0%b9-%d1%87%d0%b0%d1%81-7/
END:VEVENT
BEGIN:VEVENT
DTSTART;TZID=Europe/Moscow:20260105T100000
DTEND;TZID=Europe/Moscow:20260105T110000
DTSTAMP:20260420T173854
CREATED:20251231T055748Z
LAST-MODIFIED:20251231T055748Z
UID:890730-1767607200-1767610800@bobruisk-library.by
SUMMARY:Новогодний квест «Сказки Деда Мороза» 6+
DESCRIPTION:
URL:https://bobruisk-library.by/event/%d0%bd%d0%be%d0%b2%d0%be%d0%b3%d0%be%d0%b4%d0%bd%d0%b8%d0%b9-%d0%ba%d0%b2%d0%b5%d1%81%d1%82-%d1%81%d0%ba%d0%b0%d0%b7%d0%ba%d0%b8-%d0%b4%d0%b5%d0%b4%d0%b0-%d0%bc%d0%be%d1%80%d0%be%d0%b7%d0%b0/
LOCATION:ГБ №8 им. Е. Полоцкой\, ул. Минская\, 90\, Бобруйск\, 213828\, Беларусь
END:VEVENT
BEGIN:VEVENT
DTSTART;TZID=Europe/Moscow:20260105T100000
DTEND;TZID=Europe/Moscow:20260105T110000
DTSTAMP:20260420T173854
CREATED:20251231T111630Z
LAST-MODIFIED:20251231T111630Z
UID:890745-1767607200-1767610800@bobruisk-library.by
SUMMARY:Развлекательная программа «Новогодние  минутки-сказки\, игры прибаутки» 6+
DESCRIPTION:
URL:https://bobruisk-library.by/event/%d1%80%d0%b0%d0%b7%d0%b2%d0%bb%d0%b5%d0%ba%d0%b0%d1%82%d0%b5%d0%bb%d1%8c%d0%bd%d0%b0%d1%8f-%d0%bf%d1%80%d0%be%d0%b3%d1%80%d0%b0%d0%bc%d0%bc%d0%b0-%d0%bd%d0%be%d0%b2%d0%be%d0%b3%d0%be%d0%b4%d0%bd/
LOCATION:ГБ №4 им. Б.Микулича\, пр-т Строителей\, 56\, Бобруйск\, 213807\, Беларусь
END:VEVENT
BEGIN:VEVENT
DTSTART;TZID=Europe/Moscow:20260106T100000
DTEND;TZID=Europe/Moscow:20260106T110000
DTSTAMP:20260420T173854
CREATED:20251231T055900Z
LAST-MODIFIED:20251231T055900Z
UID:890732-1767693600-1767697200@bobruisk-library.by
SUMMARY:Час православных знаний «Радость Рождества» 6+
DESCRIPTION:
URL:https://bobruisk-library.by/event/%d1%87%d0%b0%d1%81-%d0%bf%d1%80%d0%b0%d0%b2%d0%be%d1%81%d0%bb%d0%b0%d0%b2%d0%bd%d1%8b%d1%85-%d0%b7%d0%bd%d0%b0%d0%bd%d0%b8%d0%b9-%d1%80%d0%b0%d0%b4%d0%be%d1%81%d1%82%d1%8c-%d1%80%d0%be%d0%b6/
LOCATION:ГБ №8 им. Е. Полоцкой\, ул. Минская\, 90\, Бобруйск\, 213828\, Беларусь
END:VEVENT
BEGIN:VEVENT
DTSTART;TZID=Europe/Moscow:20260106T110000
DTEND;TZID=Europe/Moscow:20260106T120000
DTSTAMP:20260420T173854
CREATED:20251231T060113Z
LAST-MODIFIED:20251231T060113Z
UID:890736-1767697200-1767700800@bobruisk-library.by
SUMMARY:Игра-путешествие «Новогодние приключения в стране литературных героев» 6+
DESCRIPTION:
URL:https://bobruisk-library.by/event/%d0%b8%d0%b3%d1%80%d0%b0-%d0%bf%d1%83%d1%82%d0%b5%d1%88%d0%b5%d1%81%d1%82%d0%b2%d0%b8%d0%b5-%d0%bd%d0%be%d0%b2%d0%be%d0%b3%d0%be%d0%b4%d0%bd%d0%b8%d0%b5-%d0%bf%d1%80%d0%b8%d0%ba%d0%bb%d1%8e/
LOCATION:ЦДБ им. А.П.Гайдара\, ул. Урицкого\, 125\, Бобруйск\, 213809\, Беларусь
END:VEVENT
BEGIN:VEVENT
DTSTART;TZID=Europe/Moscow:20260106T113000
DTEND;TZID=Europe/Moscow:20260106T123000
DTSTAMP:20260420T173854
CREATED:20251231T053857Z
LAST-MODIFIED:20251231T053857Z
UID:890719-1767699000-1767702600@bobruisk-library.by
SUMMARY:Познавательно-развлекательный час «Волшебство на Рождество» (07.11. – Рождество Христово) 6+
DESCRIPTION:
URL:https://bobruisk-library.by/event/%d0%bf%d0%be%d0%b7%d0%bd%d0%b0%d0%b2%d0%b0%d1%82%d0%b5%d0%bb%d1%8c%d0%bd%d0%be-%d1%80%d0%b0%d0%b7%d0%b2%d0%bb%d0%b5%d0%ba%d0%b0%d1%82%d0%b5%d0%bb%d1%8c%d0%bd%d1%8b%d0%b9-%d1%87%d0%b0%d1%81-6/
END:VEVENT
BEGIN:VEVENT
DTSTART;TZID=Europe/Moscow:20260106T120000
DTEND;TZID=Europe/Moscow:20260106T130000
DTSTAMP:20260420T173854
CREATED:20251231T055604Z
LAST-MODIFIED:20251231T055604Z
UID:890726-1767700800-1767704400@bobruisk-library.by
SUMMARY:Познавательно-игровой час «Благословен тот день и час» (07.01. – Рождество Христово) 6+
DESCRIPTION:
URL:https://bobruisk-library.by/event/%d0%bf%d0%be%d0%b7%d0%bd%d0%b0%d0%b2%d0%b0%d1%82%d0%b5%d0%bb%d1%8c%d0%bd%d0%be-%d0%b8%d0%b3%d1%80%d0%be%d0%b2%d0%be%d0%b9-%d1%87%d0%b0%d1%81-%d0%b1%d0%bb%d0%b0%d0%b3%d0%be%d1%81%d0%bb%d0%be/
LOCATION:ГБ им. А.С.Пушкина\, ул. Советская\, 87\, Бобруйск\, 213827\, Беларусь
END:VEVENT
BEGIN:VEVENT
DTSTART;TZID=Europe/Moscow:20260106T120000
DTEND;TZID=Europe/Moscow:20260106T130000
DTSTAMP:20260420T173854
CREATED:20251231T060156Z
LAST-MODIFIED:20251231T060156Z
UID:890738-1767700800-1767704400@bobruisk-library.by
SUMMARY:Встреча-сюрприз «Сделаем детство счастливым вместе!» (в рамках новогодней благотворительной акции «Наши дети») 6+
DESCRIPTION:
URL:https://bobruisk-library.by/event/%d0%b2%d1%81%d1%82%d1%80%d0%b5%d1%87%d0%b0-%d1%81%d1%8e%d1%80%d0%bf%d1%80%d0%b8%d0%b7-%d1%81%d0%b4%d0%b5%d0%bb%d0%b0%d0%b5%d0%bc-%d0%b4%d0%b5%d1%82%d1%81%d1%82%d0%b2%d0%be-%d1%81%d1%87%d0%b0/
LOCATION:ЦДБ им. А.П.Гайдара\, ул. Урицкого\, 125\, Бобруйск\, 213809\, Беларусь
END:VEVENT
BEGIN:VEVENT
DTSTART;TZID=Europe/Moscow:20260106T140000
DTEND;TZID=Europe/Moscow:20260106T150000
DTSTAMP:20260420T173854
CREATED:20251231T111757Z
LAST-MODIFIED:20251231T111757Z
UID:890747-1767708000-1767711600@bobruisk-library.by
SUMMARY:Акция «Чудеса на  Рождество» 6+
DESCRIPTION:
URL:https://bobruisk-library.by/event/%d0%b0%d0%ba%d1%86%d0%b8%d1%8f-%d1%87%d1%83%d0%b4%d0%b5%d1%81%d0%b0-%d0%bd%d0%b0-%d1%80%d0%be%d0%b6%d0%b4%d0%b5%d1%81%d1%82%d0%b2%d0%be-6/
LOCATION:ГБ №4 им. Б.Микулича\, пр-т Строителей\, 56\, Бобруйск\, 213807\, Беларусь
END:VEVENT
BEGIN:VEVENT
DTSTART;TZID=Europe/Moscow:20260108T110000
DTEND;TZID=Europe/Moscow:20260108T120000
DTSTAMP:20260420T173854
CREATED:20251231T111915Z
LAST-MODIFIED:20251231T111915Z
UID:890749-1767870000-1767873600@bobruisk-library.by
SUMMARY:Час подарков «Подарим  радость детям» 6+
DESCRIPTION:
URL:https://bobruisk-library.by/event/%d1%87%d0%b0%d1%81-%d0%bf%d0%be%d0%b4%d0%b0%d1%80%d0%ba%d0%be%d0%b2-%d0%bf%d0%be%d0%b4%d0%b0%d1%80%d0%b8%d0%bc-%d1%80%d0%b0%d0%b4%d0%be%d1%81%d1%82%d1%8c-%d0%b4%d0%b5%d1%82%d1%8f%d0%bc-6/
LOCATION:ГБ №4 им. Б.Микулича\, пр-т Строителей\, 56\, Бобруйск\, 213807\, Беларусь
END:VEVENT
BEGIN:VEVENT
DTSTART;TZID=Europe/Moscow:20260108T150000
DTEND;TZID=Europe/Moscow:20260108T160000
DTSTAMP:20260420T173854
CREATED:20251231T055943Z
LAST-MODIFIED:20251231T055943Z
UID:890734-1767884400-1767888000@bobruisk-library.by
SUMMARY:Час православных знаний «Радость Рождества» 6+
DESCRIPTION:
URL:https://bobruisk-library.by/event/%d1%87%d0%b0%d1%81-%d0%bf%d1%80%d0%b0%d0%b2%d0%be%d1%81%d0%bb%d0%b0%d0%b2%d0%bd%d1%8b%d1%85-%d0%b7%d0%bd%d0%b0%d0%bd%d0%b8%d0%b9-%d1%80%d0%b0%d0%b4%d0%be%d1%81%d1%82%d1%8c-%d1%80%d0%be%d0%b6-2/
LOCATION:ГБ №8 им. Е. Полоцкой\, ул. Минская\, 90\, Бобруйск\, 213828\, Беларусь
END:VEVENT
BEGIN:VEVENT
DTSTART;TZID=Europe/Moscow:20260109T130000
DTEND;TZID=Europe/Moscow:20260109T140000
DTSTAMP:20260420T173854
CREATED:20251231T054850Z
LAST-MODIFIED:20251231T054850Z
UID:890724-1767963600-1767967200@bobruisk-library.by
SUMMARY:Литературно-игровой час «Рождества волшебные мгновенья» (07.01. – Рождество Христово) 6+
DESCRIPTION:
URL:https://bobruisk-library.by/event/%d0%bb%d0%b8%d1%82%d0%b5%d1%80%d0%b0%d1%82%d1%83%d1%80%d0%bd%d0%be-%d0%b8%d0%b3%d1%80%d0%be%d0%b2%d0%be%d0%b9-%d1%87%d0%b0%d1%81-%d1%80%d0%be%d0%b6%d0%b4%d0%b5%d1%81%d1%82%d0%b2%d0%b0-%d0%b2/
LOCATION:ЦГБ им. М.Горького\, ул. Советская\, 64\, Бобруйск\, 213826\, Беларусь
END:VEVENT
BEGIN:VEVENT
DTSTART;TZID=Europe/Moscow:20260109T153000
DTEND;TZID=Europe/Moscow:20260109T163000
DTSTAMP:20260420T173854
CREATED:20251231T055637Z
LAST-MODIFIED:20251231T055637Z
UID:890728-1767972600-1767976200@bobruisk-library.by
SUMMARY:Правовой час «Консультация специалиста» (Нотариусы Нотариальной конторы №2 Ленинского района г. Бобруйска) 6+
DESCRIPTION:
URL:https://bobruisk-library.by/event/%d0%bf%d1%80%d0%b0%d0%b2%d0%be%d0%b2%d0%be%d0%b9-%d1%87%d0%b0%d1%81-%d0%ba%d0%be%d0%bd%d1%81%d1%83%d0%bb%d1%8c%d1%82%d0%b0%d1%86%d0%b8%d1%8f-%d1%81%d0%bf%d0%b5%d1%86%d0%b8%d0%b0%d0%bb%d0%b8-14/
LOCATION:ГБ им. А.С.Пушкина\, ул. Советская\, 87\, Бобруйск\, 213827\, Беларусь
END:VEVENT
BEGIN:VEVENT
DTSTART;VALUE=DATE:20260112
DTEND;VALUE=DATE:20260113
DTSTAMP:20260420T173854
CREATED:20260108T054214Z
LAST-MODIFIED:20260108T054214Z
UID:890782-1768176000-1768262399@bobruisk-library.by
SUMMARY:Минутки добра «Согреем душу тёплым словом» (в рамках республиканской акции «От всей души»)
DESCRIPTION:
URL:https://bobruisk-library.by/event/%d0%bc%d0%b8%d0%bd%d1%83%d1%82%d0%ba%d0%b8-%d0%b4%d0%be%d0%b1%d1%80%d0%b0-%d1%81%d0%be%d0%b3%d1%80%d0%b5%d0%b5%d0%bc-%d0%b4%d1%83%d1%88%d1%83-%d1%82%d1%91%d0%bf%d0%bb%d1%8b%d0%bc-%d1%81%d0%bb/
LOCATION:ГБ №8 им. Е. Полоцкой\, ул. Минская\, 90\, Бобруйск\, 213828\, Беларусь
END:VEVENT
BEGIN:VEVENT
DTSTART;TZID=Europe/Moscow:20260112T110000
DTEND;TZID=Europe/Moscow:20260112T120000
DTSTAMP:20260420T173854
CREATED:20260108T121439Z
LAST-MODIFIED:20260108T121439Z
UID:890802-1768215600-1768219200@bobruisk-library.by
SUMMARY:Новогодний калейдоскоп «Время сказочных идей» 6+
DESCRIPTION:
URL:https://bobruisk-library.by/event/%d0%bd%d0%be%d0%b2%d0%be%d0%b3%d0%be%d0%b4%d0%bd%d0%b8%d0%b9-%d0%ba%d0%b0%d0%bb%d0%b5%d0%b9%d0%b4%d0%be%d1%81%d0%ba%d0%be%d0%bf-%d0%b2%d1%80%d0%b5%d0%bc%d1%8f-%d1%81%d0%ba%d0%b0%d0%b7%d0%be/
LOCATION:ДБ № 5\, ул. 50 лет ВЛКСМ\, 19\, Бобруйск\, 213824\, Беларусь
END:VEVENT
BEGIN:VEVENT
DTSTART;TZID=Europe/Moscow:20260112T120000
DTEND;TZID=Europe/Moscow:20260112T130000
DTSTAMP:20260420T173854
CREATED:20260108T054020Z
LAST-MODIFIED:20260108T054020Z
UID:890774-1768219200-1768222800@bobruisk-library.by
SUMMARY:Эковояж «По  заповедным местам» 6+
DESCRIPTION:
URL:https://bobruisk-library.by/event/%d1%8d%d0%ba%d0%be%d0%b2%d0%be%d1%8f%d0%b6-%d0%bf%d0%be-%d0%b7%d0%b0%d0%bf%d0%be%d0%b2%d0%b5%d0%b4%d0%bd%d1%8b%d0%bc-%d0%bc%d0%b5%d1%81%d1%82%d0%b0%d0%bc-6/
LOCATION:ГБ №16\, ул. Гагарина\, 31а\, Бобруйск\, 213810\, Беларусь
END:VEVENT
BEGIN:VEVENT
DTSTART;VALUE=DATE:20260113
DTEND;VALUE=DATE:20260118
DTSTAMP:20260420T173854
CREATED:20260108T054648Z
LAST-MODIFIED:20260108T054648Z
UID:890791-1768262400-1768694399@bobruisk-library.by
SUMMARY:Акция-загадка «Читаем  зимним вечером» 6+
DESCRIPTION:
URL:https://bobruisk-library.by/event/%d0%b0%d0%ba%d1%86%d0%b8%d1%8f-%d0%b7%d0%b0%d0%b3%d0%b0%d0%b4%d0%ba%d0%b0-%d1%87%d0%b8%d1%82%d0%b0%d0%b5%d0%bc-%d0%b7%d0%b8%d0%bc%d0%bd%d0%b8%d0%bc-%d0%b2%d0%b5%d1%87%d0%b5%d1%80%d0%be%d0%bc/
LOCATION:ЦДБ им. А.П.Гайдара\, ул. Урицкого\, 125\, Бобруйск\, 213809\, Беларусь
END:VEVENT
BEGIN:VEVENT
DTSTART;TZID=Europe/Moscow:20260113T120000
DTEND;TZID=Europe/Moscow:20260113T130000
DTSTAMP:20260420T173854
CREATED:20260108T121523Z
LAST-MODIFIED:20260109T113608Z
UID:890804-1768305600-1768309200@bobruisk-library.by
SUMMARY:Литературно-музыкальная встреча «С уважением и признательностью» (в рамках новогодней благотворительной акции «От всей души») 6+
DESCRIPTION:
URL:https://bobruisk-library.by/event/%d1%87%d0%b0%d1%81-%d0%b4%d0%be%d0%b1%d1%80%d1%8b%d1%85-%d0%b4%d0%b5%d0%bb-%d1%81-%d1%83%d0%b2%d0%b0%d0%b6%d0%b5%d0%bd%d0%b8%d0%b5%d0%bc-%d0%b8-%d0%bf%d1%80%d0%b8%d0%b7%d0%bd%d0%b0%d1%82%d0%b5/
LOCATION:ДБ № 5\, ул. 50 лет ВЛКСМ\, 19\, Бобруйск\, 213824\, Беларусь
END:VEVENT
BEGIN:VEVENT
DTSTART;TZID=Europe/Moscow:20260114T141500
DTEND;TZID=Europe/Moscow:20260114T150000
DTSTAMP:20260420T173854
CREATED:20260108T054323Z
LAST-MODIFIED:20260108T054323Z
UID:890784-1768400100-1768402800@bobruisk-library.by
SUMMARY:Патриотический час «Беларусь – страна героев!» 6+
DESCRIPTION:
URL:https://bobruisk-library.by/event/%d0%bf%d0%b0%d1%82%d1%80%d0%b8%d0%be%d1%82%d0%b8%d1%87%d0%b5%d1%81%d0%ba%d0%b8%d0%b9-%d1%87%d0%b0%d1%81-%d0%b1%d0%b5%d0%bb%d0%b0%d1%80%d1%83%d1%81%d1%8c-%d1%81%d1%82%d1%80%d0%b0%d0%bd/
LOCATION:ГБ №8 им. Е. Полоцкой\, ул. Минская\, 90\, Бобруйск\, 213828\, Беларусь
END:VEVENT
BEGIN:VEVENT
DTSTART;TZID=Europe/Moscow:20260115T130000
DTEND;TZID=Europe/Moscow:20260115T140000
DTSTAMP:20260420T173854
CREATED:20260108T054747Z
LAST-MODIFIED:20260108T054747Z
UID:890793-1768482000-1768485600@bobruisk-library.by
SUMMARY:Заочное путешествие  «Заповедная красота  природы» (ко Дню заповедников и национальных парков; в рамках работы Эко-Инфо-Центра) 6+
DESCRIPTION:
URL:https://bobruisk-library.by/event/%d0%b7%d0%b0%d0%be%d1%87%d0%bd%d0%be%d0%b5-%d0%bf%d1%83%d1%82%d0%b5%d1%88%d0%b5%d1%81%d1%82%d0%b2%d0%b8%d0%b5-%d0%b7%d0%b0%d0%bf%d0%be%d0%b2%d0%b5%d0%b4%d0%bd%d0%b0%d1%8f-%d0%ba%d1%80%d0%b0/
LOCATION:ЦДБ им. А.П.Гайдара\, ул. Урицкого\, 125\, Бобруйск\, 213809\, Беларусь
END:VEVENT
BEGIN:VEVENT
DTSTART;TZID=Europe/Moscow:20260115T140000
DTEND;TZID=Europe/Moscow:20260115T150000
DTSTAMP:20260420T173854
CREATED:20260108T054820Z
LAST-MODIFIED:20260108T054820Z
UID:890795-1768485600-1768489200@bobruisk-library.by
SUMMARY:Краеведческое путешествие «Бобруйск. История под каждой крышей» в рамках проекта «Мой край родной – моя история живая» 6+
DESCRIPTION:
URL:https://bobruisk-library.by/event/%d0%ba%d1%80%d0%b0%d0%b5%d0%b2%d0%b5%d0%b4%d1%87%d0%b5%d1%81%d0%ba%d0%be%d0%b5-%d0%bf%d1%83%d1%82%d0%b5%d1%88%d0%b5%d1%81%d1%82%d0%b2%d0%b8%d0%b5-%d0%b1%d0%be%d0%b1%d1%80%d1%83%d0%b9%d1%81%d0%ba-3/
LOCATION:ГБ №7 им. А.А.Шогенцукова\, ул. Интернациональная\, 72в\, Бобруйск\, 213819
END:VEVENT
BEGIN:VEVENT
DTSTART;TZID=Europe/Moscow:20260115T143000
DTEND;TZID=Europe/Moscow:20260115T153000
DTSTAMP:20260420T173854
CREATED:20260108T054402Z
LAST-MODIFIED:20260108T054402Z
UID:890788-1768487400-1768491000@bobruisk-library.by
SUMMARY:Патриотический час «Беларусь – страна героев!» 6+
DESCRIPTION:
URL:https://bobruisk-library.by/event/%d0%bf%d0%b0%d1%82%d1%80%d0%b8%d0%be%d1%82%d0%b8%d1%87%d0%b5%d1%81%d0%ba%d0%b8%d0%b9-%d1%87%d0%b0%d1%81-%d0%b1%d0%b5%d0%bb%d0%b0%d1%80%d1%83%d1%81%d1%8c-%d1%81%d1%82%d1%80%d0%b0%d0%bd-2/
LOCATION:ГБ №8 им. Е. Полоцкой\, ул. Минская\, 90\, Бобруйск\, 213828\, Беларусь
END:VEVENT
BEGIN:VEVENT
DTSTART;TZID=Europe/Moscow:20260116T120000
DTEND;TZID=Europe/Moscow:20260116T130000
DTSTAMP:20260420T173854
CREATED:20260108T121328Z
LAST-MODIFIED:20260108T121328Z
UID:890800-1768564800-1768568400@bobruisk-library.by
SUMMARY:Беседа- профилактика “Правила безопасного поведения в Интернете( в рамках информационных часов ”Чем опасен Интернет”)(основы безопасного поведения) 6+
DESCRIPTION:
URL:https://bobruisk-library.by/event/%d0%b1%d0%b5%d1%81%d0%b5%d0%b4%d0%b0-%d0%bf%d1%80%d0%be%d1%84%d0%b8%d0%bb%d0%b0%d0%ba%d1%82%d0%b8%d0%ba%d0%b0-%d0%bf%d1%80%d0%b0%d0%b2%d0%b8%d0%bb%d0%b0-%d0%b1%d0%b5%d0%b7%d0%be%d0%bf%d0%b0/
LOCATION:ГБ №4 им. Б.Микулича\, пр-т Строителей\, 56\, Бобруйск\, 213807\, Беларусь
END:VEVENT
END:VCALENDAR