BEGIN:VCALENDAR
VERSION:2.0
PRODID:-//Учреждение культуры &quot;Библиотечная система города Бобруйска&quot; - ECPv6.15.20//NONSGML v1.0//EN
CALSCALE:GREGORIAN
METHOD:PUBLISH
X-ORIGINAL-URL:https://bobruisk-library.by
X-WR-CALDESC:Мероприятия для Учреждение культуры &quot;Библиотечная система города Бобруйска&quot;
REFRESH-INTERVAL;VALUE=DURATION:PT1H
X-Robots-Tag:noindex
X-PUBLISHED-TTL:PT1H
BEGIN:VTIMEZONE
TZID:Europe/Moscow
BEGIN:STANDARD
TZOFFSETFROM:+0300
TZOFFSETTO:+0300
TZNAME:MSK
DTSTART:20240101T000000
END:STANDARD
END:VTIMEZONE
BEGIN:VEVENT
DTSTART;TZID=Europe/Moscow:20250623T100000
DTEND;TZID=Europe/Moscow:20250623T110000
DTSTAMP:20260421T073038
CREATED:20250617T124329Z
LAST-MODIFIED:20250617T124329Z
UID:887688-1750672800-1750676400@bobruisk-library.by
SUMMARY:Библиодосуг «Лето. Литература. Любознательность» 6+
DESCRIPTION:
URL:https://bobruisk-library.by/event/%d0%b1%d0%b8%d0%b1%d0%bb%d0%b8%d0%be%d0%b4%d0%be%d1%81%d1%83%d0%b3-%d0%bb%d0%b5%d1%82%d0%be-%d0%bb%d0%b8%d1%82%d0%b5%d1%80%d0%b0%d1%82%d1%83%d1%80%d0%b0-%d0%bb%d1%8e%d0%b1%d0%be%d0%b7%d0%bd/
LOCATION:ГБ №16\, ул. Гагарина\, 31а\, Бобруйск\, 213810\, Беларусь
END:VEVENT
BEGIN:VEVENT
DTSTART;TZID=Europe/Moscow:20250624T100000
DTEND;TZID=Europe/Moscow:20250624T110000
DTSTAMP:20260421T073038
CREATED:20250617T124807Z
LAST-MODIFIED:20250617T124807Z
UID:887692-1750759200-1750762800@bobruisk-library.by
SUMMARY:Экскурс в прошлое с элементами театрализации “Што стварылі стагоддзі і захавалі нашы продкі” (Проект «Беларусь- моя Родина») 6+
DESCRIPTION:
URL:https://bobruisk-library.by/event/%d1%8d%d0%ba%d1%81%d0%ba%d1%83%d1%80%d1%81-%d0%b2-%d0%bf%d1%80%d0%be%d1%88%d0%bb%d0%be%d0%b5-%d1%81-%d1%8d%d0%bb%d0%b5%d0%bc%d0%b5%d0%bd%d1%82%d0%b0%d0%bc%d0%b8-%d1%82%d0%b5%d0%b0%d1%82%d1%80%d0%b0/
LOCATION:ДБ №6 им. Н.А.Островского\, ул. Комсомольская\, 52\, Бобруйск\, 213826\, Беларусь
END:VEVENT
BEGIN:VEVENT
DTSTART;TZID=Europe/Moscow:20250624T110000
DTEND;TZID=Europe/Moscow:20250624T120000
DTSTAMP:20260421T073038
CREATED:20250617T124258Z
LAST-MODIFIED:20250617T124258Z
UID:887686-1750762800-1750766400@bobruisk-library.by
SUMMARY:Познавательный час «Бобруйск: в созвучии истории и современности» 6+
DESCRIPTION:
URL:https://bobruisk-library.by/event/%d0%bf%d0%be%d0%b7%d0%bd%d0%b0%d0%b2%d0%b0%d1%82%d0%b5%d0%bb%d1%8c%d0%bd%d1%8b%d0%b9-%d1%87%d0%b0%d1%81-%d0%b1%d0%be%d0%b1%d1%80%d1%83%d0%b9%d1%81%d0%ba-%d0%b2-%d1%81%d0%be%d0%b7%d0%b2%d1%83/
LOCATION:ГБ №16\, ул. Гагарина\, 31а\, Бобруйск\, 213810\, Беларусь
END:VEVENT
BEGIN:VEVENT
DTSTART;TZID=Europe/Moscow:20250624T110000
DTEND;TZID=Europe/Moscow:20250624T120000
DTSTAMP:20260421T073038
CREATED:20250620T095029Z
LAST-MODIFIED:20250620T095029Z
UID:887753-1750762800-1750766400@bobruisk-library.by
SUMMARY:Открытый диалог «Объединенные молодостью» (29 июня – День молодежи и студенчества Беларуси) 6+
DESCRIPTION:
URL:https://bobruisk-library.by/event/%d0%be%d1%82%d0%ba%d1%80%d1%8b%d1%82%d1%8b%d0%b9-%d0%b4%d0%b8%d0%b0%d0%bb%d0%be%d0%b3-%d0%be%d0%b1%d1%8a%d0%b5%d0%b4%d0%b8%d0%bd%d0%b5%d0%bd%d0%bd%d1%8b%d0%b5-%d0%bc%d0%be%d0%bb%d0%be%d0%b4/
LOCATION:ГБ №8 им. Е. Полоцкой\, ул. Минская\, 90\, Бобруйск\, 213828\, Беларусь
END:VEVENT
BEGIN:VEVENT
DTSTART;TZID=Europe/Moscow:20250625T110000
DTEND;TZID=Europe/Moscow:20250625T120000
DTSTAMP:20260421T073038
CREATED:20250617T124040Z
LAST-MODIFIED:20250617T124040Z
UID:887682-1750849200-1750852800@bobruisk-library.by
SUMMARY:Литературный час «Поэзия через века» (А.С.Пушкин\, Я.Колас\, Я. Купала) 6+
DESCRIPTION:
URL:https://bobruisk-library.by/event/%d0%bb%d0%b8%d1%82%d0%b5%d1%80%d0%b0%d1%82%d1%83%d1%80%d0%bd%d1%8b%d0%b9-%d1%87%d0%b0%d1%81-%d0%bf%d0%be%d1%8d%d0%b7%d0%b8%d1%8f-%d1%87%d0%b5%d1%80%d0%b5%d0%b7-%d0%b2%d0%b5%d0%ba%d0%b0/
LOCATION:ГБ им. А.С.Пушкина\, ул. Советская\, 87\, Бобруйск\, 213827\, Беларусь
END:VEVENT
BEGIN:VEVENT
DTSTART;TZID=Europe/Moscow:20250625T120000
DTEND;TZID=Europe/Moscow:20250625T130000
DTSTAMP:20260421T073038
CREATED:20250617T123502Z
LAST-MODIFIED:20250617T123502Z
UID:887676-1750852800-1750856400@bobruisk-library.by
SUMMARY:Литературно-поэтическая встреча «Петрусь Бровка: жизнь и творчество» (25.06. – 120-летие со рождения белорусского поэта П. Бровки) 6+
DESCRIPTION:
URL:https://bobruisk-library.by/event/%d0%bb%d0%b8%d1%82%d0%b5%d1%80%d0%b0%d1%82%d1%83%d1%80%d0%bd%d0%be-%d0%bf%d0%be%d1%8d%d1%82%d0%b8%d1%87%d0%b5%d1%81%d0%ba%d0%b0%d1%8f-%d0%b2%d1%81%d1%82%d1%80%d0%b5%d1%87%d0%b0-%d0%bf%d0%b5/
LOCATION:ЦДБ им. А.П.Гайдара\, ул. Урицкого\, 125\, Бобруйск\, 213809\, Беларусь
END:VEVENT
BEGIN:VEVENT
DTSTART;TZID=Europe/Moscow:20250625T120000
DTEND;TZID=Europe/Moscow:20250625T130000
DTSTAMP:20260421T073038
CREATED:20250617T123558Z
LAST-MODIFIED:20250617T123558Z
UID:887678-1750852800-1750856400@bobruisk-library.by
SUMMARY:Литературно-поэтическая встреча «Петрусь Бровка: жизнь и творчество» (25.06. – 120-летие со рождения белорусского поэта П. Бровки) 6+
DESCRIPTION:
URL:https://bobruisk-library.by/event/%d0%bb%d0%b8%d1%82%d0%b5%d1%80%d0%b0%d1%82%d1%83%d1%80%d0%bd%d0%be-%d0%bf%d0%be%d1%8d%d1%82%d0%b8%d1%87%d0%b5%d1%81%d0%ba%d0%b0%d1%8f-%d0%b2%d1%81%d1%82%d1%80%d0%b5%d1%87%d0%b0-%d0%bf%d0%b5-2/
LOCATION:ГБ №7 им. А.А.Шогенцукова\, ул. Интернациональная\, 72в\, Бобруйск\, 213819
END:VEVENT
BEGIN:VEVENT
DTSTART;VALUE=DATE:20250626
DTEND;VALUE=DATE:20250627
DTSTAMP:20260421T073038
CREATED:20250620T095048Z
LAST-MODIFIED:20250620T095048Z
UID:887755-1750896000-1750982399@bobruisk-library.by
SUMMARY:Краеведческий обзор «Земляки: известные и неизвестные» (29 июня – День города Бобруйска) (в рамках акции памяти «Бобруйск: страницы истории») 6+
DESCRIPTION:
URL:https://bobruisk-library.by/event/%d0%ba%d1%80%d0%b0%d0%b5%d0%b2%d0%b5%d0%b4%d1%87%d0%b5%d1%81%d0%ba%d0%b8%d0%b9-%d0%be%d0%b1%d0%b7%d0%be%d1%80-%d0%b7%d0%b5%d0%bc%d0%bb%d1%8f%d0%ba%d0%b8-%d0%b8%d0%b7%d0%b2%d0%b5%d1%81%d1%82/
LOCATION:ГБ №8 им. Е. Полоцкой\, ул. Минская\, 90\, Бобруйск\, 213828\, Беларусь
END:VEVENT
BEGIN:VEVENT
DTSTART;TZID=Europe/Moscow:20250626T100000
DTEND;TZID=Europe/Moscow:20250626T110000
DTSTAMP:20260421T073038
CREATED:20250617T124138Z
LAST-MODIFIED:20250617T124138Z
UID:887684-1750932000-1750935600@bobruisk-library.by
SUMMARY:Заочная экскурсия «История города в бронзе и граните» (29 июня – День города Бобруйска; в рамках краеведческого проекта «Город\, который был\, есть\, будет») 6+
DESCRIPTION:
URL:https://bobruisk-library.by/event/%d0%b7%d0%b0%d0%be%d1%87%d0%bd%d0%b0%d1%8f-%d1%8d%d0%ba%d1%81%d0%ba%d1%83%d1%80%d1%81%d0%b8%d1%8f-%d0%b8%d1%81%d1%82%d0%be%d1%80%d0%b8%d1%8f-%d0%b3%d0%be%d1%80%d0%be%d0%b4%d0%b0-%d0%b2-%d0%b1/
LOCATION:ЦДБ им. А.П.Гайдара\, ул. Урицкого\, 125\, Бобруйск\, 213809\, Беларусь
END:VEVENT
BEGIN:VEVENT
DTSTART;TZID=Europe/Moscow:20250626T130000
DTEND;TZID=Europe/Moscow:20250626T140000
DTSTAMP:20260421T073038
CREATED:20250617T124629Z
LAST-MODIFIED:20250617T124629Z
UID:887690-1750942800-1750946400@bobruisk-library.by
SUMMARY:Игровая встреча «Друзей моих прекрасные черты» (29.06. – День молодёжи и студенчества) 6+
DESCRIPTION:
URL:https://bobruisk-library.by/event/%d0%b8%d0%b3%d1%80%d0%be%d0%b2%d0%b0%d1%8f-%d0%b2%d1%81%d1%82%d1%80%d0%b5%d1%87%d0%b0-%d0%b4%d1%80%d1%83%d0%b7%d0%b5%d0%b9-%d0%bc%d0%be%d0%b8%d1%85-%d0%bf%d1%80%d0%b5%d0%ba%d1%80%d0%b0%d1%81/
LOCATION:ЦГБ им. М.Горького\, ул. Советская\, 64\, Бобруйск\, 213826\, Беларусь
END:VEVENT
BEGIN:VEVENT
DTSTART;TZID=Europe/Moscow:20250626T150000
DTEND;TZID=Europe/Moscow:20250626T160000
DTSTAMP:20260421T073038
CREATED:20250617T124014Z
LAST-MODIFIED:20250617T124014Z
UID:887680-1750950000-1750953600@bobruisk-library.by
SUMMARY:Литературно-музыкальная композиция «Мелодия наших сердец» (Лира) 6+
DESCRIPTION:
URL:https://bobruisk-library.by/event/%d0%bb%d0%b8%d1%82%d0%b5%d1%80%d0%b0%d1%82%d1%83%d1%80%d0%bd%d0%be-%d0%bc%d1%83%d0%b7%d1%8b%d0%ba%d0%b0%d0%bb%d1%8c%d0%bd%d0%b0%d1%8f-%d0%ba%d0%be%d0%bc%d0%bf%d0%be%d0%b7%d0%b8%d1%86%d0%b8%d1%8f-24/
LOCATION:ГБ им. А.С.Пушкина\, ул. Советская\, 87\, Бобруйск\, 213827\, Беларусь
END:VEVENT
BEGIN:VEVENT
DTSTART;TZID=Europe/Moscow:20250627T100000
DTEND;TZID=Europe/Moscow:20250627T110000
DTSTAMP:20260421T073038
CREATED:20250618T072611Z
LAST-MODIFIED:20250618T072730Z
UID:887697-1751018400-1751022000@bobruisk-library.by
SUMMARY:Литературно-музыкальная композиция «Город в котором я живу» (в рамках акции памяти «Бобруйск: страницы истории» ко Дню города Бобруйска) 6+
DESCRIPTION:
URL:https://bobruisk-library.by/event/%d0%bb%d0%b8%d1%82%d0%b5%d1%80%d0%b0%d1%82%d1%83%d1%80%d0%bd%d0%be-%d0%bc%d1%83%d0%b7%d1%8b%d0%ba%d0%b0%d0%bb%d1%8c%d0%bd%d0%b0%d1%8f-%d0%ba%d0%be%d0%bc%d0%bf%d0%b0%d0%b7%d0%b8%d1%86%d0%b8%d1%8f/
LOCATION:ГБ №4 им. Б.Микулича\, пр-т Строителей\, 56\, Бобруйск\, 213807\, Беларусь
END:VEVENT
BEGIN:VEVENT
DTSTART;VALUE=DATE:20250630
DTEND;VALUE=DATE:20250701
DTSTAMP:20260421T073038
CREATED:20250603T112936Z
LAST-MODIFIED:20250603T112936Z
UID:887462-1751241600-1751327999@bobruisk-library.by
SUMMARY:Библиотечная акция: «Тому\, кто читает\, скучно не бывает» (проект «Книгочеи») 6+
DESCRIPTION:
URL:https://bobruisk-library.by/event/%d0%b1%d0%b8%d0%b1%d0%bb%d0%b8%d0%be%d1%82%d0%b5%d1%87%d0%bd%d0%b0%d1%8f-%d0%b0%d0%ba%d1%86%d0%b8%d1%8f-%d1%82%d0%be%d0%bc%d1%83-%d0%ba%d1%82%d0%be-%d1%87%d0%b8%d1%82%d0%b0%d0%b5%d1%82-%d1%81/
LOCATION:ГБ №12\, ул. Бахарова\, 279\, Бобруйск\, Выберите штат:\, 213823\, Беларусь
END:VEVENT
BEGIN:VEVENT
DTSTART;TZID=Europe/Moscow:20250701T080000
DTEND;TZID=Europe/Moscow:20250731T170000
DTSTAMP:20260421T073038
CREATED:20250708T110907Z
LAST-MODIFIED:20250708T110907Z
UID:887938-1751356800-1753981200@bobruisk-library.by
SUMMARY:Библиотечная акция «Тому\, кто читает\, скучно не бывает» (в рамках программы летнего досуга и чтения «Летнее приклю-Чтение» (проект «Книгочеи») 6+
DESCRIPTION:
URL:https://bobruisk-library.by/event/%d0%b1%d0%b8%d0%b1%d0%bb%d0%b8%d0%be%d1%82%d0%b5%d1%87%d0%bd%d0%b0%d1%8f-%d0%b0%d0%ba%d1%86%d0%b8%d1%8f-%d1%82%d0%be%d0%bc%d1%83-%d0%ba%d1%82%d0%be-%d1%87%d0%b8%d1%82%d0%b0%d0%b5%d1%82-%d1%81-2/
LOCATION:ГБ №12\, ул. Бахарова\, 279\, Бобруйск\, Выберите штат:\, 213823\, Беларусь
END:VEVENT
BEGIN:VEVENT
DTSTART;TZID=Europe/Moscow:20250701T140000
DTEND;TZID=Europe/Moscow:20250701T150000
DTSTAMP:20260421T073038
CREATED:20250624T134223Z
LAST-MODIFIED:20250624T134223Z
UID:887800-1751378400-1751382000@bobruisk-library.by
SUMMARY:Час полезной информации «Коллекция добрых дел» 6+
DESCRIPTION:
URL:https://bobruisk-library.by/event/%d1%87%d0%b0%d1%81-%d0%bf%d0%be%d0%bb%d0%b5%d0%b7%d0%bd%d0%be%d0%b9-%d0%b8%d0%bd%d1%84%d0%be%d1%80%d0%bc%d0%b0%d1%86%d0%b8%d0%b8-%d0%ba%d0%be%d0%bb%d0%bb%d0%b5%d0%ba%d1%86%d0%b8%d1%8f-%d0%b4/
LOCATION:ДБ № 5\, ул. 50 лет ВЛКСМ\, 19\, Бобруйск\, 213824\, Беларусь
END:VEVENT
BEGIN:VEVENT
DTSTART;TZID=Europe/Moscow:20250702T100000
DTEND;TZID=Europe/Moscow:20250702T110000
DTSTAMP:20260421T073038
CREATED:20250625T123305Z
LAST-MODIFIED:20250626T061230Z
UID:887812-1751450400-1751454000@bobruisk-library.by
SUMMARY:Литературно-игровая программа "Живи\, процветай\, Беларусь!" (в рамках патриотической акции “Под мирным небом Беларуси” ко Дню Независимости Республики Беларусь) 6+
DESCRIPTION:
URL:https://bobruisk-library.by/event/%d0%bb%d0%b8%d1%82%d0%b5%d1%80%d0%b0%d1%82%d1%83%d1%80%d0%bd%d0%be-%d0%b8%d0%b3%d1%80%d0%be%d0%b2%d0%b0%d1%8f-%d0%bf%d1%80%d0%be%d0%b3%d1%80%d0%b0%d0%bc%d0%bc%d0%b0-%d0%b6%d0%b8%d0%b2%d0%b8-%d0%bf/
LOCATION:ГБ №4 им. Б.Микулича\, пр-т Строителей\, 56\, Бобруйск\, 213807\, Беларусь
END:VEVENT
BEGIN:VEVENT
DTSTART;TZID=Europe/Moscow:20250702T103000
DTEND;TZID=Europe/Moscow:20250702T113000
DTSTAMP:20260421T073038
CREATED:20250624T061643Z
LAST-MODIFIED:20250624T061643Z
UID:887790-1751452200-1751455800@bobruisk-library.by
SUMMARY:Исторический квиз «Славе не меркнуть! Традициям жить!» 6+
DESCRIPTION:
URL:https://bobruisk-library.by/event/%d0%b8%d1%81%d1%82%d0%be%d1%80%d0%b8%d1%87%d0%b5%d1%81%d0%ba%d0%b8%d0%b9-%d0%ba%d0%b2%d0%b8%d0%b7-%d1%81%d0%bb%d0%b0%d0%b2%d0%b5-%d0%bd%d0%b5-%d0%bc%d0%b5%d1%80%d0%ba%d0%bd%d1%83%d1%82%d1%8c/
LOCATION:ГБ №16\, ул. Гагарина\, 31а\, Бобруйск\, 213810\, Беларусь
END:VEVENT
BEGIN:VEVENT
DTSTART;TZID=Europe/Moscow:20250702T103000
DTEND;TZID=Europe/Moscow:20250702T113000
DTSTAMP:20260421T073038
CREATED:20250624T134343Z
LAST-MODIFIED:20250624T134343Z
UID:887804-1751452200-1751455800@bobruisk-library.by
SUMMARY:Урок истории «Беларусь – от освобождения к независимости» (3 июля – День Независимости Республики Беларусь; рамках патриотического проекта «Моя Родина – Беларусь») 6+
DESCRIPTION:
URL:https://bobruisk-library.by/event/%d1%83%d1%80%d0%be%d0%ba-%d0%b8%d1%81%d1%82%d0%be%d1%80%d0%b8%d0%b8-%d0%b1%d0%b5%d0%bb%d0%b0%d1%80%d1%83%d1%81%d1%8c-%d0%be%d1%82-%d0%be%d1%81%d0%b2%d0%be%d0%b1%d0%be%d0%b6%d0%b4%d0%b5/
LOCATION:ЦДБ им. А.П.Гайдара\, ул. Урицкого\, 125\, Бобруйск\, 213809\, Беларусь
END:VEVENT
BEGIN:VEVENT
DTSTART;TZID=Europe/Moscow:20250702T110000
DTEND;TZID=Europe/Moscow:20250702T120000
DTSTAMP:20260421T073038
CREATED:20250624T134257Z
LAST-MODIFIED:20250624T134257Z
UID:887802-1751454000-1751457600@bobruisk-library.by
SUMMARY:Урок исторической памяти «Беларусь: гордимся прошлым\, строим будущее (ко Дню Независимости Республики Беларусь) 6+
DESCRIPTION:
URL:https://bobruisk-library.by/event/%d1%83%d1%80%d0%be%d0%ba-%d0%b8%d1%81%d1%82%d0%be%d1%80%d0%b8%d1%87%d0%b5%d1%81%d0%ba%d0%be%d0%b9-%d0%bf%d0%b0%d0%bc%d1%8f%d1%82%d0%b8-%d0%b1%d0%b5%d0%bb%d0%b0%d1%80%d1%83%d1%81%d1%8c-%d0%b3/
LOCATION:ДБ № 5\, ул. 50 лет ВЛКСМ\, 19\, Бобруйск\, 213824\, Беларусь
END:VEVENT
BEGIN:VEVENT
DTSTART;TZID=Europe/Moscow:20250704T100000
DTEND;TZID=Europe/Moscow:20250704T110000
DTSTAMP:20260421T073038
CREATED:20250624T133854Z
LAST-MODIFIED:20250624T133854Z
UID:887798-1751623200-1751626800@bobruisk-library.by
SUMMARY:Патриотический час «Моя Родина – Беларусь!» (3 июля – День Независимости Республики Беларусь) 6+
DESCRIPTION:
URL:https://bobruisk-library.by/event/%d0%bf%d0%b0%d1%82%d1%80%d0%b8%d0%be%d1%82%d0%b8%d1%87%d0%b5%d1%81%d0%ba%d0%b8%d0%b9-%d1%87%d0%b0%d1%81-%d0%bc%d0%be%d1%8f-%d1%80%d0%be%d0%b4%d0%b8%d0%bd%d0%b0-%d0%b1%d0%b5%d0%bb%d0%b0/
LOCATION:ГБ №8 им. Е. Полоцкой\, ул. Минская\, 90\, Бобруйск\, 213828\, Беларусь
END:VEVENT
BEGIN:VEVENT
DTSTART;TZID=Europe/Moscow:20250707T100000
DTEND;TZID=Europe/Moscow:20250707T110000
DTSTAMP:20260421T073038
CREATED:20250701T131434Z
LAST-MODIFIED:20250701T131434Z
UID:887878-1751882400-1751886000@bobruisk-library.by
SUMMARY:Конкурсно-развлекательная программа «Дружба начинается с улыбки» 6+
DESCRIPTION:
URL:https://bobruisk-library.by/event/%d0%ba%d0%be%d0%bd%d0%ba%d1%83%d1%80%d1%81%d0%bd%d0%be-%d1%80%d0%b0%d0%b7%d0%b2%d0%bb%d0%b5%d0%ba%d0%b0%d1%82%d0%b5%d0%bb%d1%8c%d0%bd%d0%b0%d1%8f-%d0%bf%d1%80%d0%be%d0%b3%d1%80%d0%b0%d0%bc%d0%bc-2/
LOCATION:ДБ № 5\, ул. 50 лет ВЛКСМ\, 19\, Бобруйск\, 213824\, Беларусь
END:VEVENT
BEGIN:VEVENT
DTSTART;TZID=Europe/Moscow:20250708T100000
DTEND;TZID=Europe/Moscow:20250708T110000
DTSTAMP:20260421T073038
CREATED:20250701T064257Z
LAST-MODIFIED:20250701T064257Z
UID:887857-1751968800-1751972400@bobruisk-library.by
SUMMARY:Познавательно-развлекательная программа «Весёлые каникулы в библиотеке» 6+
DESCRIPTION:
URL:https://bobruisk-library.by/event/%d0%bf%d0%be%d0%b7%d0%bd%d0%b0%d0%b2%d0%b0%d1%82%d0%b5%d0%bb%d1%8c%d0%bd%d0%be-%d1%80%d0%b0%d0%b7%d0%b2%d0%bb%d0%b5%d0%ba%d0%b0%d1%82%d0%b5%d0%bb%d1%8c%d0%bd%d0%b0%d1%8f-%d0%bf%d1%80%d0%be%d0%b3-10/
LOCATION:ДБ №6 им. Н.А.Островского\, ул. Комсомольская\, 52\, Бобруйск\, 213826\, Беларусь
END:VEVENT
BEGIN:VEVENT
DTSTART;TZID=Europe/Moscow:20250708T100000
DTEND;TZID=Europe/Moscow:20250708T110000
DTSTAMP:20260421T073038
CREATED:20250701T090514Z
LAST-MODIFIED:20250701T090514Z
UID:887862-1751968800-1751972400@bobruisk-library.by
SUMMARY:Игра-экспедиция “Экоследопыты” 6+
DESCRIPTION:
URL:https://bobruisk-library.by/event/%d0%b8%d0%b3%d1%80%d0%b0-%d1%8d%d0%ba%d1%81%d0%bf%d0%b5%d0%b4%d0%b8%d1%86%d0%b8%d1%8f-%d1%8d%d0%ba%d0%be%d1%81%d0%bb%d0%b5%d0%b4%d0%be%d0%bf%d1%8b%d1%82%d1%8b-6/
LOCATION:ГБ №16\, ул. Гагарина\, 31а\, Бобруйск\, 213810\, Беларусь
END:VEVENT
BEGIN:VEVENT
DTSTART;TZID=Europe/Moscow:20250709T110000
DTEND;TZID=Europe/Moscow:20250709T120000
DTSTAMP:20260421T073038
CREATED:20250701T090539Z
LAST-MODIFIED:20250701T090539Z
UID:887864-1752058800-1752062400@bobruisk-library.by
SUMMARY:Час библиозатей «Нет времени скучать!» 6+
DESCRIPTION:
URL:https://bobruisk-library.by/event/%d1%87%d0%b0%d1%81-%d0%b1%d0%b8%d0%b1%d0%bb%d0%b8%d0%be%d0%b7%d0%b0%d1%82%d0%b5%d0%b9-%d0%bd%d0%b5%d1%82-%d0%b2%d1%80%d0%b5%d0%bc%d0%b5%d0%bd%d0%b8-%d1%81%d0%ba%d1%83%d1%87%d0%b0%d1%82%d1%8c/
LOCATION:ГБ №16\, ул. Гагарина\, 31а\, Бобруйск\, 213810\, Беларусь
END:VEVENT
BEGIN:VEVENT
DTSTART;TZID=Europe/Moscow:20250709T120000
DTEND;TZID=Europe/Moscow:20250709T130000
DTSTAMP:20260421T073038
CREATED:20250701T131253Z
LAST-MODIFIED:20250701T131253Z
UID:887876-1752062400-1752066000@bobruisk-library.by
SUMMARY:Летний книжный обзор «Книжное лето солнцем согрето» (в рамках программы летнего досуга и чтения «Летнее приклю-Чтение») 6+
DESCRIPTION:
URL:https://bobruisk-library.by/event/%d0%bb%d0%b5%d1%82%d0%bd%d0%b8%d0%b9-%d0%ba%d0%bd%d0%b8%d0%b6%d0%bd%d1%8b%d0%b9-%d0%be%d0%b1%d0%b7%d0%be%d1%80-%d0%ba%d0%bd%d0%b8%d0%b6%d0%bd%d0%be%d0%b5-%d0%bb%d0%b5%d1%82%d0%be-%d1%81%d0%be/
LOCATION:ГБ №7 им. А.А.Шогенцукова\, ул. Интернациональная\, 72в\, Бобруйск\, 213819
END:VEVENT
BEGIN:VEVENT
DTSTART;TZID=Europe/Moscow:20250709T153000
DTEND;TZID=Europe/Moscow:20250709T163000
DTSTAMP:20260421T073038
CREATED:20250701T133943Z
LAST-MODIFIED:20250701T133943Z
UID:887882-1752075000-1752078600@bobruisk-library.by
SUMMARY:Правовой час «Консультация специалиста» (Нотариусы Нотариальной конторы №2 Ленинского района г. Бобруйска) 6+
DESCRIPTION:
URL:https://bobruisk-library.by/event/%d0%bf%d1%80%d0%b0%d0%b2%d0%be%d0%b2%d0%be%d0%b9-%d1%87%d0%b0%d1%81-%d0%ba%d0%be%d0%bd%d1%81%d1%83%d0%bb%d1%8c%d1%82%d0%b0%d1%86%d0%b8%d1%8f-%d1%81%d0%bf%d0%b5%d1%86%d0%b8%d0%b0%d0%bb%d0%b8-10/
LOCATION:ГБ им. А.С.Пушкина\, ул. Советская\, 87\, Бобруйск\, 213827\, Беларусь
END:VEVENT
BEGIN:VEVENT
DTSTART;TZID=Europe/Moscow:20250710T100000
DTEND;TZID=Europe/Moscow:20250710T110000
DTSTAMP:20260421T073038
CREATED:20250701T064616Z
LAST-MODIFIED:20250701T064616Z
UID:887860-1752141600-1752145200@bobruisk-library.by
SUMMARY:Час безопасности «Как себя вести\, как себя спасти» 6+
DESCRIPTION:
URL:https://bobruisk-library.by/event/%d1%87%d0%b0%d1%81-%d0%b1%d0%b5%d0%b7%d0%be%d0%bf%d0%b0%d1%81%d0%bd%d0%be%d1%81%d1%82%d0%b8-%d0%ba%d0%b0%d0%ba-%d1%81%d0%b5%d0%b1%d1%8f-%d0%b2%d0%b5%d1%81%d1%82%d0%b8-%d0%ba%d0%b0%d0%ba-%d1%81/
LOCATION:ГБ №8 им. Е. Полоцкой\, ул. Минская\, 90\, Бобруйск\, 213828\, Беларусь
END:VEVENT
BEGIN:VEVENT
DTSTART;TZID=Europe/Moscow:20250711T100000
DTEND;TZID=Europe/Moscow:20250711T110000
DTSTAMP:20260421T073038
CREATED:20250701T090706Z
LAST-MODIFIED:20250701T090706Z
UID:887866-1752228000-1752231600@bobruisk-library.by
SUMMARY:Библиомикс «Страна чтения приглашает в приключения» 6+
DESCRIPTION:
URL:https://bobruisk-library.by/event/%d0%b1%d0%b8%d0%b1%d0%bb%d0%b8%d0%be%d0%bc%d0%b8%d0%ba%d1%81-%d1%81%d1%82%d1%80%d0%b0%d0%bd%d0%b0-%d1%87%d1%82%d0%b5%d0%bd%d0%b8%d1%8f-%d0%bf%d1%80%d0%b8%d0%b3%d0%bb%d0%b0%d1%88%d0%b0%d0%b5/
LOCATION:ГБ №16\, ул. Гагарина\, 31а\, Бобруйск\, 213810\, Беларусь
END:VEVENT
BEGIN:VEVENT
DTSTART;TZID=Europe/Moscow:20250711T130000
DTEND;TZID=Europe/Moscow:20250711T140000
DTSTAMP:20260421T073038
CREATED:20250701T130957Z
LAST-MODIFIED:20250701T130957Z
UID:887874-1752238800-1752242400@bobruisk-library.by
SUMMARY:Видеопутешествие «Самый сладкий день в году» (11.04. – Всемирный день шоколада) 6+
DESCRIPTION:
URL:https://bobruisk-library.by/event/%d0%b2%d0%b8%d0%b4%d0%b5%d0%be%d0%bf%d1%83%d1%82%d0%b5%d1%88%d0%b5%d1%81%d1%82%d0%b2%d0%b8%d0%b5-%d1%81%d0%b0%d0%bc%d1%8b%d0%b9-%d1%81%d0%bb%d0%b0%d0%b4%d0%ba%d0%b8%d0%b9-%d0%b4%d0%b5%d0%bd/
LOCATION:ГБ им. А.С.Пушкина\, ул. Советская\, 87\, Бобруйск\, 213827\, Беларусь
END:VEVENT
BEGIN:VEVENT
DTSTART;TZID=Europe/Moscow:20250713T130000
DTEND;TZID=Europe/Moscow:20250713T140000
DTSTAMP:20260421T073038
CREATED:20250701T131702Z
LAST-MODIFIED:20250701T131702Z
UID:887880-1752411600-1752415200@bobruisk-library.by
SUMMARY:Урок-игра «Путешествие по Шахматной стране» (20.07. – Международный день шахмат) 6+
DESCRIPTION:
URL:https://bobruisk-library.by/event/%d1%83%d1%80%d0%be%d0%ba-%d0%b8%d0%b3%d1%80%d0%b0-%d0%bf%d1%83%d1%82%d0%b5%d1%88%d0%b5%d1%81%d1%82%d0%b2%d0%b8%d0%b5-%d0%bf%d0%be-%d1%88%d0%b0%d1%85%d0%bc%d0%b0%d1%82%d0%bd%d0%be%d0%b9-%d1%81/
LOCATION:ЦГБ им. М.Горького\, ул. Советская\, 64\, Бобруйск\, 213826\, Беларусь
END:VEVENT
END:VCALENDAR