BEGIN:VCALENDAR
VERSION:2.0
PRODID:-//Учреждение культуры &quot;Библиотечная система города Бобруйска&quot; - ECPv6.15.20//NONSGML v1.0//EN
CALSCALE:GREGORIAN
METHOD:PUBLISH
X-ORIGINAL-URL:https://bobruisk-library.by
X-WR-CALDESC:Мероприятия для Учреждение культуры &quot;Библиотечная система города Бобруйска&quot;
REFRESH-INTERVAL;VALUE=DURATION:PT1H
X-Robots-Tag:noindex
X-PUBLISHED-TTL:PT1H
BEGIN:VTIMEZONE
TZID:Europe/Moscow
BEGIN:STANDARD
TZOFFSETFROM:+0300
TZOFFSETTO:+0300
TZNAME:MSK
DTSTART:20240101T000000
END:STANDARD
END:VTIMEZONE
BEGIN:VEVENT
DTSTART;TZID=Europe/Moscow:20250701T080000
DTEND;TZID=Europe/Moscow:20250731T170000
DTSTAMP:20260421T015426
CREATED:20250708T110907Z
LAST-MODIFIED:20250708T110907Z
UID:887938-1751356800-1753981200@bobruisk-library.by
SUMMARY:Библиотечная акция «Тому\, кто читает\, скучно не бывает» (в рамках программы летнего досуга и чтения «Летнее приклю-Чтение» (проект «Книгочеи») 6+
DESCRIPTION:
URL:https://bobruisk-library.by/event/%d0%b1%d0%b8%d0%b1%d0%bb%d0%b8%d0%be%d1%82%d0%b5%d1%87%d0%bd%d0%b0%d1%8f-%d0%b0%d0%ba%d1%86%d0%b8%d1%8f-%d1%82%d0%be%d0%bc%d1%83-%d0%ba%d1%82%d0%be-%d1%87%d0%b8%d1%82%d0%b0%d0%b5%d1%82-%d1%81-2/
LOCATION:ГБ №12\, ул. Бахарова\, 279\, Бобруйск\, Выберите штат:\, 213823\, Беларусь
END:VEVENT
BEGIN:VEVENT
DTSTART;TZID=Europe/Moscow:20250723T100000
DTEND;TZID=Europe/Moscow:20250723T110000
DTSTAMP:20260421T015426
CREATED:20250715T071728Z
LAST-MODIFIED:20250715T071728Z
UID:887989-1753264800-1753268400@bobruisk-library.by
SUMMARY:Экологическое путешествие «У природы есть друзья! Это мы – и ты\, и я!» 6+
DESCRIPTION:
URL:https://bobruisk-library.by/event/%d1%8d%d0%ba%d0%be%d0%bb%d0%be%d0%b3%d0%b8%d1%87%d0%b5%d1%81%d0%ba%d0%be%d0%b5-%d0%bf%d1%83%d1%82%d0%b5%d1%88%d0%b5%d1%81%d1%82%d0%b2%d0%b8%d0%b5-%d1%83-%d0%bf%d1%80%d0%b8%d1%80%d0%be%d0%b4/
LOCATION:ДБ №6 им. Н.А.Островского\, ул. Комсомольская\, 52\, Бобруйск\, 213826\, Беларусь
END:VEVENT
BEGIN:VEVENT
DTSTART;TZID=Europe/Moscow:20250723T110000
DTEND;TZID=Europe/Moscow:20250723T120000
DTSTAMP:20260421T015426
CREATED:20250715T121934Z
LAST-MODIFIED:20250715T121934Z
UID:887996-1753268400-1753272000@bobruisk-library.by
SUMMARY:Познавательное путешествие «Жемчужины белорусской природы» (в рамках проекта «Территория равных возможностей») 6+
DESCRIPTION:
URL:https://bobruisk-library.by/event/%d0%bf%d0%be%d0%b7%d0%bd%d0%b0%d0%b2%d0%b0%d1%82%d0%b5%d0%bb%d1%8c%d0%bd%d0%be%d0%b5-%d0%bf%d1%83%d1%82%d0%b5%d1%88%d0%b5%d1%81%d1%82%d0%b2%d0%b8%d0%b5-%d0%b6%d0%b5%d0%bc%d1%87%d1%83%d0%b6%d0%b8/
LOCATION:ЦДБ им. А.П.Гайдара\, ул. Урицкого\, 125\, Бобруйск\, 213809\, Беларусь
END:VEVENT
BEGIN:VEVENT
DTSTART;TZID=Europe/Moscow:20250723T120000
DTEND;TZID=Europe/Moscow:20250723T130000
DTSTAMP:20260421T015426
CREATED:20250715T131155Z
LAST-MODIFIED:20250721T124123Z
UID:887999-1753272000-1753275600@bobruisk-library.by
SUMMARY:Сказочная разминка «Мы из разных сказок\, отгадай нас без подсказок» 6+
DESCRIPTION:
URL:https://bobruisk-library.by/event/%d1%81%d0%ba%d0%b0%d0%b7%d0%be%d1%87%d0%bd%d0%b0%d1%8f-%d1%80%d0%b0%d0%b7%d0%bc%d0%b8%d0%bd%d0%ba%d0%b0-%d0%bc%d1%8b-%d0%b8%d0%b7-%d1%80%d0%b0%d0%b7%d0%bd%d1%8b%d1%85-%d1%81%d0%ba%d0%b0%d0%b7/
LOCATION:ДБ № 5\, ул. 50 лет ВЛКСМ\, 19\, Бобруйск\, 213824\, Беларусь
END:VEVENT
BEGIN:VEVENT
DTSTART;VALUE=DATE:20250724
DTEND;VALUE=DATE:20250725
DTSTAMP:20260421T015426
CREATED:20250715T122359Z
LAST-MODIFIED:20250715T122359Z
UID:887991-1753315200-1753401599@bobruisk-library.by
SUMMARY:Познавательное путешествие «Остров журнальных сокровищ» 6+
DESCRIPTION:
URL:https://bobruisk-library.by/event/%d0%bf%d0%be%d0%b7%d0%bd%d0%b0%d0%b2%d0%b0%d1%82%d0%b5%d0%bb%d1%8c%d0%bd%d0%be%d0%b5-%d0%bf%d1%83%d1%82%d0%b5%d1%88%d0%b5%d1%81%d1%82%d0%b2%d0%b8%d0%b5-%d0%be%d1%81%d1%82%d1%80%d0%be%d0%b2/
LOCATION:ЦДБ им. А.П.Гайдара\, ул. Урицкого\, 125\, Бобруйск\, 213809\, Беларусь
END:VEVENT
BEGIN:VEVENT
DTSTART;TZID=Europe/Moscow:20250728T100000
DTEND;TZID=Europe/Moscow:20250728T110000
DTSTAMP:20260421T015426
CREATED:20250723T075548Z
LAST-MODIFIED:20250723T075548Z
UID:888037-1753696800-1753700400@bobruisk-library.by
SUMMARY:Конкурсно-игровая программа «Мы встречаем праздник света\, праздник солнца\, праздник лета» 6+
DESCRIPTION:
URL:https://bobruisk-library.by/event/%d0%ba%d0%be%d0%bd%d0%ba%d1%83%d1%80%d1%81%d0%bd%d0%be-%d0%b8%d0%b3%d1%80%d0%be%d0%b2%d0%b0%d1%8f-%d0%bf%d1%80%d0%be%d0%b3%d1%80%d0%b0%d0%bc%d0%bc%d0%b0-%d0%bc%d1%8b-%d0%b2%d1%81%d1%82%d1%80-3/
LOCATION:ЦГБ им. М.Горького\, ул. Советская\, 64\, Бобруйск\, 213826\, Беларусь
END:VEVENT
BEGIN:VEVENT
DTSTART;TZID=Europe/Moscow:20250801T110000
DTEND;TZID=Europe/Moscow:20250801T120000
DTSTAMP:20260421T015426
CREATED:20250729T092513Z
LAST-MODIFIED:20250729T092513Z
UID:888084-1754046000-1754049600@bobruisk-library.by
SUMMARY:Урок доброты «Добрым словом друг друга согреем» 6+
DESCRIPTION:
URL:https://bobruisk-library.by/event/%d1%83%d1%80%d0%be%d0%ba-%d0%b4%d0%be%d0%b1%d1%80%d0%be%d1%82%d1%8b-%d0%b4%d0%be%d0%b1%d1%80%d1%8b%d0%bc-%d1%81%d0%bb%d0%be%d0%b2%d0%be%d0%bc-%d0%b4%d1%80%d1%83%d0%b3-%d0%b4%d1%80%d1%83%d0%b3/
LOCATION:ДБ № 5\, ул. 50 лет ВЛКСМ\, 19\, Бобруйск\, 213824\, Беларусь
END:VEVENT
BEGIN:VEVENT
DTSTART;TZID=Europe/Moscow:20250805T110000
DTEND;TZID=Europe/Moscow:20250805T120000
DTSTAMP:20260421T015426
CREATED:20250729T073653Z
LAST-MODIFIED:20250729T073653Z
UID:888082-1754391600-1754395200@bobruisk-library.by
SUMMARY:Игра-эстафета «Веселый светофор» 6+
DESCRIPTION:
URL:https://bobruisk-library.by/event/%d0%b8%d0%b3%d1%80%d0%b0-%d1%8d%d1%81%d1%82%d0%b0%d1%84%d0%b5%d1%82%d0%b0-%d0%b2%d0%b5%d1%81%d0%b5%d0%bb%d1%8b%d0%b9-%d1%81%d0%b2%d0%b5%d1%82%d0%be%d1%84%d0%be%d1%80-6/
LOCATION:ГБ №16\, ул. Гагарина\, 31а\, Бобруйск\, 213810\, Беларусь
END:VEVENT
BEGIN:VEVENT
DTSTART;VALUE=DATE:20250806
DTEND;VALUE=DATE:20250811
DTSTAMP:20260421T015426
CREATED:20250729T093627Z
LAST-MODIFIED:20250729T093627Z
UID:888092-1754438400-1754870399@bobruisk-library.by
SUMMARY:Выставка-информация «Правила цифровой гигиены» (в рамках работы информационно-образовательного центра) 6+
DESCRIPTION:
URL:https://bobruisk-library.by/event/%d0%b2%d1%8b%d1%81%d1%82%d0%b0%d0%b2%d0%ba%d0%b0-%d0%b8%d0%bd%d1%84%d0%be%d1%80%d0%bc%d0%b0%d1%86%d0%b8%d1%8f-%d0%bf%d1%80%d0%b0%d0%b2%d0%b8%d0%bb%d0%b0-%d1%86%d0%b8%d1%84%d1%80%d0%be%d0%b2/
LOCATION:ЦДБ им. А.П.Гайдара\, ул. Урицкого\, 125\, Бобруйск\, 213809\, Беларусь
END:VEVENT
BEGIN:VEVENT
DTSTART;TZID=Europe/Moscow:20250806T110000
DTEND;TZID=Europe/Moscow:20250806T120000
DTSTAMP:20260421T015426
CREATED:20250729T092622Z
LAST-MODIFIED:20250729T092622Z
UID:888088-1754478000-1754481600@bobruisk-library.by
SUMMARY:Библиотечный эко-тур «Мы с книгой открываем мир природы» 6+
DESCRIPTION:
URL:https://bobruisk-library.by/event/%d0%b1%d0%b8%d0%b1%d0%bb%d0%b8%d0%be%d1%82%d0%b5%d1%87%d0%bd%d1%8b%d0%b9-%d1%8d%d0%ba%d0%be-%d1%82%d1%83%d1%80-%d0%bc%d1%8b-%d1%81-%d0%ba%d0%bd%d0%b8%d0%b3%d0%be%d0%b9-%d0%be%d1%82%d0%ba%d1%80/
LOCATION:ДБ № 5\, ул. 50 лет ВЛКСМ\, 19\, Бобруйск\, 213824\, Беларусь
END:VEVENT
BEGIN:VEVENT
DTSTART;VALUE=DATE:20250807
DTEND;VALUE=DATE:20250808
DTSTAMP:20260421T015426
CREATED:20250729T093438Z
LAST-MODIFIED:20250729T093438Z
UID:888090-1754524800-1754611199@bobruisk-library.by
SUMMARY:Акция «Наведём порядок вместе» (в рамках цикла библиотечных мероприятий «Человек – Благоустройство – Будущее») 6+
DESCRIPTION:
URL:https://bobruisk-library.by/event/%d0%b0%d0%ba%d1%86%d0%b8%d1%8f-%d0%bd%d0%b0%d0%b2%d0%b5%d0%b4%d1%91%d0%bc-%d0%bf%d0%be%d1%80%d1%8f%d0%b4%d0%be%d0%ba-%d0%b2%d0%bc%d0%b5%d1%81%d1%82%d0%b5-%d0%b2-%d1%80%d0%b0%d0%bc%d0%ba/
LOCATION:ЦДБ им. А.П.Гайдара\, ул. Урицкого\, 125\, Бобруйск\, 213809\, Беларусь
END:VEVENT
BEGIN:VEVENT
DTSTART;TZID=Europe/Moscow:20250807T140000
DTEND;TZID=Europe/Moscow:20250807T150000
DTSTAMP:20260421T015426
CREATED:20250729T092552Z
LAST-MODIFIED:20250729T092552Z
UID:888086-1754575200-1754578800@bobruisk-library.by
SUMMARY:Урок доброты «Добрым словом друг друга согреем» 6+
DESCRIPTION:
URL:https://bobruisk-library.by/event/%d1%83%d1%80%d0%be%d0%ba-%d0%b4%d0%be%d0%b1%d1%80%d0%be%d1%82%d1%8b-%d0%b4%d0%be%d0%b1%d1%80%d1%8b%d0%bc-%d1%81%d0%bb%d0%be%d0%b2%d0%be%d0%bc-%d0%b4%d1%80%d1%83%d0%b3-%d0%b4%d1%80%d1%83%d0%b3-2/
LOCATION:ДБ № 5\, ул. 50 лет ВЛКСМ\, 19\, Бобруйск\, 213824\, Беларусь
END:VEVENT
BEGIN:VEVENT
DTSTART;VALUE=DATE:20250808
DTEND;VALUE=DATE:20250809
DTSTAMP:20260421T015426
CREATED:20250729T103645Z
LAST-MODIFIED:20250729T103645Z
UID:888094-1754611200-1754697599@bobruisk-library.by
SUMMARY:Культурно-историческая акция «Бобруйская крепость с душою былинной» (10.08. -215 лет назад началось строительство Бобруйской крепости) 6+
DESCRIPTION:
URL:https://bobruisk-library.by/event/%d0%ba%d1%83%d0%bb%d1%8c%d1%82%d1%83%d1%80%d0%bd%d0%be-%d0%b8%d1%81%d1%82%d0%be%d1%80%d0%b8%d1%87%d0%b5%d1%81%d0%ba%d0%b0%d1%8f-%d0%b0%d0%ba%d1%86%d0%b8%d1%8f-%d0%b1%d0%be%d0%b1%d1%80%d1%83/
LOCATION:ГБ им. А.С.Пушкина\, ул. Советская\, 87\, Бобруйск\, 213827\, Беларусь
END:VEVENT
BEGIN:VEVENT
DTSTART;TZID=Europe/Moscow:20250808T110000
DTEND;TZID=Europe/Moscow:20250808T120000
DTSTAMP:20260421T015426
CREATED:20250730T104138Z
LAST-MODIFIED:20250730T104138Z
UID:888100-1754650800-1754654400@bobruisk-library.by
SUMMARY:Час периодики “Калейдоскоп событий\, историй и открытий” 6+
DESCRIPTION:
URL:https://bobruisk-library.by/event/%d1%87%d0%b0%d1%81-%d0%bf%d0%b5%d1%80%d0%b8%d0%be%d0%b4%d0%b8%d0%ba%d0%b8-%d0%ba%d0%b0%d0%bb%d0%b5%d0%b9%d0%b4%d0%be%d1%81%d0%ba%d0%be%d0%bf-%d1%81%d0%be%d0%b1%d1%8b%d1%82%d0%b8%d0%b9-%d0%b8/
LOCATION:ГБ №4 им. Б.Микулича\, пр-т Строителей\, 56\, Бобруйск\, 213807\, Беларусь
END:VEVENT
BEGIN:VEVENT
DTSTART;TZID=Europe/Moscow:20250812T110000
DTEND;TZID=Europe/Moscow:20250812T120000
DTSTAMP:20260421T015426
CREATED:20250805T133733Z
LAST-MODIFIED:20250805T133733Z
UID:888125-1754996400-1755000000@bobruisk-library.by
SUMMARY:Сказочная путаница «Собери сказку» 6+
DESCRIPTION:
URL:https://bobruisk-library.by/event/%d1%81%d0%ba%d0%b0%d0%b7%d0%be%d1%87%d0%bd%d0%b0%d1%8f-%d0%bf%d1%83%d1%82%d0%b0%d0%bd%d0%b8%d1%86%d0%b0-%d1%81%d0%be%d0%b1%d0%b5%d1%80%d0%b8-%d1%81%d0%ba%d0%b0%d0%b7%d0%ba%d1%83-6/
LOCATION:ГБ №16\, ул. Гагарина\, 31а\, Бобруйск\, 213810\, Беларусь
END:VEVENT
BEGIN:VEVENT
DTSTART;TZID=Europe/Moscow:20250813T153000
DTEND;TZID=Europe/Moscow:20250813T163000
DTSTAMP:20260421T015426
CREATED:20250805T134556Z
LAST-MODIFIED:20250805T134556Z
UID:888137-1755099000-1755102600@bobruisk-library.by
SUMMARY:Правовой час «Консультация специалиста» (Нотариусы Нотариальной конторы №2 Ленинского района г. Бобруйска) 6+
DESCRIPTION:
URL:https://bobruisk-library.by/event/%d0%bf%d1%80%d0%b0%d0%b2%d0%be%d0%b2%d0%be%d0%b9-%d1%87%d0%b0%d1%81-%d0%ba%d0%be%d0%bd%d1%81%d1%83%d0%bb%d1%8c%d1%82%d0%b0%d1%86%d0%b8%d1%8f-%d1%81%d0%bf%d0%b5%d1%86%d0%b8%d0%b0%d0%bb%d0%b8-11/
LOCATION:ГБ им. А.С.Пушкина\, ул. Советская\, 87\, Бобруйск\, 213827\, Беларусь
END:VEVENT
BEGIN:VEVENT
DTSTART;VALUE=DATE:20250814
DTEND;VALUE=DATE:20250815
DTSTAMP:20260421T015426
CREATED:20250805T133918Z
LAST-MODIFIED:20250805T133918Z
UID:888129-1755129600-1755215999@bobruisk-library.by
SUMMARY:Беседа «Три Спаса – три запаса» у выставки – экспозиции «Август Спасами богат» (В рамках месяца событийного туризма) 6+
DESCRIPTION:
URL:https://bobruisk-library.by/event/%d0%b1%d0%b5%d1%81%d0%b5%d0%b4%d0%b0-%d1%82%d1%80%d0%b8-%d1%81%d0%bf%d0%b0%d1%81%d0%b0-%d1%82%d1%80%d0%b8-%d0%b7%d0%b0%d0%bf%d0%b0%d1%81%d0%b0-%d1%83-%d0%b2%d1%8b%d1%81%d1%82/
LOCATION:ДБ №6 им. Н.А.Островского\, ул. Комсомольская\, 52\, Бобруйск\, 213826\, Беларусь
END:VEVENT
BEGIN:VEVENT
DTSTART;VALUE=DATE:20250814
DTEND;VALUE=DATE:20250815
DTSTAMP:20260421T015426
CREATED:20250805T134143Z
LAST-MODIFIED:20250805T134143Z
UID:888133-1755129600-1755215999@bobruisk-library.by
SUMMARY:Познавательное путешествие «Хочу всё знать!» (в рамках программы летнего досуга и чтения «Летнее приклю-Чтение») 6+
DESCRIPTION:
URL:https://bobruisk-library.by/event/%d0%bf%d0%be%d0%b7%d0%bd%d0%b0%d0%b2%d0%b0%d1%82%d0%b5%d0%bb%d1%8c%d0%bd%d0%be%d0%b5-%d0%bf%d1%83%d1%82%d0%b5%d1%88%d0%b5%d1%81%d1%82%d0%b2%d0%b8%d0%b5-%d1%85%d0%be%d1%87%d1%83-%d0%b2%d1%81/
LOCATION:ЦДБ им. А.П.Гайдара\, ул. Урицкого\, 125\, Бобруйск\, 213809\, Беларусь
END:VEVENT
BEGIN:VEVENT
DTSTART;TZID=Europe/Moscow:20250814T110000
DTEND;TZID=Europe/Moscow:20250814T120000
DTSTAMP:20260421T015426
CREATED:20250805T133854Z
LAST-MODIFIED:20250805T133854Z
UID:888127-1755169200-1755172800@bobruisk-library.by
SUMMARY:Беседа-знакомство «АРТ – Жижель: глина\, огонь и природа» ( в рамках месяца событийного туризма) 6+
DESCRIPTION:
URL:https://bobruisk-library.by/event/%d0%b1%d0%b5%d1%81%d0%b5%d0%b4%d0%b0-%d0%b7%d0%bd%d0%b0%d0%ba%d0%be%d0%bc%d1%81%d1%82%d0%b2%d0%be-%d0%b0%d1%80%d1%82-%d0%b6%d0%b8%d0%b6%d0%b5%d0%bb%d1%8c-%d0%b3%d0%bb%d0%b8%d0%bd/
LOCATION:ГБ №16\, ул. Гагарина\, 31а\, Бобруйск\, 213810\, Беларусь
END:VEVENT
BEGIN:VEVENT
DTSTART;TZID=Europe/Moscow:20250814T110000
DTEND;TZID=Europe/Moscow:20250814T120000
DTSTAMP:20260421T015426
CREATED:20250805T134329Z
LAST-MODIFIED:20250805T134329Z
UID:888135-1755169200-1755172800@bobruisk-library.by
SUMMARY:Литературная скамейка «Солнышко на книжных страницах» 6+
DESCRIPTION:
URL:https://bobruisk-library.by/event/%d0%bb%d0%b8%d1%82%d0%b5%d1%80%d0%b0%d1%82%d1%83%d1%80%d0%bd%d0%b0%d1%8f-%d1%81%d0%ba%d0%b0%d0%bc%d0%b5%d0%b9%d0%ba%d0%b0-%d1%81%d0%be%d0%bb%d0%bd%d1%8b%d1%88%d0%ba%d0%be-%d0%bd%d0%b0-%d0%ba/
LOCATION:ДБ № 5\, ул. 50 лет ВЛКСМ\, 19\, Бобруйск\, 213824\, Беларусь
END:VEVENT
BEGIN:VEVENT
DTSTART;TZID=Europe/Moscow:20250815T100000
DTEND;TZID=Europe/Moscow:20250815T110000
DTSTAMP:20260421T015426
CREATED:20250805T134107Z
LAST-MODIFIED:20250805T134107Z
UID:888131-1755252000-1755255600@bobruisk-library.by
SUMMARY:Информационный час «Нам есть чем гордиться\, нам есть что беречь!» (В рамках цикла «Человек-Благоустройство-Будущее») 6+
DESCRIPTION:
URL:https://bobruisk-library.by/event/%d0%b8%d0%bd%d1%84%d0%be%d1%80%d0%bc%d0%b0%d1%86%d0%b8%d0%be%d0%bd%d0%bd%d1%8b%d0%b9-%d1%87%d0%b0%d1%81-%d0%bd%d0%b0%d0%bc-%d0%b5%d1%81%d1%82%d1%8c-%d1%87%d0%b5%d0%bc-%d0%b3%d0%be%d1%80%d0%b4/
LOCATION:ДБ №6 им. Н.А.Островского\, ул. Комсомольская\, 52\, Бобруйск\, 213826\, Беларусь
END:VEVENT
BEGIN:VEVENT
DTSTART;TZID=Europe/Moscow:20250815T130000
DTEND;TZID=Europe/Moscow:20250815T140000
DTSTAMP:20260421T015426
CREATED:20250806T094938Z
LAST-MODIFIED:20250806T094938Z
UID:888139-1755262800-1755266400@bobruisk-library.by
SUMMARY:Литературный портрет “Назаўсёды застаўся ў Бабруйску” 6+
DESCRIPTION:
URL:https://bobruisk-library.by/event/%d0%bb%d0%b8%d1%82%d0%b5%d1%80%d0%b0%d1%82%d1%83%d1%80%d0%bd%d1%8b%d0%b9-%d0%bf%d0%be%d1%80%d1%82%d1%80%d0%b5%d1%82-%d0%bd%d0%b0%d0%b7%d0%b0%d1%9e%d1%81%d1%91%d0%b4%d1%8b-%d0%b7%d0%b0%d1%81/
LOCATION:ГБ №4 им. Б.Микулича\, пр-т Строителей\, 56\, Бобруйск\, 213807\, Беларусь
END:VEVENT
BEGIN:VEVENT
DTSTART;TZID=Europe/Moscow:20250903T120000
DTEND;TZID=Europe/Moscow:20250903T123000
DTSTAMP:20260421T015426
CREATED:20250827T083852Z
LAST-MODIFIED:20250827T083852Z
UID:888265-1756900800-1756902600@bobruisk-library.by
SUMMARY:Информационный видеообзор «Родники славянской культуры»  в рамках цикла “Мы захаваем для нашчадкаў слова” ко Дню белорусской письменности и печати
DESCRIPTION:
URL:https://bobruisk-library.by/event/%d0%b8%d0%bd%d1%84%d0%be%d1%80%d0%bc%d0%b0%d1%86%d0%b8%d0%be%d0%bd%d0%bd%d1%8b%d0%b9-%d0%b2%d0%b8%d0%b4%d0%b5%d0%be%d0%be%d0%b1%d0%b7%d0%be%d1%80-%d1%80%d0%be%d0%b4%d0%bd%d0%b8%d0%ba%d0%b8/
LOCATION:ГБ им. А.С.Пушкина\, ул. Советская\, 87\, Бобруйск\, 213827\, Беларусь
END:VEVENT
BEGIN:VEVENT
DTSTART;TZID=Europe/Moscow:20250904T130000
DTEND;TZID=Europe/Moscow:20250904T133000
DTSTAMP:20260421T015426
CREATED:20250827T083937Z
LAST-MODIFIED:20250827T084123Z
UID:888267-1756990800-1756992600@bobruisk-library.by
SUMMARY:Информационный час “Шлях друкаванага слова” в рамках цикла “Мы захаваем для нашчадкаў слова” ко Дню белорусской письменности и печати
DESCRIPTION:
URL:https://bobruisk-library.by/event/%d0%b8%d0%bd%d1%84%d0%be%d1%80%d0%bc%d0%b0%d1%86%d0%b8%d0%be%d0%bd%d0%bd%d1%8b%d0%b9-%d1%87%d0%b0%d1%81-%d1%88%d0%bb%d1%8f%d1%85-%d0%b4%d1%80%d1%83%d0%ba%d0%b0%d0%b2%d0%b0%d0%bd%d0%b0%d0%b3/
LOCATION:ЦДБ им. А.П.Гайдара\, ул. Урицкого\, 125\, Бобруйск\, 213809\, Беларусь
END:VEVENT
BEGIN:VEVENT
DTSTART;TZID=Europe/Moscow:20250904T140000
DTEND;TZID=Europe/Moscow:20250904T150000
DTSTAMP:20260421T015426
CREATED:20250827T084042Z
LAST-MODIFIED:20250827T084105Z
UID:888269-1756994400-1756998000@bobruisk-library.by
SUMMARY:Урок знаний «У истоков книги белорусской» в рамках цикла “Мы захаваем для нашчадкаў слова” ко Дню белорусской письменности и печати
DESCRIPTION:
URL:https://bobruisk-library.by/event/%d1%83%d1%80%d0%be%d0%ba-%d0%b7%d0%bd%d0%b0%d0%bd%d0%b8%d0%b9-%d1%83-%d0%b8%d1%81%d1%82%d0%be%d0%ba%d0%be%d0%b2-%d0%ba%d0%bd%d0%b8%d0%b3%d0%b8-%d0%b1%d0%b5%d0%bb%d0%be%d1%80%d1%83%d1%81%d1%81/
LOCATION:ДБ № 5\, ул. 50 лет ВЛКСМ\, 19\, Бобруйск\, 213824\, Беларусь
END:VEVENT
BEGIN:VEVENT
DTSTART;TZID=Europe/Moscow:20250904T143000
DTEND;TZID=Europe/Moscow:20250904T150000
DTSTAMP:20260421T015426
CREATED:20250827T084200Z
LAST-MODIFIED:20250827T084200Z
UID:888271-1756996200-1756998000@bobruisk-library.by
SUMMARY:Исторический портрет «Святая Евфросиния – покровительница земли белорусской» в рамках цикла “Мы захаваем для нашчадкаў слова” ко Дню белорусской письменности и печати
DESCRIPTION:
URL:https://bobruisk-library.by/event/%d0%b8%d1%81%d1%82%d0%be%d1%80%d0%b8%d1%87%d0%b5%d1%81%d0%ba%d0%b8%d0%b9-%d0%bf%d0%be%d1%80%d1%82%d1%80%d0%b5%d1%82-%d1%81%d0%b2%d1%8f%d1%82%d0%b0%d1%8f-%d0%b5%d0%b2%d1%84%d1%80%d0%be%d1%81/
LOCATION:ГБ №7 им. А.А.Шогенцукова\, ул. Интернациональная\, 72в\, Бобруйск\, 213819
END:VEVENT
BEGIN:VEVENT
DTSTART;TZID=Europe/Moscow:20250905T120000
DTEND;TZID=Europe/Moscow:20250905T130000
DTSTAMP:20260421T015426
CREATED:20250827T084309Z
LAST-MODIFIED:20250827T084309Z
UID:888273-1757073600-1757077200@bobruisk-library.by
SUMMARY:Познавательный час «Зямлі маёй роднае слова» в рамках цикла “Мы захаваем для нашчадкаў слова” ко Дню белорусской письменности и печати
DESCRIPTION:
URL:https://bobruisk-library.by/event/%d0%bf%d0%be%d0%b7%d0%bd%d0%b0%d0%b2%d0%b0%d1%82%d0%b5%d0%bb%d1%8c%d0%bd%d1%8b%d0%b9-%d1%87%d0%b0%d1%81-%d0%b7%d1%8f%d0%bc%d0%bb%d1%96-%d0%bc%d0%b0%d1%91%d0%b9-%d1%80%d0%be%d0%b4%d0%bd%d0%b0/
LOCATION:ГБ №16\, ул. Гагарина\, 31а\, Бобруйск\, 213810\, Беларусь
END:VEVENT
BEGIN:VEVENT
DTSTART;TZID=Europe/Moscow:20250905T120000
DTEND;TZID=Europe/Moscow:20250905T130000
DTSTAMP:20260421T015426
CREATED:20250827T084421Z
LAST-MODIFIED:20250827T084421Z
UID:888275-1757073600-1757077200@bobruisk-library.by
SUMMARY:Исторический хронограф “Шляхамі Скарыны” в рамках цикла “Мы захаваем для нашчадкаў слова” ко Дню белорусской письменности и печати
DESCRIPTION:
URL:https://bobruisk-library.by/event/%d0%b8%d1%81%d1%82%d0%be%d1%80%d0%b8%d1%87%d0%b5%d1%81%d0%ba%d0%b8%d0%b9-%d1%85%d1%80%d0%be%d0%bd%d0%be%d0%b3%d1%80%d0%b0%d1%84-%d1%88%d0%bb%d1%8f%d1%85%d0%b0%d0%bc%d1%96-%d1%81%d0%ba%d0%b0/
LOCATION:ГБ №8 им. Е. Полоцкой\, ул. Минская\, 90\, Бобруйск\, 213828\, Беларусь
END:VEVENT
BEGIN:VEVENT
DTSTART;TZID=Europe/Moscow:20250906T120000
DTEND;TZID=Europe/Moscow:20250906T130000
DTSTAMP:20260421T015426
CREATED:20250827T084523Z
LAST-MODIFIED:20250827T084523Z
UID:888277-1757160000-1757163600@bobruisk-library.by
SUMMARY:Литературно-музыкальная  композиция  “Адкрываю\, як свет нанова\, беларускае роднае слова” в рамках цикла “Мы захаваем для нашчадкаў слова” ко Дню белорусской письменности и печати
DESCRIPTION:
URL:https://bobruisk-library.by/event/%d0%bb%d0%b8%d1%82%d0%b5%d1%80%d0%b0%d1%82%d1%83%d1%80%d0%bd%d0%be-%d0%bc%d1%83%d0%b7%d1%8b%d0%ba%d0%b0%d0%bb%d1%8c%d0%bd%d0%b0%d1%8f-%d0%ba%d0%be%d0%bc%d0%bf%d0%be%d0%b7%d0%b8%d1%86%d0%b8%d1%8f-25/
LOCATION:ГБ №4 им. Б.Микулича\, пр-т Строителей\, 56\, Бобруйск\, 213807\, Беларусь
END:VEVENT
BEGIN:VEVENT
DTSTART;TZID=Europe/Moscow:20250909T100000
DTEND;TZID=Europe/Moscow:20250909T110000
DTSTAMP:20260421T015426
CREATED:20250902T110110Z
LAST-MODIFIED:20250902T110110Z
UID:888313-1757412000-1757415600@bobruisk-library.by
SUMMARY:Информационный час «Правила движения достойны уважения»  6+
DESCRIPTION:
URL:https://bobruisk-library.by/event/%d0%b8%d0%bd%d1%84%d0%be%d1%80%d0%bc%d0%b0%d1%86%d0%b8%d0%be%d0%bd%d0%bd%d1%8b%d0%b9-%d1%87%d0%b0%d1%81-%d0%bf%d1%80%d0%b0%d0%b2%d0%b8%d0%bb%d0%b0-%d0%b4%d0%b2%d0%b8%d0%b6%d0%b5%d0%bd%d0%b8/
LOCATION:ГБ №16\, ул. Гагарина\, 31а\, Бобруйск\, 213810\, Беларусь
END:VEVENT
END:VCALENDAR