BEGIN:VCALENDAR
VERSION:2.0
PRODID:-//Учреждение культуры &quot;Библиотечная система города Бобруйска&quot; - ECPv6.15.20//NONSGML v1.0//EN
CALSCALE:GREGORIAN
METHOD:PUBLISH
X-ORIGINAL-URL:https://bobruisk-library.by
X-WR-CALDESC:Мероприятия для Учреждение культуры &quot;Библиотечная система города Бобруйска&quot;
REFRESH-INTERVAL;VALUE=DURATION:PT1H
X-Robots-Tag:noindex
X-PUBLISHED-TTL:PT1H
BEGIN:VTIMEZONE
TZID:Europe/Moscow
BEGIN:STANDARD
TZOFFSETFROM:+0300
TZOFFSETTO:+0300
TZNAME:MSK
DTSTART:20250101T000000
END:STANDARD
END:VTIMEZONE
BEGIN:VEVENT
DTSTART;VALUE=DATE:20260216
DTEND;VALUE=DATE:20260223
DTSTAMP:20260420T161824
CREATED:20260211T060743Z
LAST-MODIFIED:20260211T060743Z
UID:891205-1771200000-1771804799@bobruisk-library.by
SUMMARY:Акция «Перакладзі слова – успомні мову» 6+
DESCRIPTION:
URL:https://bobruisk-library.by/event/%d0%b0%d0%ba%d1%86%d0%b8%d1%8f-%d0%bf%d0%b5%d1%80%d0%b0%d0%ba%d0%bb%d0%b0%d0%b4%d0%b7%d1%96-%d1%81%d0%bb%d0%be%d0%b2%d0%b0-%d1%83%d1%81%d0%bf%d0%be%d0%bc%d0%bd%d1%96-%d0%bc%d0%be%d0%b2/
LOCATION:ЦГБ им. М.Горького\, ул. Советская\, 64\, Бобруйск\, 213826\, Беларусь
END:VEVENT
BEGIN:VEVENT
DTSTART;TZID=Europe/Moscow:20260216T140000
DTEND;TZID=Europe/Moscow:20260216T150000
DTSTAMP:20260420T161824
CREATED:20260211T140733Z
LAST-MODIFIED:20260211T140733Z
UID:891231-1771250400-1771254000@bobruisk-library.by
SUMMARY:Урок мужества «Рубцом на сердце лёг  Афганистан»(в рамках цикла патриотических мероприятий и выставок «Память жива» ко Дню памяти воинов-интерналистов) 6+
DESCRIPTION:
URL:https://bobruisk-library.by/event/%d1%83%d1%80%d0%be%d0%ba-%d0%bc%d1%83%d0%b6%d0%b5%d1%81%d1%82%d0%b2%d0%b0-%d1%80%d1%83%d0%b1%d1%86%d0%be%d0%bc-%d0%bd%d0%b0-%d1%81%d0%b5%d1%80%d0%b4%d1%86%d0%b5-%d0%bb%d1%91%d0%b3-%d0%b0%d1%84/
LOCATION:ГБ №4 им. Б.Микулича\, пр-т Строителей\, 56\, Бобруйск\, 213807\, Беларусь
END:VEVENT
BEGIN:VEVENT
DTSTART;TZID=Europe/Moscow:20260217T100000
DTEND;TZID=Europe/Moscow:20260217T110000
DTSTAMP:20260420T161824
CREATED:20260211T054256Z
LAST-MODIFIED:20260211T054256Z
UID:891193-1771322400-1771326000@bobruisk-library.by
SUMMARY:Литературная квест-игра  «В гостях у А. Барто» 6+
DESCRIPTION:
URL:https://bobruisk-library.by/event/%d0%bb%d0%b8%d1%82%d0%b5%d1%80%d0%b0%d1%82%d1%83%d1%80%d0%bd%d0%b0%d1%8f-%d0%ba%d0%b2%d0%b5%d1%81%d1%82-%d0%b8%d0%b3%d1%80%d0%b0-%d0%b2-%d0%b3%d0%be%d1%81%d1%82%d1%8f%d1%85-%d1%83-%d0%b0/
LOCATION:ГБ №16\, ул. Гагарина\, 31а\, Бобруйск\, 213810\, Беларусь
END:VEVENT
BEGIN:VEVENT
DTSTART;TZID=Europe/Moscow:20260217T100000
DTEND;TZID=Europe/Moscow:20260217T110000
DTSTAMP:20260420T161824
CREATED:20260211T054905Z
LAST-MODIFIED:20260211T054905Z
UID:891203-1771322400-1771326000@bobruisk-library.by
SUMMARY:Урок белорусоведения «Срэбныя званы матчынай мовы» (к Международному дню родного языка) 6+
DESCRIPTION:
URL:https://bobruisk-library.by/event/%d1%83%d1%80%d0%be%d0%ba-%d0%b1%d0%b5%d0%bb%d0%be%d1%80%d1%83%d1%81%d0%be%d0%b2%d0%b5%d0%b4%d0%b5%d0%bd%d0%b8%d1%8f-%d1%81%d1%80%d1%8d%d0%b1%d0%bd%d1%8b%d1%8f-%d0%b7%d0%b2%d0%b0%d0%bd%d1%8b/
LOCATION:ДБ № 5\, ул. 50 лет ВЛКСМ\, 19\, Бобруйск\, 213824\, Беларусь
END:VEVENT
BEGIN:VEVENT
DTSTART;TZID=Europe/Moscow:20260217T100000
DTEND;TZID=Europe/Moscow:20260217T110000
DTSTAMP:20260420T161824
CREATED:20260211T061317Z
LAST-MODIFIED:20260211T061317Z
UID:891213-1771322400-1771326000@bobruisk-library.by
SUMMARY:Зоо-портрет «Чудо- лошадь» 6+
DESCRIPTION:
URL:https://bobruisk-library.by/event/%d0%b7%d0%be%d0%be-%d0%bf%d0%be%d1%80%d1%82%d1%80%d0%b5%d1%82-%d1%87%d1%83%d0%b4%d0%be-%d0%bb%d0%be%d1%88%d0%b0%d0%b4%d1%8c-6/
LOCATION:ГБ №8 им. Е. Полоцкой\, ул. Минская\, 90\, Бобруйск\, 213828\, Беларусь
END:VEVENT
BEGIN:VEVENT
DTSTART;TZID=Europe/Moscow:20260218T100000
DTEND;TZID=Europe/Moscow:20260218T110000
DTSTAMP:20260420T161824
CREATED:20260211T061419Z
LAST-MODIFIED:20260211T061419Z
UID:891215-1771408800-1771412400@bobruisk-library.by
SUMMARY:Конкурсно-игровая программа «Вперед\,  мальчишки!» (23 февраля – День защитника Отечества и Вооруженных сил Республики Беларусь); (в рамках цикла библиотечных выставок и мероприятий «Славим доблесть\, честь и мужество» 6+
DESCRIPTION:
URL:https://bobruisk-library.by/event/%d0%ba%d0%be%d0%bd%d0%ba%d1%83%d1%80%d1%81%d0%bd%d0%be-%d0%b8%d0%b3%d1%80%d0%be%d0%b2%d0%b0%d1%8f-%d0%bf%d1%80%d0%be%d0%b3%d1%80%d0%b0%d0%bc%d0%bc%d0%b0-%d0%b2%d0%bf%d0%b5%d1%80%d0%b5%d0%b4/
LOCATION:ГБ №8 им. Е. Полоцкой\, ул. Минская\, 90\, Бобруйск\, 213828\, Беларусь
END:VEVENT
BEGIN:VEVENT
DTSTART;TZID=Europe/Moscow:20260218T110000
DTEND;TZID=Europe/Moscow:20260218T120000
DTSTAMP:20260420T161824
CREATED:20260211T141035Z
LAST-MODIFIED:20260211T141035Z
UID:891233-1771412400-1771416000@bobruisk-library.by
SUMMARY:Час информации «Мы в  ответе за свои поступки» (час профилактики правонарушений «Знание – основа воспитания») 6+
DESCRIPTION:
URL:https://bobruisk-library.by/event/%d1%87%d0%b0%d1%81-%d0%b8%d0%bd%d1%84%d0%be%d1%80%d0%bc%d0%b0%d1%86%d0%b8%d0%b8-%d0%bc%d1%8b-%d0%b2-%d0%be%d1%82%d0%b2%d0%b5%d1%82%d0%b5-%d0%b7%d0%b0-%d1%81%d0%b2%d0%be%d0%b8-%d0%bf%d0%be%d1%81/
LOCATION:ГБ №4 им. Б.Микулича\, пр-т Строителей\, 56\, Бобруйск\, 213807\, Беларусь
END:VEVENT
BEGIN:VEVENT
DTSTART;TZID=Europe/Moscow:20260218T120000
DTEND;TZID=Europe/Moscow:20260218T130000
DTSTAMP:20260420T161824
CREATED:20260211T061524Z
LAST-MODIFIED:20260211T061524Z
UID:891217-1771416000-1771419600@bobruisk-library.by
SUMMARY:Литературный час “Казкі з  рукавічкі” (21 февраля –  Международный день родного языка); (в рамках библиотечной акции “Роднай мовы гук чароўны”) 6+
DESCRIPTION:
URL:https://bobruisk-library.by/event/%d0%bb%d0%b8%d1%82%d0%b5%d1%80%d0%b0%d1%82%d1%83%d1%80%d0%bd%d1%8b%d0%b9-%d1%87%d0%b0%d1%81-%d0%ba%d0%b0%d0%b7%d0%ba%d1%96-%d0%b7-%d1%80%d1%83%d0%ba%d0%b0%d0%b2%d1%96%d1%87%d0%ba%d1%96/
LOCATION:ГБ №8 им. Е. Полоцкой\, ул. Минская\, 90\, Бобруйск\, 213828\, Беларусь
END:VEVENT
BEGIN:VEVENT
DTSTART;TZID=Europe/Moscow:20260218T134000
DTEND;TZID=Europe/Moscow:20260218T143000
DTSTAMP:20260420T161824
CREATED:20260211T061052Z
LAST-MODIFIED:20260211T061052Z
UID:891209-1771422000-1771425000@bobruisk-library.by
SUMMARY:Познавательный час “Гучы гоман беларускі!” (К Международному дню родного языка) 6+
DESCRIPTION:
URL:https://bobruisk-library.by/event/%d0%bf%d0%be%d0%b7%d0%bd%d0%b0%d0%b2%d0%b0%d1%82%d0%b5%d0%bb%d1%8c%d0%bd%d1%8b%d0%b9-%d1%87%d0%b0%d1%81-%d0%b3%d1%83%d1%87%d1%8b-%d0%b3%d0%be%d0%bc%d0%b0%d0%bd-%d0%b1%d0%b5%d0%bb%d0%b0%d1%80-2/
LOCATION:ДБ №6 им. Н.А.Островского\, ул. Комсомольская\, 52\, Бобруйск\, 213826\, Беларусь
END:VEVENT
BEGIN:VEVENT
DTSTART;TZID=Europe/Moscow:20260218T142000
DTEND;TZID=Europe/Moscow:20260218T150000
DTSTAMP:20260420T161824
CREATED:20260211T054623Z
LAST-MODIFIED:20260211T054623Z
UID:891199-1771424400-1771426800@bobruisk-library.by
SUMMARY:Арт-знакомство  Наследие эпохи Михаила Савицкого» (18.02. – День рождения народного художника Беларуси\, который в 2006 году был удостоен звания Героя Беларуси исключительные заслуги в социально-экономическом развитии Беларуси) 6+
DESCRIPTION:
URL:https://bobruisk-library.by/event/%d0%b0%d1%80%d1%82-%d0%b7%d0%bd%d0%b0%d0%ba%d0%be%d0%bc%d1%81%d1%82%d0%b2%d0%be-%d0%bd%d0%b0%d1%81%d0%bb%d0%b5%d0%b4%d0%b8%d0%b5-%d1%8d%d0%bf%d0%be%d1%85%d0%b8-%d0%bc%d0%b8%d1%85%d0%b0%d0%b8%d0%bb/
LOCATION:ГБ №7 им. А.А.Шогенцукова\, ул. Интернациональная\, 72в\, Бобруйск\, 213819
END:VEVENT
BEGIN:VEVENT
DTSTART;TZID=Europe/Moscow:20260218T150000
DTEND;TZID=Europe/Moscow:20260218T160000
DTSTAMP:20260420T161824
CREATED:20260211T141059Z
LAST-MODIFIED:20260211T141059Z
UID:891235-1771426800-1771430400@bobruisk-library.by
SUMMARY:Час информации «Мы в  ответе за свои поступки» (час профилактики правонарушений «Знание – основа воспитания») 6+
DESCRIPTION:
URL:https://bobruisk-library.by/event/%d1%87%d0%b0%d1%81-%d0%b8%d0%bd%d1%84%d0%be%d1%80%d0%bc%d0%b0%d1%86%d0%b8%d0%b8-%d0%bc%d1%8b-%d0%b2-%d0%be%d1%82%d0%b2%d0%b5%d1%82%d0%b5-%d0%b7%d0%b0-%d1%81%d0%b2%d0%be%d0%b8-%d0%bf%d0%be%d1%81-2/
LOCATION:ГБ №4 им. Б.Микулича\, пр-т Строителей\, 56\, Бобруйск\, 213807\, Беларусь
END:VEVENT
BEGIN:VEVENT
DTSTART;TZID=Europe/Moscow:20260218T173000
DTEND;TZID=Europe/Moscow:20260218T180000
DTSTAMP:20260420T161824
CREATED:20260211T061614Z
LAST-MODIFIED:20260211T061614Z
UID:891219-1771435800-1771437600@bobruisk-library.by
SUMMARY:Лаборатория  читательского  вкуса «Территория чтения» 6+
DESCRIPTION:
URL:https://bobruisk-library.by/event/%d0%bb%d0%b0%d0%b1%d0%be%d1%80%d0%b0%d1%82%d0%be%d1%80%d0%b8%d1%8f-%d1%87%d0%b8%d1%82%d0%b0%d1%82%d0%b5%d0%bb%d1%8c%d1%81%d0%ba%d0%be%d0%b3%d0%be-%d0%b2%d0%ba%d1%83%d1%81%d0%b0-%d1%82%d0%b5-4/
LOCATION:ГБ №8 им. Е. Полоцкой\, ул. Минская\, 90\, Бобруйск\, 213828\, Беларусь
END:VEVENT
BEGIN:VEVENT
DTSTART;TZID=Europe/Moscow:20260219T100000
DTEND;TZID=Europe/Moscow:20260219T110000
DTSTAMP:20260420T161824
CREATED:20260211T054359Z
LAST-MODIFIED:20260211T054359Z
UID:891195-1771495200-1771498800@bobruisk-library.by
SUMMARY:Литературное путешествие “Роднага  краю казкі – чытай калі ласка” (в рамках библиотечной акции “Роднай мовы гук чароўны”) 6+
DESCRIPTION:
URL:https://bobruisk-library.by/event/%d0%bb%d0%b8%d1%82%d0%b5%d1%80%d0%b0%d1%82%d1%83%d1%80%d0%bd%d0%be%d0%b5-%d0%bf%d1%83%d1%82%d0%b5%d1%88%d0%b5%d1%81%d1%82%d0%b2%d0%b8%d0%b5-%d1%80%d0%be%d0%b4%d0%bd%d0%b0%d0%b3%d0%b0-%d0%ba/
LOCATION:ГБ №16\, ул. Гагарина\, 31а\, Бобруйск\, 213810\, Беларусь
END:VEVENT
BEGIN:VEVENT
DTSTART;TZID=Europe/Moscow:20260219T103000
DTEND;TZID=Europe/Moscow:20260219T113000
DTSTAMP:20260420T161824
CREATED:20260211T061713Z
LAST-MODIFIED:20260211T061713Z
UID:891221-1771497000-1771500600@bobruisk-library.by
SUMMARY:Сказочная информина  “Сцежкамі беларускіх  казак” (21 февраля – Международный день родного языка); (в рамках библиотечной акции “Роднай мовы гук чароўны”) 6+
DESCRIPTION:
URL:https://bobruisk-library.by/event/%d1%81%d0%ba%d0%b0%d0%b7%d0%be%d1%87%d0%bd%d0%b0%d1%8f-%d0%b8%d0%bd%d1%84%d0%be%d1%80%d0%bc%d0%b8%d0%bd%d0%b0-%d1%81%d1%86%d0%b5%d0%b6%d0%ba%d0%b0%d0%bc%d1%96-%d0%b1%d0%b5%d0%bb%d0%b0%d1%80/
LOCATION:ГБ №8 им. Е. Полоцкой\, ул. Минская\, 90\, Бобруйск\, 213828\, Беларусь
END:VEVENT
BEGIN:VEVENT
DTSTART;TZID=Europe/Moscow:20260219T120000
DTEND;TZID=Europe/Moscow:20260219T130000
DTSTAMP:20260420T161824
CREATED:20260211T061803Z
LAST-MODIFIED:20260211T061803Z
UID:891223-1771502400-1771506000@bobruisk-library.by
SUMMARY:Познавательный час  «Здравствуй\, Масленица» 6+
DESCRIPTION:
URL:https://bobruisk-library.by/event/%d0%bf%d0%be%d0%b7%d0%bd%d0%b0%d0%b2%d0%b0%d1%82%d0%b5%d0%bb%d1%8c%d0%bd%d1%8b%d0%b9-%d1%87%d0%b0%d1%81-%d0%b7%d0%b4%d1%80%d0%b0%d0%b2%d1%81%d1%82%d0%b2%d1%83%d0%b9-%d0%bc%d0%b0%d1%81%d0%bb/
LOCATION:ГБ №8 им. Е. Полоцкой\, ул. Минская\, 90\, Бобруйск\, 213828\, Беларусь
END:VEVENT
BEGIN:VEVENT
DTSTART;TZID=Europe/Moscow:20260219T130000
DTEND;TZID=Europe/Moscow:20260219T140000
DTSTAMP:20260420T161824
CREATED:20260211T060930Z
LAST-MODIFIED:20260211T060937Z
UID:891207-1771506000-1771509600@bobruisk-library.by
SUMMARY:Час общения «Я и мои виртуальные друзья» 6+
DESCRIPTION:
URL:https://bobruisk-library.by/event/%d1%87%d0%b0%d1%81-%d0%be%d0%b1%d1%89%d0%b5%d0%bd%d0%b8%d1%8f-%d1%8f-%d0%b8-%d0%bc%d0%be%d0%b8-%d0%b2%d0%b8%d1%80%d1%82%d1%83%d0%b0%d0%bb%d1%8c%d0%bd%d1%8b%d0%b5-%d0%b4%d1%80%d1%83%d0%b7%d1%8c/
LOCATION:ЦГБ им. М.Горького\, ул. Советская\, 64\, Бобруйск\, 213826\, Беларусь
END:VEVENT
BEGIN:VEVENT
DTSTART;TZID=Europe/Moscow:20260219T130000
DTEND;TZID=Europe/Moscow:20260219T140000
DTSTAMP:20260420T161824
CREATED:20260211T061152Z
LAST-MODIFIED:20260211T061152Z
UID:891211-1771506000-1771509600@bobruisk-library.by
SUMMARY:Познавательно-игровая программа «Красив в строю\,  силён в бою» (Ко Дню защитника Отечества) 6+
DESCRIPTION:
URL:https://bobruisk-library.by/event/%d0%bf%d0%be%d0%b7%d0%bd%d0%b0%d0%b2%d0%b0%d1%82%d0%b5%d0%bb%d1%8c%d0%bd%d0%be-%d0%b8%d0%b3%d1%80%d0%be%d0%b2%d0%b0%d1%8f-%d0%bf%d1%80%d0%be%d0%b3%d1%80%d0%b0%d0%bc%d0%bc%d0%b0-%d0%ba%d1%80/
LOCATION:ДБ №6 им. Н.А.Островского\, ул. Комсомольская\, 52\, Бобруйск\, 213826\, Беларусь
END:VEVENT
BEGIN:VEVENT
DTSTART;VALUE=DATE:20260220
DTEND;VALUE=DATE:20260222
DTSTAMP:20260420T161824
CREATED:20260211T053704Z
LAST-MODIFIED:20260211T053704Z
UID:891182-1771545600-1771718399@bobruisk-library.by
SUMMARY:Акция-поздравление “Дзіўная\, родная мова…” (21.02. – Международный день родного языка) 6+
DESCRIPTION:
URL:https://bobruisk-library.by/event/%d0%b0%d0%ba%d1%86%d0%b8%d1%8f-%d0%bf%d0%be%d0%b7%d0%b4%d1%80%d0%b0%d0%b2%d0%bb%d0%b5%d0%bd%d0%b8%d0%b5-%d0%b4%d0%b7%d1%96%d1%9e%d0%bd%d0%b0%d1%8f-%d1%80%d0%be%d0%b4%d0%bd%d0%b0%d1%8f-%d0%bc/
LOCATION:ГБ им. А.С.Пушкина\, ул. Советская\, 87\, Бобруйск\, 213827\, Беларусь
END:VEVENT
BEGIN:VEVENT
DTSTART;VALUE=DATE:20260220
DTEND;VALUE=DATE:20260221
DTSTAMP:20260420T161824
CREATED:20260211T054010Z
LAST-MODIFIED:20260211T054010Z
UID:891189-1771545600-1771631999@bobruisk-library.by
SUMMARY:Информационный обзор «Женщина-мать: источник жизни\, любви и традиций» 6+
DESCRIPTION:
URL:https://bobruisk-library.by/event/%d0%b8%d0%bd%d1%84%d0%be%d1%80%d0%bc%d0%b0%d1%86%d0%b8%d0%be%d0%bd%d0%bd%d1%8b%d0%b9-%d0%be%d0%b1%d0%b7%d0%be%d1%80-%d0%b6%d0%b5%d0%bd%d1%89%d0%b8%d0%bd%d0%b0-%d0%bc%d0%b0%d1%82%d1%8c-%d0%b8/
LOCATION:ГБ им. А.С.Пушкина\, ул. Советская\, 87\, Бобруйск\, 213827\, Беларусь
END:VEVENT
BEGIN:VEVENT
DTSTART;VALUE=DATE:20260220
DTEND;VALUE=DATE:20260221
DTSTAMP:20260420T161824
CREATED:20260211T061918Z
LAST-MODIFIED:20260211T061918Z
UID:891227-1771545600-1771631999@bobruisk-library.by
SUMMARY:Игра “А як па-беларуску?” (21(21 февраля – Международный день родного языка); (в рамках акции “Кожная пятніца – роднае\, сваё”) 6+
DESCRIPTION:
URL:https://bobruisk-library.by/event/%d0%b8%d0%b3%d1%80%d0%b0-%d0%b0-%d1%8f%d0%ba-%d0%bf%d0%b0-%d0%b1%d0%b5%d0%bb%d0%b0%d1%80%d1%83%d1%81%d0%ba%d1%83-2121-%d1%84%d0%b5%d0%b2%d1%80%d0%b0%d0%bb%d1%8f-%d0%bc/
LOCATION:ГБ №8 им. Е. Полоцкой\, ул. Минская\, 90\, Бобруйск\, 213828\, Беларусь
END:VEVENT
BEGIN:VEVENT
DTSTART;TZID=Europe/Moscow:20260220T110000
DTEND;TZID=Europe/Moscow:20260220T120000
DTSTAMP:20260420T161824
CREATED:20260211T054752Z
LAST-MODIFIED:20260211T054752Z
UID:891201-1771585200-1771588800@bobruisk-library.by
SUMMARY:Турнир будущих воинов «Слава воину – защитнику» (в рамках цикла библиотечных выставок и мероприятий «Славим доблесть\, честь и мужество» ко Дню защитников Отечества и Вооруженных Сил Республики Беларусь) 6+
DESCRIPTION:
URL:https://bobruisk-library.by/event/%d1%82%d1%83%d1%80%d0%bd%d0%b8%d1%80-%d0%b1%d1%83%d0%b4%d1%83%d1%89%d0%b8%d1%85-%d0%b2%d0%be%d0%b8%d0%bd%d0%be%d0%b2-%d1%81%d0%bb%d0%b0%d0%b2%d0%b0-%d0%b2%d0%be%d0%b8%d0%bd%d1%83/
LOCATION:ДБ № 5\, ул. 50 лет ВЛКСМ\, 19\, Бобруйск\, 213824\, Беларусь
END:VEVENT
BEGIN:VEVENT
DTSTART;TZID=Europe/Moscow:20260220T120000
DTEND;TZID=Europe/Moscow:20260220T130000
DTSTAMP:20260420T161824
CREATED:20260211T053919Z
LAST-MODIFIED:20260211T053919Z
UID:891186-1771588800-1771592400@bobruisk-library.by
SUMMARY:Библиоурок «Пушкин на века» (Библиотечный проект «Я Пушкина читаю вдохновенно») 6+
DESCRIPTION:
URL:https://bobruisk-library.by/event/%d0%b1%d0%b8%d0%b1%d0%bb%d0%b8%d0%be%d1%83%d1%80%d0%be%d0%ba-%d0%bf%d1%83%d1%88%d0%ba%d0%b8%d0%bd-%d0%bd%d0%b0-%d0%b2%d0%b5%d0%ba%d0%b0-%d0%b1%d0%b8%d0%b1%d0%bb%d0%b8%d0%be%d1%82%d0%b5/
LOCATION:ГБ им. А.С.Пушкина\, ул. Советская\, 87\, Бобруйск\, 213827\, Беларусь
END:VEVENT
BEGIN:VEVENT
DTSTART;TZID=Europe/Moscow:20260220T120000
DTEND;TZID=Europe/Moscow:20260220T130000
DTSTAMP:20260420T161824
CREATED:20260211T061841Z
LAST-MODIFIED:20260211T061841Z
UID:891225-1771588800-1771592400@bobruisk-library.by
SUMMARY:Познавательный час  «Здравствуй\, Масленица» 6+
DESCRIPTION:
URL:https://bobruisk-library.by/event/%d0%bf%d0%be%d0%b7%d0%bd%d0%b0%d0%b2%d0%b0%d1%82%d0%b5%d0%bb%d1%8c%d0%bd%d1%8b%d0%b9-%d1%87%d0%b0%d1%81-%d0%b7%d0%b4%d1%80%d0%b0%d0%b2%d1%81%d1%82%d0%b2%d1%83%d0%b9-%d0%bc%d0%b0%d1%81%d0%bb-2/
LOCATION:ГБ №16\, ул. Гагарина\, 31а\, Бобруйск\, 213810\, Беларусь
END:VEVENT
BEGIN:VEVENT
DTSTART;TZID=Europe/Moscow:20260220T150000
DTEND;TZID=Europe/Moscow:20260220T160000
DTSTAMP:20260420T161824
CREATED:20260211T073745Z
LAST-MODIFIED:20260211T073745Z
UID:891229-1771599600-1771603200@bobruisk-library.by
SUMMARY:Информационный час «Наркотики против нас— мы против наркотиков» 6+
DESCRIPTION:
URL:https://bobruisk-library.by/event/%d0%b8%d0%bd%d1%84%d0%be%d1%80%d0%bc%d0%b0%d1%86%d0%b8%d0%be%d0%bd%d0%bd%d1%8b%d0%b9-%d1%87%d0%b0%d1%81-%d0%bd%d0%b0%d1%80%d0%ba%d0%be%d1%82%d0%b8%d0%ba%d0%b8-%d0%bf%d1%80%d0%be%d1%82%d0%b8/
LOCATION:ГБ им. А.С.Пушкина\, ул. Советская\, 87\, Бобруйск\, 213827\, Беларусь
END:VEVENT
BEGIN:VEVENT
DTSTART;VALUE=DATE:20260221
DTEND;VALUE=DATE:20260222
DTSTAMP:20260420T161824
CREATED:20260211T054456Z
LAST-MODIFIED:20260211T054456Z
UID:891197-1771632000-1771718399@bobruisk-library.by
SUMMARY:Библиопризыв “Не  палічы лішнім – вазьмі в беларускую кніжку” (в рамках библиотечной акции “Роднай мовы гук чароўны”) 6+
DESCRIPTION:
URL:https://bobruisk-library.by/event/%d0%b1%d0%b8%d0%b1%d0%bb%d0%b8%d0%be%d0%bf%d1%80%d0%b8%d0%b7%d1%8b%d0%b2-%d0%bd%d0%b5-%d0%bf%d0%b0%d0%bb%d1%96%d1%87%d1%8b-%d0%bb%d1%96%d1%88%d0%bd%d1%96%d0%bc-%d0%b2%d0%b0%d0%b7/
LOCATION:ГБ №16\, ул. Гагарина\, 31а\, Бобруйск\, 213810\, Беларусь
END:VEVENT
BEGIN:VEVENT
DTSTART;TZID=Europe/Moscow:20260223T130000
DTEND;TZID=Europe/Moscow:20260223T140000
DTSTAMP:20260420T161824
CREATED:20260217T130954Z
LAST-MODIFIED:20260217T130954Z
UID:891326-1771851600-1771855200@bobruisk-library.by
SUMMARY:Игровая программа  «Армейское спортлото» 6+
DESCRIPTION:
URL:https://bobruisk-library.by/event/%d0%b8%d0%b3%d1%80%d0%be%d0%b2%d0%b0%d1%8f-%d0%bf%d1%80%d0%be%d0%b3%d1%80%d0%b0%d0%bc%d0%bc%d0%b0-%d0%b0%d1%80%d0%bc%d0%b5%d0%b9%d1%81%d0%ba%d0%be%d0%b5-%d1%81%d0%bf%d0%be%d1%80%d1%82%d0%bb/
LOCATION:ГБ №16\, ул. Гагарина\, 31а\, Бобруйск\, 213810\, Беларусь
END:VEVENT
BEGIN:VEVENT
DTSTART;TZID=Europe/Moscow:20260223T130000
DTEND;TZID=Europe/Moscow:20260223T140000
DTSTAMP:20260420T161824
CREATED:20260217T133259Z
LAST-MODIFIED:20260217T133259Z
UID:891337-1771851600-1771855200@bobruisk-library.by
SUMMARY:Патриотический урок «Праздник мужества и доблести» (23.02. – День защитников Отечества и Вооруженных Сил Республики Беларусь) 6+
DESCRIPTION:
URL:https://bobruisk-library.by/event/%d0%bf%d0%b0%d1%82%d1%80%d0%b8%d0%be%d1%82%d0%b8%d1%87%d0%b5%d1%81%d0%ba%d0%b8%d0%b9-%d1%83%d1%80%d0%be%d0%ba-%d0%bf%d1%80%d0%b0%d0%b7%d0%b4%d0%bd%d0%b8%d0%ba-%d0%bc%d1%83%d0%b6%d0%b5%d1%81/
LOCATION:ЦГБ им. М.Горького\, ул. Советская\, 64\, Бобруйск\, 213826\, Беларусь
END:VEVENT
BEGIN:VEVENT
DTSTART;TZID=Europe/Moscow:20260223T153000
DTEND;TZID=Europe/Moscow:20260223T163000
DTSTAMP:20260420T161824
CREATED:20260217T131255Z
LAST-MODIFIED:20260217T131255Z
UID:891333-1771860600-1771864200@bobruisk-library.by
SUMMARY:Конкурсно-игровая программа «Вперед\,  мальчишки!» (23 февраля – День защитника Отечества и Вооруженных сил Республики Беларусь); (в рамках цикла библиотечных выставок и мероприятий «Славим доблесть\, честь и мужество») 6+
DESCRIPTION:
URL:https://bobruisk-library.by/event/%d0%ba%d0%be%d0%bd%d0%ba%d1%83%d1%80%d1%81%d0%bd%d0%be-%d0%b8%d0%b3%d1%80%d0%be%d0%b2%d0%b0%d1%8f-%d0%bf%d1%80%d0%be%d0%b3%d1%80%d0%b0%d0%bc%d0%bc%d0%b0-%d0%b2%d0%bf%d0%b5%d1%80%d0%b5%d0%b4-2/
LOCATION:ГБ №8 им. Е. Полоцкой\, ул. Минская\, 90\, Бобруйск\, 213828\, Беларусь
END:VEVENT
BEGIN:VEVENT
DTSTART;TZID=Europe/Moscow:20260224T130000
DTEND;TZID=Europe/Moscow:20260224T140000
DTSTAMP:20260420T161824
CREATED:20260217T130802Z
LAST-MODIFIED:20260217T130802Z
UID:891324-1771938000-1771941600@bobruisk-library.by
SUMMARY:Шок-урок «Темнота тоже распространяется со скоростью света» 6+
DESCRIPTION:
URL:https://bobruisk-library.by/event/%d1%88%d0%be%d0%ba-%d1%83%d1%80%d0%be%d0%ba-%d1%82%d0%b5%d0%bc%d0%bd%d0%be%d1%82%d0%b0-%d1%82%d0%be%d0%b6%d0%b5-%d1%80%d0%b0%d1%81%d0%bf%d1%80%d0%be%d1%81%d1%82%d1%80%d0%b0%d0%bd%d1%8f%d0%b5/
LOCATION:ДБ № 5\, ул. 50 лет ВЛКСМ\, 19\, Бобруйск\, 213824\, Беларусь
END:VEVENT
BEGIN:VEVENT
DTSTART;TZID=Europe/Moscow:20260225T130000
DTEND;TZID=Europe/Moscow:20260225T140000
DTSTAMP:20260420T161824
CREATED:20260218T105633Z
LAST-MODIFIED:20260218T105633Z
UID:891339-1772024400-1772028000@bobruisk-library.by
SUMMARY:Час-предупреждения «У  опасной черты» 6+
DESCRIPTION:
URL:https://bobruisk-library.by/event/%d1%87%d0%b0%d1%81-%d0%bf%d1%80%d0%b5%d0%b4%d1%83%d0%bf%d1%80%d0%b5%d0%b6%d0%b4%d0%b5%d0%bd%d0%b8%d1%8f-%d1%83-%d0%be%d0%bf%d0%b0%d1%81%d0%bd%d0%be%d0%b9-%d1%87%d0%b5%d1%80%d1%82%d1%8b-6/
LOCATION:ГБ №4 им. Б.Микулича\, пр-т Строителей\, 56\, Бобруйск\, 213807\, Беларусь
END:VEVENT
END:VCALENDAR