BEGIN:VCALENDAR
VERSION:2.0
PRODID:-//Учреждение культуры &quot;Библиотечная система города Бобруйска&quot; - ECPv6.15.20//NONSGML v1.0//EN
CALSCALE:GREGORIAN
METHOD:PUBLISH
X-ORIGINAL-URL:https://bobruisk-library.by
X-WR-CALDESC:Мероприятия для Учреждение культуры &quot;Библиотечная система города Бобруйска&quot;
REFRESH-INTERVAL;VALUE=DURATION:PT1H
X-Robots-Tag:noindex
X-PUBLISHED-TTL:PT1H
BEGIN:VTIMEZONE
TZID:Europe/Moscow
BEGIN:STANDARD
TZOFFSETFROM:+0300
TZOFFSETTO:+0300
TZNAME:MSK
DTSTART:20250101T000000
END:STANDARD
END:VTIMEZONE
BEGIN:VEVENT
DTSTART;TZID=Europe/Moscow:20260322T120000
DTEND;TZID=Europe/Moscow:20260322T130000
DTSTAMP:20260420T131907
CREATED:20260311T064347Z
LAST-MODIFIED:20260311T064347Z
UID:891643-1774180800-1774184400@bobruisk-library.by
SUMMARY:Час поэзии "И вновь душа поэзией полна"  (21.03. – Всемирный день поэзии) 6+
DESCRIPTION:
URL:https://bobruisk-library.by/event/%d1%87%d0%b0%d1%81-%d0%bf%d0%be%d1%8d%d0%b7%d0%b8%d0%b8-%d0%b8-%d0%b2%d0%bd%d0%be%d0%b2%d1%8c-%d0%b4%d1%83%d1%88%d0%b0-%d0%bf%d0%be%d1%8d%d0%b7%d0%b8%d0%b5%d0%b9-%d0%bf%d0%be%d0%bb%d0%bd%d0%b0-2/
LOCATION:ЦГБ им. М.Горького\, ул. Советская\, 64\, Бобруйск\, 213826\, Беларусь
END:VEVENT
BEGIN:VEVENT
DTSTART;TZID=Europe/Moscow:20260323T100000
DTEND;TZID=Europe/Moscow:20260323T110000
DTSTAMP:20260420T131907
CREATED:20260317T080414Z
LAST-MODIFIED:20260317T080414Z
UID:891735-1774260000-1774263600@bobruisk-library.by
SUMMARY:Сказочно-игровая программа «Волшебные  страницы» (в рамках цикла мероприятий на весенние каникулы «В гостях у книжек»); (к Декаде детской и юношеской книги «С книгой мир добрее и ярче») 6+
DESCRIPTION:
URL:https://bobruisk-library.by/event/%d1%81%d0%ba%d0%b0%d0%b7%d0%be%d1%87%d0%bd%d0%be-%d0%b8%d0%b3%d1%80%d0%be%d0%b2%d0%b0%d1%8f-%d0%bf%d1%80%d0%be%d0%b3%d1%80%d0%b0%d0%bc%d0%bc%d0%b0-%d0%b2%d0%be%d0%bb%d1%88%d0%b5%d0%b1%d0%bd-2/
LOCATION:ГБ №8 им. Е. Полоцкой\, ул. Минская\, 90\, Бобруйск\, 213828\, Беларусь
END:VEVENT
BEGIN:VEVENT
DTSTART;TZID=Europe/Moscow:20260323T100000
DTEND;TZID=Europe/Moscow:20260323T110000
DTSTAMP:20260420T131907
CREATED:20260317T080830Z
LAST-MODIFIED:20260317T080830Z
UID:891743-1774260000-1774263600@bobruisk-library.by
SUMMARY:Библиотурнир «Читающие дети умнее  всех на свете» 6+
DESCRIPTION:
URL:https://bobruisk-library.by/event/%d0%b1%d0%b8%d0%b1%d0%bb%d0%b8%d0%be%d1%82%d1%83%d1%80%d0%bd%d0%b8%d1%80-%d1%87%d0%b8%d1%82%d0%b0%d1%8e%d1%89%d0%b8%d0%b5-%d0%b4%d0%b5%d1%82%d0%b8-%d1%83%d0%bc%d0%bd%d0%b5%d0%b5-%d0%b2%d1%81/
LOCATION:ГБ №16\, ул. Гагарина\, 31а\, Бобруйск\, 213810\, Беларусь
END:VEVENT
BEGIN:VEVENT
DTSTART;TZID=Europe/Moscow:20260323T100000
DTEND;TZID=Europe/Moscow:20260323T110000
DTSTAMP:20260420T131907
CREATED:20260317T125035Z
LAST-MODIFIED:20260317T125035Z
UID:891759-1774260000-1774263600@bobruisk-library.by
SUMMARY:Литературный праздник «Двери в сказку отвори» (День открытия Недели детской книги «С книгой мир добрей и ярче!») 6+
DESCRIPTION:
URL:https://bobruisk-library.by/event/%d0%bb%d0%b8%d1%82%d0%b5%d1%80%d0%b0%d1%82%d1%83%d1%80%d0%bd%d1%8b%d0%b9-%d0%bf%d1%80%d0%b0%d0%b7%d0%b4%d0%bd%d0%b8%d0%ba-%d0%b4%d0%b2%d0%b5%d1%80%d0%b8-%d0%b2-%d1%81%d0%ba%d0%b0%d0%b7%d0%ba/
LOCATION:ДБ №6 им. Н.А.Островского\, ул. Комсомольская\, 52\, Бобруйск\, 213826\, Беларусь
END:VEVENT
BEGIN:VEVENT
DTSTART;TZID=Europe/Moscow:20260323T140000
DTEND;TZID=Europe/Moscow:20260323T150000
DTSTAMP:20260420T131907
CREATED:20260318T115912Z
LAST-MODIFIED:20260318T115912Z
UID:891789-1774274400-1774278000@bobruisk-library.by
SUMMARY:Беседа-реквием «Хатынь. Символ  вечной памяти скорби» (цикл патриотических выставок и мероприятий «С памятью в сердце» ко Дню Хатынской трагедии)) 6+
DESCRIPTION:
URL:https://bobruisk-library.by/event/%d0%b1%d0%b5%d1%81%d0%b5%d0%b4%d0%b0-%d1%80%d0%b5%d0%ba%d0%b2%d0%b8%d0%b5%d0%bc-%d1%85%d0%b0%d1%82%d1%8b%d0%bd%d1%8c-%d1%81%d0%b8%d0%bc%d0%b2%d0%be%d0%bb-%d0%b2%d0%b5%d1%87%d0%bd%d0%be%d0%b9-2/
LOCATION:ГБ №4 им. Б.Микулича\, пр-т Строителей\, 56\, Бобруйск\, 213807\, Беларусь
END:VEVENT
BEGIN:VEVENT
DTSTART;VALUE=DATE:20260324
DTEND;VALUE=DATE:20260325
DTSTAMP:20260420T131907
CREATED:20260317T124851Z
LAST-MODIFIED:20260317T124851Z
UID:891757-1774310400-1774396799@bobruisk-library.by
SUMMARY:Час цифровой грамотности «Наш безопасный Интернет» 6+
DESCRIPTION:
URL:https://bobruisk-library.by/event/%d1%87%d0%b0%d1%81-%d1%86%d0%b8%d1%84%d1%80%d0%be%d0%b2%d0%be%d0%b9-%d0%b3%d1%80%d0%b0%d0%bc%d0%be%d1%82%d0%bd%d0%be%d1%81%d1%82%d0%b8-%d0%bd%d0%b0%d1%88-%d0%b1%d0%b5%d0%b7%d0%be%d0%bf%d0%b0/
LOCATION:ГБ им. А.С.Пушкина\, ул. Советская\, 87\, Бобруйск\, 213827\, Беларусь
END:VEVENT
BEGIN:VEVENT
DTSTART;TZID=Europe/Moscow:20260324T100000
DTEND;TZID=Europe/Moscow:20260324T120000
DTSTAMP:20260420T131907
CREATED:20260317T085943Z
LAST-MODIFIED:20260317T090026Z
UID:891747-1774346400-1774353600@bobruisk-library.by
SUMMARY:Праздник чтения с  участием кукольного  театра «Петрушка» «Да здравствует книга!» 6+
DESCRIPTION:
URL:https://bobruisk-library.by/event/%d0%bf%d1%80%d0%b0%d0%b7%d0%b4%d0%bd%d0%b8%d0%ba-%d1%87%d1%82%d0%b5%d0%bd%d0%b8%d1%8f-%d1%81-%d1%83%d1%87%d0%b0%d1%81%d1%82%d0%b8%d0%b5%d0%bc-%d0%ba%d1%83%d0%ba%d0%be%d0%bb%d1%8c%d0%bd%d0%be%d0%b3-3/
LOCATION:ЦДБ им. А.П.Гайдара\, ул. Урицкого\, 125\, Бобруйск\, 213809\, Беларусь
END:VEVENT
BEGIN:VEVENT
DTSTART;TZID=Europe/Moscow:20260324T110000
DTEND;TZID=Europe/Moscow:20260324T120000
DTSTAMP:20260420T131907
CREATED:20260317T080436Z
LAST-MODIFIED:20260317T080436Z
UID:891737-1774350000-1774353600@bobruisk-library.by
SUMMARY:Сказочно-игровая программа «Волшебные  страницы» (в рамках цикла мероприятий на весенние каникулы «В гостях у книжек»); (к Декаде детской и юношеской книги «С книгой мир добрее и ярче») 6+
DESCRIPTION:
URL:https://bobruisk-library.by/event/%d1%81%d0%ba%d0%b0%d0%b7%d0%be%d1%87%d0%bd%d0%be-%d0%b8%d0%b3%d1%80%d0%be%d0%b2%d0%b0%d1%8f-%d0%bf%d1%80%d0%be%d0%b3%d1%80%d0%b0%d0%bc%d0%bc%d0%b0-%d0%b2%d0%be%d0%bb%d1%88%d0%b5%d0%b1%d0%bd-3/
LOCATION:ГБ №8 им. Е. Полоцкой\, ул. Минская\, 90\, Бобруйск\, 213828\, Беларусь
END:VEVENT
BEGIN:VEVENT
DTSTART;TZID=Europe/Moscow:20260324T110000
DTEND;TZID=Europe/Moscow:20260324T120000
DTSTAMP:20260420T131907
CREATED:20260317T125242Z
LAST-MODIFIED:20260317T125242Z
UID:891761-1774350000-1774353600@bobruisk-library.by
SUMMARY:Краеведческий час “Аб чым расказаў экспанат з дзедавай хаты” 6+
DESCRIPTION:
URL:https://bobruisk-library.by/event/%d0%ba%d1%80%d0%b0%d0%b5%d0%b2%d0%b5%d0%b4%d1%87%d0%b5%d1%81%d0%ba%d0%b8%d0%b9-%d1%87%d0%b0%d1%81-%d0%b0%d0%b1-%d1%87%d1%8b%d0%bc-%d1%80%d0%b0%d1%81%d0%ba%d0%b0%d0%b7%d0%b0%d1%9e-%d1%8d%d0%ba/
LOCATION:ДБ №6 им. Н.А.Островского\, ул. Комсомольская\, 52\, Бобруйск\, 213826\, Беларусь
END:VEVENT
BEGIN:VEVENT
DTSTART;TZID=Europe/Moscow:20260324T150000
DTEND;TZID=Europe/Moscow:20260324T160000
DTSTAMP:20260420T131907
CREATED:20260317T080530Z
LAST-MODIFIED:20260317T080530Z
UID:891739-1774364400-1774368000@bobruisk-library.by
SUMMARY:Деловая игра «Моя страна  – моя Беларусь!» 6+
DESCRIPTION:
URL:https://bobruisk-library.by/event/%d0%b4%d0%b5%d0%bb%d0%be%d0%b2%d0%b0%d1%8f-%d0%b8%d0%b3%d1%80%d0%b0-%d0%bc%d0%be%d1%8f-%d1%81%d1%82%d1%80%d0%b0%d0%bd%d0%b0-%d0%bc%d0%be%d1%8f-%d0%b1%d0%b5%d0%bb%d0%b0%d1%80%d1%83-2/
LOCATION:ГБ №8 им. Е. Полоцкой\, ул. Минская\, 90\, Бобруйск\, 213828\, Беларусь
END:VEVENT
BEGIN:VEVENT
DTSTART;TZID=Europe/Moscow:20260325T103000
DTEND;TZID=Europe/Moscow:20260325T113000
DTSTAMP:20260420T131907
CREATED:20260317T090124Z
LAST-MODIFIED:20260317T090124Z
UID:891749-1774434600-1774438200@bobruisk-library.by
SUMMARY:Праздник чтения с  участием кукольного  театра «Петрушка» «Да здравствует книга!» 6+
DESCRIPTION:
URL:https://bobruisk-library.by/event/%d0%bf%d1%80%d0%b0%d0%b7%d0%b4%d0%bd%d0%b8%d0%ba-%d1%87%d1%82%d0%b5%d0%bd%d0%b8%d1%8f-%d1%81-%d1%83%d1%87%d0%b0%d1%81%d1%82%d0%b8%d0%b5%d0%bc-%d0%ba%d1%83%d0%ba%d0%be%d0%bb%d1%8c%d0%bd%d0%be%d0%b3-4/
LOCATION:ЦДБ им. А.П.Гайдара\, ул. Урицкого\, 125\, Бобруйск\, 213809\, Беларусь
END:VEVENT
BEGIN:VEVENT
DTSTART;TZID=Europe/Moscow:20260325T110000
DTEND;TZID=Europe/Moscow:20260325T120000
DTSTAMP:20260420T131907
CREATED:20260317T125358Z
LAST-MODIFIED:20260317T125358Z
UID:891763-1774436400-1774440000@bobruisk-library.by
SUMMARY:Литературное путешествие по сказкам «От сказки к сказке» 6+
DESCRIPTION:
URL:https://bobruisk-library.by/event/%d0%bb%d0%b8%d1%82%d0%b5%d1%80%d0%b0%d1%82%d1%83%d1%80%d0%bd%d0%be%d0%b5-%d0%bf%d1%83%d1%82%d0%b5%d1%88%d0%b5%d1%81%d1%82%d0%b2%d0%b8%d0%b5-%d0%bf%d0%be-%d1%81%d0%ba%d0%b0%d0%b7%d0%ba%d0%b0%d0%bc-3/
LOCATION:ДБ №6 им. Н.А.Островского\, ул. Комсомольская\, 52\, Бобруйск\, 213826\, Беларусь
END:VEVENT
BEGIN:VEVENT
DTSTART;TZID=Europe/Moscow:20260325T110000
DTEND;TZID=Europe/Moscow:20260325T120000
DTSTAMP:20260420T131907
CREATED:20260324T113830Z
LAST-MODIFIED:20260324T113830Z
UID:891877-1774436400-1774440000@bobruisk-library.by
SUMMARY:Урок предупреждение «Каникулы без травм». Совместно с Первомайской районной организацией Республиканского общественного объединения «Белорусское Общество Красного Креста г. Бобруйска» 6+
DESCRIPTION:
URL:https://bobruisk-library.by/event/%d1%83%d1%80%d0%be%d0%ba-%d0%bf%d1%80%d0%b5%d0%b4%d1%83%d0%bf%d1%80%d0%b5%d0%b6%d0%b4%d0%b5%d0%bd%d0%b8%d0%b5-%d0%ba%d0%b0%d0%bd%d0%b8%d0%ba%d1%83%d0%bb%d1%8b-%d0%b1%d0%b5%d0%b7-%d1%82%d1%80/
LOCATION:ДБ № 5\, ул. 50 лет ВЛКСМ\, 19\, Бобруйск\, 213824\, Беларусь
END:VEVENT
BEGIN:VEVENT
DTSTART;TZID=Europe/Moscow:20260326T100000
DTEND;TZID=Europe/Moscow:20260326T110000
DTSTAMP:20260420T131907
CREATED:20260317T090220Z
LAST-MODIFIED:20260317T090220Z
UID:891751-1774519200-1774522800@bobruisk-library.by
SUMMARY:Литературная игра «Хоровод сказок» 6+
DESCRIPTION:
URL:https://bobruisk-library.by/event/%d0%bb%d0%b8%d1%82%d0%b5%d1%80%d0%b0%d1%82%d1%83%d1%80%d0%bd%d0%b0%d1%8f-%d0%b8%d0%b3%d1%80%d0%b0-%d1%85%d0%be%d1%80%d0%be%d0%b2%d0%be%d0%b4-%d1%81%d0%ba%d0%b0%d0%b7%d0%be%d0%ba-6/
LOCATION:ЦДБ им. А.П.Гайдара\, ул. Урицкого\, 125\, Бобруйск\, 213809\, Беларусь
END:VEVENT
BEGIN:VEVENT
DTSTART;TZID=Europe/Moscow:20260326T103000
DTEND;TZID=Europe/Moscow:20260326T113000
DTSTAMP:20260420T131907
CREATED:20260324T113920Z
LAST-MODIFIED:20260324T113920Z
UID:891879-1774521000-1774524600@bobruisk-library.by
SUMMARY:Урок безопасности «Огонь ошибок не прощает» 6+
DESCRIPTION:
URL:https://bobruisk-library.by/event/%d1%83%d1%80%d0%be%d0%ba-%d0%b1%d0%b5%d0%b7%d0%be%d0%bf%d0%b0%d1%81%d0%bd%d0%be%d1%81%d1%82%d0%b8-%d0%be%d0%b3%d0%be%d0%bd%d1%8c-%d0%be%d1%88%d0%b8%d0%b1%d0%be%d0%ba-%d0%bd%d0%b5-%d0%bf%d1%80/
LOCATION:ДБ № 5\, ул. 50 лет ВЛКСМ\, 19\, Бобруйск\, 213824\, Беларусь
END:VEVENT
BEGIN:VEVENT
DTSTART;TZID=Europe/Moscow:20260326T110000
DTEND;TZID=Europe/Moscow:20260326T120000
DTSTAMP:20260420T131907
CREATED:20260317T080643Z
LAST-MODIFIED:20260317T080643Z
UID:891741-1774522800-1774526400@bobruisk-library.by
SUMMARY:Литературный час  «Прикосновение к детству» (по творчеству В.Драгунского); (в рамках цикла мероприятий на весенние каникулы «В гостях у книжек»); (к Декаде детской и юношеской книги «С книгой мир добрее и ярче») 6+
DESCRIPTION:
URL:https://bobruisk-library.by/event/%d0%bb%d0%b8%d1%82%d0%b5%d1%80%d0%b0%d1%82%d1%83%d1%80%d0%bd%d1%8b%d0%b9-%d1%87%d0%b0%d1%81-%d0%bf%d1%80%d0%b8%d0%ba%d0%be%d1%81%d0%bd%d0%be%d0%b2%d0%b5%d0%bd%d0%b8%d0%b5-%d0%ba-%d0%b4%d0%b5/
LOCATION:ГБ №8 им. Е. Полоцкой\, ул. Минская\, 90\, Бобруйск\, 213828\, Беларусь
END:VEVENT
BEGIN:VEVENT
DTSTART;TZID=Europe/Moscow:20260326T110000
DTEND;TZID=Europe/Moscow:20260326T120000
DTSTAMP:20260420T131907
CREATED:20260317T125658Z
LAST-MODIFIED:20260317T125658Z
UID:891765-1774522800-1774526400@bobruisk-library.by
SUMMARY:Литературное путешествие «По страницам книг Эдуарда Успенского» 6+
DESCRIPTION:
URL:https://bobruisk-library.by/event/%d0%bb%d0%b8%d1%82%d0%b5%d1%80%d0%b0%d1%82%d1%83%d1%80%d0%bd%d0%be%d0%b5-%d0%bf%d1%83%d1%82%d0%b5%d1%88%d0%b5%d1%81%d1%82%d0%b2%d0%b8%d0%b5-%d0%bf%d0%be-%d1%81%d1%82%d1%80%d0%b0%d0%bd%d0%b8/
LOCATION:ДБ №6 им. Н.А.Островского\, ул. Комсомольская\, 52\, Бобруйск\, 213826\, Беларусь
END:VEVENT
BEGIN:VEVENT
DTSTART;TZID=Europe/Moscow:20260327T100000
DTEND;TZID=Europe/Moscow:20260327T110000
DTSTAMP:20260420T131907
CREATED:20260317T084515Z
LAST-MODIFIED:20260317T084515Z
UID:891745-1774605600-1774609200@bobruisk-library.by
SUMMARY:Познавательный час  «Мы – дети твои\, Беларусь!» 6+
DESCRIPTION:
URL:https://bobruisk-library.by/event/%d0%bf%d0%be%d0%b7%d0%bd%d0%b0%d0%b2%d0%b0%d1%82%d0%b5%d0%bb%d1%8c%d0%bd%d1%8b%d0%b9-%d1%87%d0%b0%d1%81-%d0%bc%d1%8b-%d0%b4%d0%b5%d1%82%d0%b8-%d1%82%d0%b2%d0%be%d0%b8-%d0%b1%d0%b5/
LOCATION:ГБ №16\, ул. Гагарина\, 31а\, Бобруйск\, 213810\, Беларусь
END:VEVENT
BEGIN:VEVENT
DTSTART;TZID=Europe/Moscow:20260328T110000
DTEND;TZID=Europe/Moscow:20260328T150000
DTSTAMP:20260420T131907
CREATED:20260317T090339Z
LAST-MODIFIED:20260317T090339Z
UID:891753-1774695600-1774710000@bobruisk-library.by
SUMMARY:Познавательная информминутка «Безопасность в весенний период» 6+
DESCRIPTION:
URL:https://bobruisk-library.by/event/%d0%bf%d0%be%d0%b7%d0%bd%d0%b0%d0%b2%d0%b0%d1%82%d0%b5%d0%bb%d1%8c%d0%bd%d0%b0%d1%8f-%d0%b8%d0%bd%d1%84%d0%be%d1%80%d0%bc%d0%bc%d0%b8%d0%bd%d1%83%d1%82%d0%ba%d0%b0-%d0%b1%d0%b5%d0%b7%d0%be%d0%bf/
LOCATION:ЦДБ им. А.П.Гайдара\, ул. Урицкого\, 125\, Бобруйск\, 213809\, Беларусь
END:VEVENT
BEGIN:VEVENT
DTSTART;TZID=Europe/Moscow:20260329T110000
DTEND;TZID=Europe/Moscow:20260329T120000
DTSTAMP:20260420T131907
CREATED:20260317T090445Z
LAST-MODIFIED:20260317T090445Z
UID:891755-1774782000-1774785600@bobruisk-library.by
SUMMARY:Акция «Эту книгу я  возьму с собой» 6+
DESCRIPTION:
URL:https://bobruisk-library.by/event/%d0%b0%d0%ba%d1%86%d0%b8%d1%8f-%d1%8d%d1%82%d1%83-%d0%ba%d0%bd%d0%b8%d0%b3%d1%83-%d1%8f-%d0%b2%d0%be%d0%b7%d1%8c%d0%bc%d1%83-%d1%81-%d1%81%d0%be%d0%b1%d0%be%d0%b9-6-2/
LOCATION:ЦДБ им. А.П.Гайдара\, ул. Урицкого\, 125\, Бобруйск\, 213809\, Беларусь
END:VEVENT
BEGIN:VEVENT
DTSTART;TZID=Europe/Moscow:20260331T120000
DTEND;TZID=Europe/Moscow:20260331T130000
DTSTAMP:20260420T131907
CREATED:20260324T113344Z
LAST-MODIFIED:20260324T113344Z
UID:891867-1774958400-1774962000@bobruisk-library.by
SUMMARY:Патриотический час  «Беларусь и Россия  единством сильны» (2 апреля – День единения народов Беларуси и России); (в рамках цикла мероприятий и библиотечных выставок «Беларусь и Россия: единство двух народов» ко Дню единения Беларуси и России) 6+
DESCRIPTION:
URL:https://bobruisk-library.by/event/%d0%bf%d0%b0%d1%82%d1%80%d0%b8%d0%be%d1%82%d0%b8%d1%87%d0%b5%d1%81%d0%ba%d0%b8%d0%b9-%d1%87%d0%b0%d1%81-%d0%b1%d0%b5%d0%bb%d0%b0%d1%80%d1%83%d1%81%d1%8c-%d0%b8-%d1%80%d0%be%d1%81%d1%81%d0%b8/
LOCATION:ГБ №8 им. Е. Полоцкой\, ул. Минская\, 90\, Бобруйск\, 213828\, Беларусь
END:VEVENT
BEGIN:VEVENT
DTSTART;TZID=Europe/Moscow:20260401T120000
DTEND;TZID=Europe/Moscow:20260401T130000
DTSTAMP:20260420T131907
CREATED:20260324T113537Z
LAST-MODIFIED:20260324T113537Z
UID:891873-1775044800-1775048400@bobruisk-library.by
SUMMARY:Православное знакомство  «Святая праведная княгиня  София Слуцкая» (1 апреля – День памяти); (в рамках цикла мероприятий «Женские святые имена родной земли») 6+
DESCRIPTION:
URL:https://bobruisk-library.by/event/%d0%bf%d1%80%d0%b0%d0%b2%d0%be%d1%81%d0%bb%d0%b0%d0%b2%d0%bd%d0%be%d0%b5-%d0%b7%d0%bd%d0%b0%d0%ba%d0%be%d0%bc%d1%81%d1%82%d0%b2%d0%be-%d1%81%d0%b2%d1%8f%d1%82%d0%b0%d1%8f-%d0%bf%d1%80%d0%b0/
LOCATION:ГБ №8 им. Е. Полоцкой\, ул. Минская\, 90\, Бобруйск\, 213828\, Беларусь
END:VEVENT
BEGIN:VEVENT
DTSTART;TZID=Europe/Moscow:20260401T130000
DTEND;TZID=Europe/Moscow:20260401T140000
DTSTAMP:20260420T131907
CREATED:20260324T114722Z
LAST-MODIFIED:20260324T114722Z
UID:891887-1775048400-1775052000@bobruisk-library.by
SUMMARY:Экологический видеочас «Птицы Беларуси» (01.04. – Международный день птиц) 6+
DESCRIPTION:
URL:https://bobruisk-library.by/event/%d1%8d%d0%ba%d0%be%d0%bb%d0%be%d0%b3%d0%b8%d1%87%d0%b5%d1%81%d0%ba%d0%b8%d0%b9-%d0%b2%d0%b8%d0%b4%d0%b5%d0%be%d1%87%d0%b0%d1%81-%d0%bf%d1%82%d0%b8%d1%86%d1%8b-%d0%b1%d0%b5%d0%bb%d0%b0%d1%80/
LOCATION:ГБ им. А.С.Пушкина\, ул. Советская\, 87\, Бобруйск\, 213827\, Беларусь
END:VEVENT
BEGIN:VEVENT
DTSTART;TZID=Europe/Moscow:20260402T120000
DTEND;TZID=Europe/Moscow:20260402T130000
DTSTAMP:20260420T131907
CREATED:20260324T113452Z
LAST-MODIFIED:20260324T113452Z
UID:891869-1775131200-1775134800@bobruisk-library.by
SUMMARY:Патриотический час  «Беларусь и Россия  единством сильны» (2 апреля – День единения народов Беларуси и России); (в рамках цикла мероприятий и библиотечных выставок «Беларусь и Россия: единство двух народов» ко Дню единения Беларуси и России) 6+
DESCRIPTION:
URL:https://bobruisk-library.by/event/%d0%bf%d0%b0%d1%82%d1%80%d0%b8%d0%be%d1%82%d0%b8%d1%87%d0%b5%d1%81%d0%ba%d0%b8%d0%b9-%d1%87%d0%b0%d1%81-%d0%b1%d0%b5%d0%bb%d0%b0%d1%80%d1%83%d1%81%d1%8c-%d0%b8-%d1%80%d0%be%d1%81%d1%81%d0%b8-2/
LOCATION:ГБ №8 им. Е. Полоцкой\, ул. Минская\, 90\, Бобруйск\, 213828\, Беларусь
END:VEVENT
BEGIN:VEVENT
DTSTART;TZID=Europe/Moscow:20260402T133000
DTEND;TZID=Europe/Moscow:20260402T143000
DTSTAMP:20260420T131907
CREATED:20260324T113657Z
LAST-MODIFIED:20260324T113657Z
UID:891875-1775136600-1775140200@bobruisk-library.by
SUMMARY:Час истории «Дорогой  памяти\, мира и дружбы»  (в рамках цикла мероприятий и библиотечных выставок «Беларусь и Россия: единство двух народов») 6+
DESCRIPTION:
URL:https://bobruisk-library.by/event/%d1%87%d0%b0%d1%81-%d0%b8%d1%81%d1%82%d0%be%d1%80%d0%b8%d0%b8-%d0%b4%d0%be%d1%80%d0%be%d0%b3%d0%be%d0%b9-%d0%bf%d0%b0%d0%bc%d1%8f%d1%82%d0%b8-%d0%bc%d0%b8%d1%80%d0%b0-%d0%b8-%d0%b4%d1%80%d1%83/
LOCATION:ГБ №16\, ул. Гагарина\, 31а\, Бобруйск\, 213810\, Беларусь
END:VEVENT
BEGIN:VEVENT
DTSTART;TZID=Europe/Moscow:20260402T143000
DTEND;TZID=Europe/Moscow:20260402T153000
DTSTAMP:20260420T131907
CREATED:20260324T113509Z
LAST-MODIFIED:20260324T113509Z
UID:891871-1775140200-1775143800@bobruisk-library.by
SUMMARY:Патриотический час  «Беларусь и Россия  единством сильны» (2 апреля – День единения народов Беларуси и России); (в рамках цикла мероприятий и библиотечных выставок «Беларусь и Россия: единство двух народов» ко Дню единения Беларуси и России) 6+
DESCRIPTION:
URL:https://bobruisk-library.by/event/%d0%bf%d0%b0%d1%82%d1%80%d0%b8%d0%be%d1%82%d0%b8%d1%87%d0%b5%d1%81%d0%ba%d0%b8%d0%b9-%d1%87%d0%b0%d1%81-%d0%b1%d0%b5%d0%bb%d0%b0%d1%80%d1%83%d1%81%d1%8c-%d0%b8-%d1%80%d0%be%d1%81%d1%81%d0%b8-3/
END:VEVENT
BEGIN:VEVENT
DTSTART;TZID=Europe/Moscow:20260402T143500
DTEND;TZID=Europe/Moscow:20260402T153000
DTSTAMP:20260420T131907
CREATED:20260324T114156Z
LAST-MODIFIED:20260324T114156Z
UID:891881-1775140500-1775143800@bobruisk-library.by
SUMMARY:Информационный час  «Сила единства» (ко  Дню единения народов Беларуси и России) 6+
DESCRIPTION:
URL:https://bobruisk-library.by/event/%d0%b8%d0%bd%d1%84%d0%be%d1%80%d0%bc%d0%b0%d1%86%d0%b8%d0%be%d0%bd%d0%bd%d1%8b%d0%b9-%d1%87%d0%b0%d1%81-%d1%81%d0%b8%d0%bb%d0%b0-%d0%b5%d0%b4%d0%b8%d0%bd%d1%81%d1%82%d0%b2%d0%b0-%d0%ba/
LOCATION:ДБ № 5\, ул. 50 лет ВЛКСМ\, 19\, Бобруйск\, 213824\, Беларусь
END:VEVENT
BEGIN:VEVENT
DTSTART;TZID=Europe/Moscow:20260403T110000
DTEND;TZID=Europe/Moscow:20260403T120000
DTSTAMP:20260420T131907
CREATED:20260324T114417Z
LAST-MODIFIED:20260324T114417Z
UID:891883-1775214000-1775217600@bobruisk-library.by
SUMMARY:Диалог у выставки «Нас роднит вековая история (в рамках цикла «Беларусь и Россия: единство двух народов» ко Дню единения народов Беларуси и России) 6+
DESCRIPTION:
URL:https://bobruisk-library.by/event/%d0%b4%d0%b8%d0%b0%d0%bb%d0%be%d0%b3-%d1%83-%d0%b2%d1%8b%d1%81%d1%82%d0%b0%d0%b2%d0%ba%d0%b8-%d0%bd%d0%b0%d1%81-%d1%80%d0%be%d0%b4%d0%bd%d0%b8%d1%82-%d0%b2%d0%b5%d0%ba%d0%be%d0%b2%d0%b0%d1%8f/
LOCATION:ГБ №12\, ул. Бахарова\, 279\, Бобруйск\, Выберите штат:\, 213823\, Беларусь
END:VEVENT
BEGIN:VEVENT
DTSTART;TZID=Europe/Moscow:20260403T120000
DTEND;TZID=Europe/Moscow:20260403T130000
DTSTAMP:20260420T131907
CREATED:20260326T080422Z
LAST-MODIFIED:20260326T080422Z
UID:891927-1775217600-1775221200@bobruisk-library.by
SUMMARY:Литературная мозаика  «Не прожить на белом  свете без любимых книжек детям» (Декада детской и юношеской книги «С книгой мир ярче!) (проект «Книга+Я») 6+
DESCRIPTION:
URL:https://bobruisk-library.by/event/%d0%bb%d0%b8%d1%82%d0%b5%d1%80%d0%b0%d1%82%d1%83%d1%80%d0%bd%d0%b0%d1%8f-%d0%bc%d0%be%d0%b7%d0%b0%d0%b8%d0%ba%d0%b0-%d0%bd%d0%b5-%d0%bf%d1%80%d0%be%d0%b6%d0%b8%d1%82%d1%8c-%d0%bd%d0%b0-%d0%b1/
LOCATION:ГБ №4 им. Б.Микулича\, пр-т Строителей\, 56\, Бобруйск\, 213807\, Беларусь
END:VEVENT
BEGIN:VEVENT
DTSTART;TZID=Europe/Moscow:20260405T150000
DTEND;TZID=Europe/Moscow:20260405T160000
DTSTAMP:20260420T131907
CREATED:20260324T114521Z
LAST-MODIFIED:20260324T114521Z
UID:891885-1775401200-1775404800@bobruisk-library.by
SUMMARY:Познавательный видеоурок «Здоровье без лекарств» (07.04 – День здоровья) 6+
DESCRIPTION:
URL:https://bobruisk-library.by/event/%d0%bf%d0%be%d0%b7%d0%bd%d0%b0%d0%b2%d0%b0%d1%82%d0%b5%d0%bb%d1%8c%d0%bd%d1%8b%d0%b9-%d0%b2%d0%b8%d0%b4%d0%b5%d0%be%d1%83%d1%80%d0%be%d0%ba-%d0%b7%d0%b4%d0%be%d1%80%d0%be%d0%b2%d1%8c%d0%b5/
LOCATION:ГБ им. А.С.Пушкина\, ул. Советская\, 87\, Бобруйск\, 213827\, Беларусь
END:VEVENT
END:VCALENDAR