BEGIN:VCALENDAR
VERSION:2.0
PRODID:-//Учреждение культуры &quot;Библиотечная система города Бобруйска&quot; - ECPv6.15.20//NONSGML v1.0//EN
CALSCALE:GREGORIAN
METHOD:PUBLISH
X-ORIGINAL-URL:https://bobruisk-library.by
X-WR-CALDESC:Мероприятия для Учреждение культуры &quot;Библиотечная система города Бобруйска&quot;
REFRESH-INTERVAL;VALUE=DURATION:PT1H
X-Robots-Tag:noindex
X-PUBLISHED-TTL:PT1H
BEGIN:VTIMEZONE
TZID:Europe/Moscow
BEGIN:STANDARD
TZOFFSETFROM:+0300
TZOFFSETTO:+0300
TZNAME:MSK
DTSTART:20240101T000000
END:STANDARD
END:VTIMEZONE
BEGIN:VEVENT
DTSTART;TZID=Europe/Moscow:20250306T123000
DTEND;TZID=Europe/Moscow:20250306T133000
DTSTAMP:20260422T183706
CREATED:20250226T072822Z
LAST-MODIFIED:20250226T072822Z
UID:885743-1741264200-1741267800@bobruisk-library.by
SUMMARY:Конкурсно-игровая программа «Ах\, девчонки\, не стойте в сторонке» 6+
DESCRIPTION:
URL:https://bobruisk-library.by/event/%d0%ba%d0%be%d0%bd%d0%ba%d1%83%d1%80%d1%81%d0%bd%d0%be-%d0%b8%d0%b3%d1%80%d0%be%d0%b2%d0%b0%d1%8f-%d0%bf%d1%80%d0%be%d0%b3%d1%80%d0%b0%d0%bc%d0%bc%d0%b0-%d0%b0%d1%85-%d0%b4%d0%b5%d0%b2%d1%87/
LOCATION:ГБ №16\, ул. Гагарина\, 31а\, Бобруйск\, 213810\, Беларусь
END:VEVENT
BEGIN:VEVENT
DTSTART;TZID=Europe/Moscow:20250306T143000
DTEND;TZID=Europe/Moscow:20250306T153000
DTSTAMP:20260422T183706
CREATED:20250226T085525Z
LAST-MODIFIED:20250226T085525Z
UID:885745-1741271400-1741275000@bobruisk-library.by
SUMMARY:Беседа-наставление «Мы против наркотиков» (01.03. – Международный день борьбы с наркоманией и наркобизнесом) 6+
DESCRIPTION:
URL:https://bobruisk-library.by/event/%d0%b1%d0%b5%d1%81%d0%b5%d0%b4%d0%b0-%d0%bd%d0%b0%d1%81%d1%82%d0%b0%d0%b2%d0%bb%d0%b5%d0%bd%d0%b8%d0%b5-%d0%bc%d1%8b-%d0%bf%d1%80%d0%be%d1%82%d0%b8%d0%b2-%d0%bd%d0%b0%d1%80%d0%ba%d0%be%d1%82/
LOCATION:ГБ №7 им. А.А.Шогенцукова\, ул. Интернациональная\, 72в\, Бобруйск\, 213819
END:VEVENT
END:VCALENDAR