BEGIN:VCALENDAR
VERSION:2.0
PRODID:-//Учреждение культуры &quot;Библиотечная система города Бобруйска&quot; - ECPv6.15.20//NONSGML v1.0//EN
CALSCALE:GREGORIAN
METHOD:PUBLISH
X-ORIGINAL-URL:https://bobruisk-library.by
X-WR-CALDESC:Мероприятия для Учреждение культуры &quot;Библиотечная система города Бобруйска&quot;
REFRESH-INTERVAL;VALUE=DURATION:PT1H
X-Robots-Tag:noindex
X-PUBLISHED-TTL:PT1H
BEGIN:VTIMEZONE
TZID:Europe/Moscow
BEGIN:STANDARD
TZOFFSETFROM:+0300
TZOFFSETTO:+0300
TZNAME:MSK
DTSTART:20240101T000000
END:STANDARD
END:VTIMEZONE
BEGIN:VEVENT
DTSTART;TZID=Europe/Moscow:20250310T130000
DTEND;TZID=Europe/Moscow:20250310T140000
DTSTAMP:20260422T120459
CREATED:20250305T103903Z
LAST-MODIFIED:20250305T103903Z
UID:885824-1741611600-1741615200@bobruisk-library.by
SUMMARY:Инфоурок «Конституция основа государственности» 6+
DESCRIPTION:
URL:https://bobruisk-library.by/event/%d0%b8%d0%bd%d1%84%d0%be%d1%83%d1%80%d0%be%d0%ba-%d0%ba%d0%be%d0%bd%d1%81%d1%82%d0%b8%d1%82%d1%83%d1%86%d0%b8%d1%8f-%d0%be%d1%81%d0%bd%d0%be%d0%b2%d0%b0-%d0%b3%d0%be%d1%81%d1%83%d0%b4%d0%b0/
LOCATION:ДБ № 5\, ул. 50 лет ВЛКСМ\, 19\, Бобруйск\, 213824\, Беларусь
END:VEVENT
BEGIN:VEVENT
DTSTART;TZID=Europe/Moscow:20250310T153000
DTEND;TZID=Europe/Moscow:20250310T163000
DTSTAMP:20260422T120459
CREATED:20250305T125745Z
LAST-MODIFIED:20250305T125745Z
UID:885834-1741620600-1741624200@bobruisk-library.by
SUMMARY:Час духовности «Под покровом святой Евфросинии» 6+
DESCRIPTION:
URL:https://bobruisk-library.by/event/%d1%87%d0%b0%d1%81-%d0%b4%d1%83%d1%85%d0%be%d0%b2%d0%bd%d0%be%d1%81%d1%82%d0%b8-%d0%bf%d0%be%d0%b4-%d0%bf%d0%be%d0%ba%d1%80%d0%be%d0%b2%d0%be%d0%bc-%d1%81%d0%b2%d1%8f%d1%82%d0%be%d0%b9-%d0%b5/
LOCATION:ГБ №8 им. Е. Полоцкой\, ул. Минская\, 90\, Бобруйск\, 213828\, Беларусь
END:VEVENT
END:VCALENDAR