BEGIN:VCALENDAR
VERSION:2.0
PRODID:-//Учреждение культуры &quot;Библиотечная система города Бобруйска&quot; - ECPv6.15.20//NONSGML v1.0//EN
CALSCALE:GREGORIAN
METHOD:PUBLISH
X-ORIGINAL-URL:https://bobruisk-library.by
X-WR-CALDESC:Мероприятия для Учреждение культуры &quot;Библиотечная система города Бобруйска&quot;
REFRESH-INTERVAL;VALUE=DURATION:PT1H
X-Robots-Tag:noindex
X-PUBLISHED-TTL:PT1H
BEGIN:VTIMEZONE
TZID:Europe/Moscow
BEGIN:STANDARD
TZOFFSETFROM:+0300
TZOFFSETTO:+0300
TZNAME:MSK
DTSTART:20240101T000000
END:STANDARD
END:VTIMEZONE
BEGIN:VEVENT
DTSTART;TZID=Europe/Moscow:20250312T120000
DTEND;TZID=Europe/Moscow:20250312T130000
DTSTAMP:20260422T090424
CREATED:20250305T125816Z
LAST-MODIFIED:20250305T125816Z
UID:885836-1741780800-1741784400@bobruisk-library.by
SUMMARY:Патриотический час «Конституция – главный документ страны» (15 марта – День Конституции Республики Беларусь); (в рамках декады гражданственности «Конституция Республики Беларусь – основной гарант процветания страны») 6+
DESCRIPTION:
URL:https://bobruisk-library.by/event/%d0%bf%d0%b0%d1%82%d1%80%d0%b8%d0%be%d1%82%d0%b8%d1%87%d0%b5%d1%81%d0%ba%d0%b8%d0%b9-%d1%87%d0%b0%d1%81-%d0%ba%d0%be%d0%bd%d1%81%d1%82%d0%b8%d1%82%d1%83%d1%86%d0%b8%d1%8f-%d0%b3%d0%bb/
LOCATION:ГБ №8 им. Е. Полоцкой\, ул. Минская\, 90\, Бобруйск\, 213828\, Беларусь
END:VEVENT
BEGIN:VEVENT
DTSTART;TZID=Europe/Moscow:20250312T153000
DTEND;TZID=Europe/Moscow:20250312T163000
DTSTAMP:20260422T090424
CREATED:20250305T103703Z
LAST-MODIFIED:20250305T103703Z
UID:885820-1741793400-1741797000@bobruisk-library.by
SUMMARY:Правовой час «Консультации специалистов» (Нотариусы Нотариальной конторы № 2 Ленинского района г. Бобруйска) 6+
DESCRIPTION:
URL:https://bobruisk-library.by/event/%d0%bf%d1%80%d0%b0%d0%b2%d0%be%d0%b2%d0%be%d0%b9-%d1%87%d0%b0%d1%81-%d0%ba%d0%be%d0%bd%d1%81%d1%83%d0%bb%d1%8c%d1%82%d0%b0%d1%86%d0%b8%d0%b8-%d1%81%d0%bf%d0%b5%d1%86%d0%b8%d0%b0%d0%bb%d0%b8-11/
LOCATION:ГБ им. А.С.Пушкина\, ул. Советская\, 87\, Бобруйск\, 213827\, Беларусь
END:VEVENT
END:VCALENDAR