BEGIN:VCALENDAR
VERSION:2.0
PRODID:-//Учреждение культуры &quot;Библиотечная система города Бобруйска&quot; - ECPv6.15.20//NONSGML v1.0//EN
CALSCALE:GREGORIAN
METHOD:PUBLISH
X-ORIGINAL-URL:https://bobruisk-library.by
X-WR-CALDESC:Мероприятия для Учреждение культуры &quot;Библиотечная система города Бобруйска&quot;
REFRESH-INTERVAL;VALUE=DURATION:PT1H
X-Robots-Tag:noindex
X-PUBLISHED-TTL:PT1H
BEGIN:VTIMEZONE
TZID:Europe/Moscow
BEGIN:STANDARD
TZOFFSETFROM:+0300
TZOFFSETTO:+0300
TZNAME:MSK
DTSTART:20240101T000000
END:STANDARD
END:VTIMEZONE
BEGIN:VEVENT
DTSTART;TZID=Europe/Moscow:20250318T130000
DTEND;TZID=Europe/Moscow:20250318T140000
DTSTAMP:20260422T002435
CREATED:20250312T115640Z
LAST-MODIFIED:20250312T115640Z
UID:885933-1742302800-1742306400@bobruisk-library.by
SUMMARY:Творческое занятие «Чудесная соломка» (в рамках цикла мероприятий выставок творческих работ мастеров декоративно- прикладного искусства отдела традиционного искусства и ремёсел ГУК «Дворец искусств г.Бобруйска «Белорусские традиции в декоративно- прикладном искусстве») 6+
DESCRIPTION:
URL:https://bobruisk-library.by/event/%d1%82%d0%b2%d0%be%d1%80%d1%87%d0%b5%d1%81%d0%ba%d0%be%d0%b5-%d0%b7%d0%b0%d0%bd%d1%8f%d1%82%d0%b8%d0%b5-%d1%87%d1%83%d0%b4%d0%b5%d1%81%d0%bd%d0%b0%d1%8f-%d1%81%d0%be%d0%bb%d0%be%d0%bc%d0%ba/
LOCATION:ЦДБ им. А.П.Гайдара\, ул. Урицкого\, 125\, Бобруйск\, 213809\, Беларусь
END:VEVENT
BEGIN:VEVENT
DTSTART;TZID=Europe/Moscow:20250318T130000
DTEND;TZID=Europe/Moscow:20250318T140000
DTSTAMP:20260422T002435
CREATED:20250312T120338Z
LAST-MODIFIED:20250312T120338Z
UID:885945-1742302800-1742306400@bobruisk-library.by
SUMMARY:Беседа-рекомендация «Твоя жизнь – твоя ответственность» (ИДН) (Проект по ЗОЖ «Академия выживания») 6+
DESCRIPTION:
URL:https://bobruisk-library.by/event/%d0%b1%d0%b5%d1%81%d0%b5%d0%b4%d0%b0-%d1%80%d0%b5%d0%ba%d0%be%d0%bc%d0%b5%d0%bd%d0%b4%d0%b0%d1%86%d0%b8%d1%8f-%d1%82%d0%b2%d0%be%d1%8f-%d0%b6%d0%b8%d0%b7%d0%bd%d1%8c-%d1%82%d0%b2%d0%be/
LOCATION:ГБ №8 им. Е. Полоцкой\, ул. Минская\, 90\, Бобруйск\, 213828\, Беларусь
END:VEVENT
BEGIN:VEVENT
DTSTART;TZID=Europe/Moscow:20250318T133000
DTEND;TZID=Europe/Moscow:20250318T143000
DTSTAMP:20260422T002435
CREATED:20250312T112049Z
LAST-MODIFIED:20250312T112049Z
UID:885915-1742304600-1742308200@bobruisk-library.by
SUMMARY:Библиобюро «Выбираем профессию вместе» 6+
DESCRIPTION:
URL:https://bobruisk-library.by/event/%d0%b1%d0%b8%d0%b1%d0%bb%d0%b8%d0%be%d0%b1%d1%8e%d1%80%d0%be-%d0%b2%d1%8b%d0%b1%d0%b8%d1%80%d0%b0%d0%b5%d0%bc-%d0%bf%d1%80%d0%be%d1%84%d0%b5%d1%81%d1%81%d0%b8%d1%8e-%d0%b2%d0%bc%d0%b5%d1%81/
LOCATION:ГБ №16\, ул. Гагарина\, 31а\, Бобруйск\, 213810\, Беларусь
END:VEVENT
END:VCALENDAR