BEGIN:VCALENDAR
VERSION:2.0
PRODID:-//Учреждение культуры &quot;Библиотечная система города Бобруйска&quot; - ECPv6.15.20//NONSGML v1.0//EN
CALSCALE:GREGORIAN
METHOD:PUBLISH
X-WR-CALNAME:Учреждение культуры &quot;Библиотечная система города Бобруйска&quot;
X-ORIGINAL-URL:https://bobruisk-library.by
X-WR-CALDESC:Мероприятия для Учреждение культуры &quot;Библиотечная система города Бобруйска&quot;
REFRESH-INTERVAL;VALUE=DURATION:PT1H
X-Robots-Tag:noindex
X-PUBLISHED-TTL:PT1H
BEGIN:VTIMEZONE
TZID:Europe/Moscow
BEGIN:STANDARD
TZOFFSETFROM:+0300
TZOFFSETTO:+0300
TZNAME:MSK
DTSTART:20240101T000000
END:STANDARD
END:VTIMEZONE
BEGIN:VEVENT
DTSTART;TZID=Europe/Moscow:20250321T123000
DTEND;TZID=Europe/Moscow:20250321T133000
DTSTAMP:20260421T201328
CREATED:20250312T115300Z
LAST-MODIFIED:20250312T115300Z
UID:885929-1742560200-1742563800@bobruisk-library.by
SUMMARY:Час поэзии «Поэзия сердцем с тобой говорит» 6+
DESCRIPTION:
URL:https://bobruisk-library.by/event/%d1%87%d0%b0%d1%81-%d0%bf%d0%be%d1%8d%d0%b7%d0%b8%d0%b8-%d0%bf%d0%be%d1%8d%d0%b7%d0%b8%d1%8f-%d1%81%d0%b5%d1%80%d0%b4%d1%86%d0%b5%d0%bc-%d1%81-%d1%82%d0%be%d0%b1%d0%be%d0%b9-%d0%b3%d0%be%d0%b2/
LOCATION:ГБ №4 им. Б.Микулича\, пр-т Строителей\, 56\, Бобруйск\, 213807\, Беларусь
END:VEVENT
BEGIN:VEVENT
DTSTART;TZID=Europe/Moscow:20250321T130000
DTEND;TZID=Europe/Moscow:20250321T140000
DTSTAMP:20260421T201328
CREATED:20250312T114959Z
LAST-MODIFIED:20250312T114959Z
UID:885923-1742562000-1742565600@bobruisk-library.by
SUMMARY:Час истории «Хатынь: символ вечной памяти и скорби» 6+
DESCRIPTION:
URL:https://bobruisk-library.by/event/%d1%87%d0%b0%d1%81-%d0%b8%d1%81%d1%82%d0%be%d1%80%d0%b8%d0%b8-%d1%85%d0%b0%d1%82%d1%8b%d0%bd%d1%8c-%d1%81%d0%b8%d0%bc%d0%b2%d0%be%d0%bb-%d0%b2%d0%b5%d1%87%d0%bd%d0%be%d0%b9-%d0%bf%d0%b0%d0%bc/
LOCATION:ДБ №6 им. Н.А.Островского\, ул. Комсомольская\, 52\, Бобруйск\, 213826\, Беларусь
END:VEVENT
BEGIN:VEVENT
DTSTART;TZID=Europe/Moscow:20250321T130000
DTEND;TZID=Europe/Moscow:20250321T140000
DTSTAMP:20260421T201328
CREATED:20250312T115149Z
LAST-MODIFIED:20250312T115149Z
UID:885925-1742562000-1742565600@bobruisk-library.by
SUMMARY:Час истории «Хатынь: символ вечной памяти и скорби» 6+
DESCRIPTION:
URL:https://bobruisk-library.by/event/%d1%87%d0%b0%d1%81-%d0%b8%d1%81%d1%82%d0%be%d1%80%d0%b8%d0%b8-%d1%85%d0%b0%d1%82%d1%8b%d0%bd%d1%8c-%d1%81%d0%b8%d0%bc%d0%b2%d0%be%d0%bb-%d0%b2%d0%b5%d1%87%d0%bd%d0%be%d0%b9-%d0%bf%d0%b0%d0%bc-2/
LOCATION:ДБ №6 им. Н.А.Островского\, ул. Комсомольская\, 52\, Бобруйск\, 213826\, Беларусь
END:VEVENT
BEGIN:VEVENT
DTSTART;TZID=Europe/Moscow:20250321T130000
DTEND;TZID=Europe/Moscow:20250321T140000
DTSTAMP:20260421T201328
CREATED:20250312T120542Z
LAST-MODIFIED:20250312T120542Z
UID:885952-1742562000-1742565600@bobruisk-library.by
SUMMARY:Час мужества и памяти «Они вышли из огня\, из- под земли» (22 марта – День памяти жертв Хатыни и сожжённых белорусских деревень и 50-летию издания документального сборника воспоминаний «Я из огненной деревни…»); (в рамках патриотической акции «Хатынь. трагедия. Память») 6+
DESCRIPTION:
URL:https://bobruisk-library.by/event/%d1%87%d0%b0%d1%81-%d0%bc%d1%83%d0%b6%d0%b5%d1%81%d1%82%d0%b2%d0%b0-%d0%b8-%d0%bf%d0%b0%d0%bc%d1%8f%d1%82%d0%b8-%d0%be%d0%bd%d0%b8-%d0%b2%d1%8b%d1%88%d0%bb%d0%b8-%d0%b8%d0%b7-%d0%be%d0%b3%d0%bd-2/
LOCATION:ГБ №8 им. Е. Полоцкой\, ул. Минская\, 90\, Бобруйск\, 213828\, Беларусь
END:VEVENT
BEGIN:VEVENT
DTSTART;TZID=Europe/Moscow:20250321T140000
DTEND;TZID=Europe/Moscow:20250321T150000
DTSTAMP:20260421T201328
CREATED:20250312T112024Z
LAST-MODIFIED:20250312T112024Z
UID:885913-1742565600-1742569200@bobruisk-library.by
SUMMARY:Урок памяти «Годы геноцида – века печали» 6+
DESCRIPTION:
URL:https://bobruisk-library.by/event/%d1%83%d1%80%d0%be%d0%ba-%d0%bf%d0%b0%d0%bc%d1%8f%d1%82%d0%b8-%d0%b3%d0%be%d0%b4%d1%8b-%d0%b3%d0%b5%d0%bd%d0%be%d1%86%d0%b8%d0%b4%d0%b0-%d0%b2%d0%b5%d0%ba%d0%b0-%d0%bf%d0%b5%d1%87/
LOCATION:ГБ №16\, ул. Гагарина\, 31а\, Бобруйск\, 213810\, Беларусь
END:VEVENT
BEGIN:VEVENT
DTSTART;TZID=Europe/Moscow:20250321T140000
DTEND;TZID=Europe/Moscow:20250321T150000
DTSTAMP:20260421T201328
CREATED:20250312T114824Z
LAST-MODIFIED:20250312T114846Z
UID:885919-1742565600-1742569200@bobruisk-library.by
SUMMARY:Час памяти «И болью отзовется» 6+
DESCRIPTION:
URL:https://bobruisk-library.by/event/%d1%87%d0%b0%d1%81-%d0%bf%d0%b0%d0%bc%d1%8f%d1%82%d0%b8-%d0%b8-%d0%b1%d0%be%d0%bb%d1%8c%d1%8e-%d0%be%d1%82%d0%b7%d0%be%d0%b2%d0%b5%d1%82%d1%81%d1%8f-6/
LOCATION:ГБ им. А.С.Пушкина\, ул. Советская\, 87\, Бобруйск\, 213827\, Беларусь
END:VEVENT
BEGIN:VEVENT
DTSTART;TZID=Europe/Moscow:20250321T140000
DTEND;TZID=Europe/Moscow:20250321T150000
DTSTAMP:20260421T201328
CREATED:20250312T115824Z
LAST-MODIFIED:20250312T115824Z
UID:885939-1742565600-1742569200@bobruisk-library.by
SUMMARY:Экологический урок «Я славлю чудо из чудес – красу земли – зелёный лес!» (21 марта – Международный день лесов; в рамках работы Эко-Инфо-Центра) 6+
DESCRIPTION:
URL:https://bobruisk-library.by/event/%d1%8d%d0%ba%d0%be%d0%bb%d0%be%d0%b3%d0%b8%d1%87%d0%b5%d1%81%d0%ba%d0%b8%d0%b9-%d1%83%d1%80%d0%be%d0%ba-%d1%8f-%d1%81%d0%bb%d0%b0%d0%b2%d0%bb%d1%8e-%d1%87%d1%83%d0%b4%d0%be-%d0%b8%d0%b7-%d1%87/
LOCATION:ЦДБ им. А.П.Гайдара\, ул. Урицкого\, 125\, Бобруйск\, 213809\, Беларусь
END:VEVENT
END:VCALENDAR