BEGIN:VCALENDAR
VERSION:2.0
PRODID:-//Учреждение культуры &quot;Библиотечная система города Бобруйска&quot; - ECPv6.15.20//NONSGML v1.0//EN
CALSCALE:GREGORIAN
METHOD:PUBLISH
X-WR-CALNAME:Учреждение культуры &quot;Библиотечная система города Бобруйска&quot;
X-ORIGINAL-URL:https://bobruisk-library.by
X-WR-CALDESC:Мероприятия для Учреждение культуры &quot;Библиотечная система города Бобруйска&quot;
REFRESH-INTERVAL;VALUE=DURATION:PT1H
X-Robots-Tag:noindex
X-PUBLISHED-TTL:PT1H
BEGIN:VTIMEZONE
TZID:Europe/Moscow
BEGIN:STANDARD
TZOFFSETFROM:+0300
TZOFFSETTO:+0300
TZNAME:MSK
DTSTART:20240101T000000
END:STANDARD
END:VTIMEZONE
BEGIN:VEVENT
DTSTART;TZID=Europe/Moscow:20250328T100000
DTEND;TZID=Europe/Moscow:20250328T110000
DTSTAMP:20260421T103934
CREATED:20250319T123209Z
LAST-MODIFIED:20250319T123209Z
UID:886037-1743156000-1743159600@bobruisk-library.by
SUMMARY:Литературный урок «Зонтик открывается – сказка начинается» (в рамках Декады детской и юношеской книги) 6+
DESCRIPTION:
URL:https://bobruisk-library.by/event/%d0%bb%d0%b8%d1%82%d0%b5%d1%80%d0%b0%d1%82%d1%83%d1%80%d0%bd%d1%8b%d0%b9-%d1%83%d1%80%d0%be%d0%ba-%d0%b7%d0%be%d0%bd%d1%82%d0%b8%d0%ba-%d0%be%d1%82%d0%ba%d1%80%d1%8b%d0%b2%d0%b0%d0%b5%d1%82/
LOCATION:ДБ № 5\, ул. 50 лет ВЛКСМ\, 19\, Бобруйск\, 213824\, Беларусь
END:VEVENT
BEGIN:VEVENT
DTSTART;TZID=Europe/Moscow:20250328T100000
DTEND;TZID=Europe/Moscow:20250328T110000
DTSTAMP:20260421T103934
CREATED:20250319T123420Z
LAST-MODIFIED:20250319T123420Z
UID:886043-1743156000-1743159600@bobruisk-library.by
SUMMARY:Занимательный час «В гостях у Почемучки» 6+
DESCRIPTION:
URL:https://bobruisk-library.by/event/%d0%b7%d0%b0%d0%bd%d0%b8%d0%bc%d0%b0%d1%82%d0%b5%d0%bb%d1%8c%d0%bd%d1%8b%d0%b9-%d1%87%d0%b0%d1%81-%d0%b2-%d0%b3%d0%be%d1%81%d1%82%d1%8f%d1%85-%d1%83-%d0%bf%d0%be%d1%87%d0%b5%d0%bc%d1%83%d1%87/
LOCATION:ЦДБ им. А.П.Гайдара\, ул. Урицкого\, 125\, Бобруйск\, 213809\, Беларусь
END:VEVENT
BEGIN:VEVENT
DTSTART;TZID=Europe/Moscow:20250328T103000
DTEND;TZID=Europe/Moscow:20250328T123000
DTSTAMP:20260421T103934
CREATED:20250319T111224Z
LAST-MODIFIED:20250319T111224Z
UID:886030-1743157800-1743165000@bobruisk-library.by
SUMMARY:Веселые библиостарты «Читаем и играем» 6+
DESCRIPTION:
URL:https://bobruisk-library.by/event/%d0%b2%d0%b5%d1%81%d0%b5%d0%bb%d1%8b%d0%b5-%d0%b1%d0%b8%d0%b1%d0%bb%d0%b8%d0%be%d1%81%d1%82%d0%b0%d1%80%d1%82%d1%8b-%d1%87%d0%b8%d1%82%d0%b0%d0%b5%d0%bc-%d0%b8-%d0%b8%d0%b3%d1%80%d0%b0%d0%b5/
LOCATION:ГБ №16\, ул. Гагарина\, 31а\, Бобруйск\, 213810\, Беларусь
END:VEVENT
END:VCALENDAR