BEGIN:VCALENDAR
VERSION:2.0
PRODID:-//Учреждение культуры &quot;Библиотечная система города Бобруйска&quot; - ECPv6.15.20//NONSGML v1.0//EN
CALSCALE:GREGORIAN
METHOD:PUBLISH
X-WR-CALNAME:Учреждение культуры &quot;Библиотечная система города Бобруйска&quot;
X-ORIGINAL-URL:https://bobruisk-library.by
X-WR-CALDESC:Мероприятия для Учреждение культуры &quot;Библиотечная система города Бобруйска&quot;
REFRESH-INTERVAL;VALUE=DURATION:PT1H
X-Robots-Tag:noindex
X-PUBLISHED-TTL:PT1H
BEGIN:VTIMEZONE
TZID:Europe/Moscow
BEGIN:STANDARD
TZOFFSETFROM:+0300
TZOFFSETTO:+0300
TZNAME:MSK
DTSTART:20240101T000000
END:STANDARD
END:VTIMEZONE
BEGIN:VEVENT
DTSTART;TZID=Europe/Moscow:20250402T104000
DTEND;TZID=Europe/Moscow:20250402T113000
DTSTAMP:20260421T044621
CREATED:20250327T104114Z
LAST-MODIFIED:20250327T104114Z
UID:886217-1743590400-1743593400@bobruisk-library.by
SUMMARY:Птичий квиз «Птицы знакомые и незнакомые» (к Международному дню птиц) 6+
DESCRIPTION:
URL:https://bobruisk-library.by/event/%d0%bf%d1%82%d0%b8%d1%87%d0%b8%d0%b9-%d0%ba%d0%b2%d0%b8%d0%b7-%d0%bf%d1%82%d0%b8%d1%86%d1%8b-%d0%b7%d0%bd%d0%b0%d0%ba%d0%be%d0%bc%d1%8b%d0%b5-%d0%b8-%d0%bd%d0%b5%d0%b7%d0%bd%d0%b0%d0%ba%d0%be/
LOCATION:ГБ №8 им. Е. Полоцкой\, ул. Минская\, 90\, Бобруйск\, 213828\, Беларусь
END:VEVENT
BEGIN:VEVENT
DTSTART;TZID=Europe/Moscow:20250402T110000
DTEND;TZID=Europe/Moscow:20250402T120000
DTSTAMP:20260421T044621
CREATED:20250326T111128Z
LAST-MODIFIED:20250326T111128Z
UID:886195-1743591600-1743595200@bobruisk-library.by
SUMMARY:Праздничная программа «К нам в гости сказочник пришёл» (в рамках декады детской и юношеской книги «С книгой мир добрей и ярче!» (24.03.-02.04.) 6+
DESCRIPTION:
URL:https://bobruisk-library.by/event/%d0%bf%d1%80%d0%b0%d0%b7%d0%b4%d0%bd%d0%b8%d1%87%d0%bd%d0%b0%d1%8f-%d0%bf%d1%80%d0%be%d0%b3%d1%80%d0%b0%d0%bc%d0%bc%d0%b0-%d0%ba-%d0%bd%d0%b0%d0%bc-%d0%b2-%d0%b3%d0%be%d1%81%d1%82%d0%b8-%d1%81/
LOCATION:ГБ №4 им. Б.Микулича\, пр-т Строителей\, 56\, Бобруйск\, 213807\, Беларусь
END:VEVENT
BEGIN:VEVENT
DTSTART;TZID=Europe/Moscow:20250402T110000
DTEND;TZID=Europe/Moscow:20250402T120000
DTSTAMP:20260421T044621
CREATED:20250327T053503Z
LAST-MODIFIED:20250327T053503Z
UID:886200-1743591600-1743595200@bobruisk-library.by
SUMMARY:Урок содружества «Мы вместе – в этом наша сила» ( ко Дню единения народов Беларуси и России) 6+
DESCRIPTION:
URL:https://bobruisk-library.by/event/%d1%83%d1%80%d0%be%d0%ba-%d1%81%d0%be%d0%b4%d1%80%d1%83%d0%b6%d0%b5%d1%81%d1%82%d0%b2%d0%b0-%d0%bc%d1%8b-%d0%b2%d0%bc%d0%b5%d1%81%d1%82%d0%b5-%d0%b2-%d1%8d%d1%82%d0%be%d0%bc-%d0%bd/
LOCATION:ДБ № 5\, ул. 50 лет ВЛКСМ\, 19\, Бобруйск\, 213824\, Беларусь
END:VEVENT
BEGIN:VEVENT
DTSTART;TZID=Europe/Moscow:20250402T130000
DTEND;TZID=Europe/Moscow:20250402T140000
DTSTAMP:20260421T044621
CREATED:20250327T053535Z
LAST-MODIFIED:20250327T053535Z
UID:886202-1743598800-1743602400@bobruisk-library.by
SUMMARY:Игротека в библиотеке «Со сказкой назначена встреча» 6+
DESCRIPTION:
URL:https://bobruisk-library.by/event/%d0%b8%d0%b3%d1%80%d0%be%d1%82%d0%b5%d0%ba%d0%b0-%d0%b2-%d0%b1%d0%b8%d0%b1%d0%bb%d0%b8%d0%be%d1%82%d0%b5%d0%ba%d0%b5-%d1%81%d0%be-%d1%81%d0%ba%d0%b0%d0%b7%d0%ba%d0%be%d0%b9-%d0%bd%d0%b0%d0%b7/
LOCATION:ДБ № 5\, ул. 50 лет ВЛКСМ\, 19\, Бобруйск\, 213824\, Беларусь
END:VEVENT
BEGIN:VEVENT
DTSTART;TZID=Europe/Moscow:20250402T140000
DTEND;TZID=Europe/Moscow:20250402T150000
DTSTAMP:20260421T044621
CREATED:20250327T104027Z
LAST-MODIFIED:20250327T104027Z
UID:886215-1743602400-1743606000@bobruisk-library.by
SUMMARY:Открытый журнал «Сильны единством» (2 апреля – День единения народов Беларуси и России)\, (в рамках цикла «Беларусь-Россия – союз равных») 6+
DESCRIPTION:
URL:https://bobruisk-library.by/event/%d0%be%d1%82%d0%ba%d1%80%d1%8b%d1%82%d1%8b%d0%b9-%d0%b6%d1%83%d1%80%d0%bd%d0%b0%d0%bb-%d1%81%d0%b8%d0%bb%d1%8c%d0%bd%d1%8b-%d0%b5%d0%b4%d0%b8%d0%bd%d1%81%d1%82%d0%b2%d0%be%d0%bc-2-%d0%b0/
LOCATION:ГБ №8 им. Е. Полоцкой\, ул. Минская\, 90\, Бобруйск\, 213828\, Беларусь
END:VEVENT
BEGIN:VEVENT
DTSTART;TZID=Europe/Moscow:20250402T144000
DTEND;TZID=Europe/Moscow:20250402T154000
DTSTAMP:20260421T044621
CREATED:20250326T081251Z
LAST-MODIFIED:20250326T081251Z
UID:886164-1743604800-1743608400@bobruisk-library.by
SUMMARY:Информационный час «Единство\, проверенное временем» (2 апреля – День единения народов Беларуси и России; в рамках патриотического проекта «Моя Родина – Беларусь) 6+
DESCRIPTION:
URL:https://bobruisk-library.by/event/%d0%b8%d0%bd%d1%84%d0%be%d1%80%d0%bc%d0%b0%d1%86%d0%b8%d0%be%d0%bd%d0%bd%d1%8b%d0%b9-%d1%87%d0%b0%d1%81-%d0%b5%d0%b4%d0%b8%d0%bd%d1%81%d1%82%d0%b2%d0%be-%d0%bf%d1%80%d0%be%d0%b2%d0%b5%d1%80/
LOCATION:ЦДБ им. А.П.Гайдара\, ул. Урицкого\, 125\, Бобруйск\, 213809\, Беларусь
END:VEVENT
BEGIN:VEVENT
DTSTART;TZID=Europe/Moscow:20250402T144500
DTEND;TZID=Europe/Moscow:20250402T153000
DTSTAMP:20260421T044621
CREATED:20250326T084035Z
LAST-MODIFIED:20250326T084035Z
UID:886177-1743605100-1743607800@bobruisk-library.by
SUMMARY:Заочное путешествие в страну соседку «О России с любовью» (Ко Дню единения народов Беларуси и России) 6+
DESCRIPTION:
URL:https://bobruisk-library.by/event/%d0%b7%d0%b0%d0%be%d1%87%d0%bd%d0%be%d0%b5-%d0%bf%d1%83%d1%82%d0%b5%d1%88%d0%b5%d1%81%d1%82%d0%b2%d0%b8%d0%b5-%d0%b2-%d1%81%d1%82%d1%80%d0%b0%d0%bd%d1%83-%d1%81%d0%be%d1%81%d0%b5%d0%b4%d0%ba%d1%83/
LOCATION:ДБ №6 им. Н.А.Островского\, ул. Комсомольская\, 52\, Бобруйск\, 213826\, Беларусь
END:VEVENT
END:VCALENDAR