BEGIN:VCALENDAR
VERSION:2.0
PRODID:-//Учреждение культуры &quot;Библиотечная система города Бобруйска&quot; - ECPv6.15.20//NONSGML v1.0//EN
CALSCALE:GREGORIAN
METHOD:PUBLISH
X-WR-CALNAME:Учреждение культуры &quot;Библиотечная система города Бобруйска&quot;
X-ORIGINAL-URL:https://bobruisk-library.by
X-WR-CALDESC:Мероприятия для Учреждение культуры &quot;Библиотечная система города Бобруйска&quot;
REFRESH-INTERVAL;VALUE=DURATION:PT1H
X-Robots-Tag:noindex
X-PUBLISHED-TTL:PT1H
BEGIN:VTIMEZONE
TZID:Europe/Moscow
BEGIN:STANDARD
TZOFFSETFROM:+0300
TZOFFSETTO:+0300
TZNAME:MSK
DTSTART:20240101T000000
END:STANDARD
END:VTIMEZONE
BEGIN:VEVENT
DTSTART;TZID=Europe/Moscow:20250404T134500
DTEND;TZID=Europe/Moscow:20250404T150000
DTSTAMP:20260421T044621
CREATED:20250326T065523Z
LAST-MODIFIED:20250403T095541Z
UID:886152-1743774300-1743778800@bobruisk-library.by
SUMMARY:Литературная встреча с российским писателем Кузовлевым Павлом Владимировичем\, членом делегации Липецкой области Российской Федерации\, в рамках фестиваля «Душа одна - славянская» 6+
DESCRIPTION:
URL:https://bobruisk-library.by/event/%d0%bb%d0%b8%d1%82%d0%b5%d1%80%d0%b0%d1%82%d1%83%d1%80%d0%bd%d0%b0%d1%8f-%d0%b2%d1%81%d1%82%d1%80%d0%b5%d1%87%d0%b0-%d1%81-%d1%80%d0%be%d1%81%d1%81%d0%b8%d0%b9%d1%81%d0%ba%d0%b8%d0%bc-%d0%bf%d0%b8/
LOCATION:ГБ №16\, ул. Гагарина\, 31а\, Бобруйск\, 213810\, Беларусь
END:VEVENT
BEGIN:VEVENT
DTSTART;TZID=Europe/Moscow:20250404T160000
DTEND;TZID=Europe/Moscow:20250404T170000
DTSTAMP:20260421T044621
CREATED:20250326T081346Z
LAST-MODIFIED:20250326T081346Z
UID:886169-1743782400-1743786000@bobruisk-library.by
SUMMARY:Информационный час «Быть здоровым – значит быть счастливым» (7 апреля – Всемирный день здоровья) 6+
DESCRIPTION:
URL:https://bobruisk-library.by/event/%d0%b8%d0%bd%d1%84%d0%be%d1%80%d0%bc%d0%b0%d1%86%d0%b8%d0%be%d0%bd%d0%bd%d1%8b%d0%b9-%d1%87%d0%b0%d1%81-%d0%b1%d1%8b%d1%82%d1%8c-%d0%b7%d0%b4%d0%be%d1%80%d0%be%d0%b2%d1%8b%d0%bc-%d0%b7-2/
LOCATION:ЦДБ им. А.П.Гайдара\, ул. Урицкого\, 125\, Бобруйск\, 213809\, Беларусь
END:VEVENT
END:VCALENDAR