BEGIN:VCALENDAR
VERSION:2.0
PRODID:-//Учреждение культуры &quot;Библиотечная система города Бобруйска&quot; - ECPv6.15.20//NONSGML v1.0//EN
CALSCALE:GREGORIAN
METHOD:PUBLISH
X-ORIGINAL-URL:https://bobruisk-library.by
X-WR-CALDESC:Мероприятия для Учреждение культуры &quot;Библиотечная система города Бобруйска&quot;
REFRESH-INTERVAL;VALUE=DURATION:PT1H
X-Robots-Tag:noindex
X-PUBLISHED-TTL:PT1H
BEGIN:VTIMEZONE
TZID:Europe/Moscow
BEGIN:STANDARD
TZOFFSETFROM:+0300
TZOFFSETTO:+0300
TZNAME:MSK
DTSTART:20240101T000000
END:STANDARD
END:VTIMEZONE
BEGIN:VEVENT
DTSTART;VALUE=DATE:20250408
DTEND;VALUE=DATE:20250412
DTSTAMP:20260421T044651
CREATED:20250403T071722Z
LAST-MODIFIED:20250403T071722Z
UID:886409-1744070400-1744415999@bobruisk-library.by
SUMMARY:Патриотическая акция «Про время\, Родину и нас» 6+
DESCRIPTION:
URL:https://bobruisk-library.by/event/%d0%bf%d0%b0%d1%82%d1%80%d0%b8%d0%be%d1%82%d0%b8%d1%87%d0%b5%d1%81%d0%ba%d0%b0%d1%8f-%d0%b0%d0%ba%d1%86%d0%b8%d1%8f-%d0%bf%d1%80%d0%be-%d0%b2%d1%80%d0%b5%d0%bc%d1%8f-%d1%80%d0%be%d0%b4%d0%b8/
LOCATION:ЦГБ им. М.Горького\, ул. Советская\, 64\, Бобруйск\, 213826\, Беларусь
END:VEVENT
BEGIN:VEVENT
DTSTART;TZID=Europe/Moscow:20250409T080000
DTEND;TZID=Europe/Moscow:20250409T170000
DTSTAMP:20260421T044651
CREATED:20250409T121101Z
LAST-MODIFIED:20250409T121101Z
UID:886512-1744185600-1744218000@bobruisk-library.by
SUMMARY:Профилактическая беседа «Правила безопасного поведения в Интернете» 6+
DESCRIPTION:
URL:https://bobruisk-library.by/event/%d0%bf%d1%80%d0%be%d1%84%d0%b8%d0%bb%d0%b0%d0%ba%d1%82%d0%b8%d1%87%d0%b5%d1%81%d0%ba%d0%b0%d1%8f-%d0%b1%d0%b5%d1%81%d0%b5%d0%b4%d0%b0-%d0%bf%d1%80%d0%b0%d0%b2%d0%b8%d0%bb%d0%b0-%d0%b1%d0%b5/
LOCATION:ГБ №4 им. Б.Микулича\, пр-т Строителей\, 56\, Бобруйск\, 213807\, Беларусь
END:VEVENT
BEGIN:VEVENT
DTSTART;TZID=Europe/Moscow:20250409T143000
DTEND;TZID=Europe/Moscow:20250409T153000
DTSTAMP:20260421T044651
CREATED:20250403T064942Z
LAST-MODIFIED:20250403T064942Z
UID:886373-1744209000-1744212600@bobruisk-library.by
SUMMARY:Информационно-игровая программа «ЗОЖ в режиме NON-STOP» (в рамках областной антинаркотической акции «Вместе») 6+
DESCRIPTION:
URL:https://bobruisk-library.by/event/%d0%b8%d0%bd%d1%84%d0%be%d1%80%d0%bc%d0%b0%d1%86%d0%b8%d0%be%d0%bd%d0%bd%d0%be-%d0%b8%d0%b3%d1%80%d0%be%d0%b2%d0%b0%d1%8f-%d0%bf%d1%80%d0%be%d0%b3%d1%80%d0%b0%d0%bc%d0%bc%d0%b0-%d0%b7%d0%be/
LOCATION:ГБ №16\, ул. Гагарина\, 31а\, Бобруйск\, 213810\, Беларусь
END:VEVENT
BEGIN:VEVENT
DTSTART;TZID=Europe/Moscow:20250409T144000
DTEND;TZID=Europe/Moscow:20250409T153000
DTSTAMP:20260421T044651
CREATED:20250403T065552Z
LAST-MODIFIED:20250403T065552Z
UID:886380-1744209600-1744212600@bobruisk-library.by
SUMMARY:Информационный час «Чистота и порядок зависят от каждого из нас» (в рамках II регионального Форума «Местное самоуправление в Могилёвской области». 8–11 апреля 2025 г.) 6+
DESCRIPTION:
URL:https://bobruisk-library.by/event/%d0%b8%d0%bd%d1%84%d0%be%d1%80%d0%bc%d0%b0%d1%86%d0%b8%d0%be%d0%bd%d0%bd%d1%8b%d0%b9-%d1%87%d0%b0%d1%81-%d1%87%d0%b8%d1%81%d1%82%d0%be%d1%82%d0%b0-%d0%b8-%d0%bf%d0%be%d1%80%d1%8f%d0%b4%d0%be/
LOCATION:ЦДБ им. А.П.Гайдара\, ул. Урицкого\, 125\, Бобруйск\, 213809\, Беларусь
END:VEVENT
BEGIN:VEVENT
DTSTART;TZID=Europe/Moscow:20250409T144000
DTEND;TZID=Europe/Moscow:20250409T153000
DTSTAMP:20260421T044651
CREATED:20250403T070734Z
LAST-MODIFIED:20250403T070734Z
UID:886395-1744209600-1744212600@bobruisk-library.by
SUMMARY:Час памяти «Не гаснет Памяти свеча…» (К Международному дню освобождения узников фашистских лагерей) 6+
DESCRIPTION:
URL:https://bobruisk-library.by/event/%d1%87%d0%b0%d1%81-%d0%bf%d0%b0%d0%bc%d1%8f%d1%82%d0%b8-%d0%bd%d0%b5-%d0%b3%d0%b0%d1%81%d0%bd%d0%b5%d1%82-%d0%bf%d0%b0%d0%bc%d1%8f%d1%82%d0%b8-%d1%81%d0%b2%d0%b5%d1%87%d0%b0/
LOCATION:ДБ №6 им. Н.А.Островского\, ул. Комсомольская\, 52\, Бобруйск\, 213826\, Беларусь
END:VEVENT
BEGIN:VEVENT
DTSTART;TZID=Europe/Moscow:20250409T153000
DTEND;TZID=Europe/Moscow:20250409T163000
DTSTAMP:20260421T044651
CREATED:20250403T070538Z
LAST-MODIFIED:20250403T070538Z
UID:886389-1744212600-1744216200@bobruisk-library.by
SUMMARY:Правовой час «Консультация специалиста» (Нотариусы Нотариальной конторы №2 Ленинского района г.Бобруйска) 6+
DESCRIPTION:
URL:https://bobruisk-library.by/event/%d0%bf%d1%80%d0%b0%d0%b2%d0%be%d0%b2%d0%be%d0%b9-%d1%87%d0%b0%d1%81-%d0%ba%d0%be%d0%bd%d1%81%d1%83%d0%bb%d1%8c%d1%82%d0%b0%d1%86%d0%b8%d1%8f-%d1%81%d0%bf%d0%b5%d1%86%d0%b8%d0%b0%d0%bb%d0%b8-9/
LOCATION:ГБ им. А.С.Пушкина\, ул. Советская\, 87\, Бобруйск\, 213827\, Беларусь
END:VEVENT
END:VCALENDAR