BEGIN:VCALENDAR
VERSION:2.0
PRODID:-//Учреждение культуры &quot;Библиотечная система города Бобруйска&quot; - ECPv6.15.20//NONSGML v1.0//EN
CALSCALE:GREGORIAN
METHOD:PUBLISH
X-WR-CALNAME:Учреждение культуры &quot;Библиотечная система города Бобруйска&quot;
X-ORIGINAL-URL:https://bobruisk-library.by
X-WR-CALDESC:Мероприятия для Учреждение культуры &quot;Библиотечная система города Бобруйска&quot;
REFRESH-INTERVAL;VALUE=DURATION:PT1H
X-Robots-Tag:noindex
X-PUBLISHED-TTL:PT1H
BEGIN:VTIMEZONE
TZID:Europe/Moscow
BEGIN:STANDARD
TZOFFSETFROM:+0300
TZOFFSETTO:+0300
TZNAME:MSK
DTSTART:20240101T000000
END:STANDARD
END:VTIMEZONE
BEGIN:VEVENT
DTSTART;TZID=Europe/Moscow:20250417T120000
DTEND;TZID=Europe/Moscow:20250417T130000
DTSTAMP:20260421T044621
CREATED:20250409T064910Z
LAST-MODIFIED:20250409T064910Z
UID:886485-1744891200-1744894800@bobruisk-library.by
SUMMARY:Урок православной культуры «Солнце играет – Пасху встречает!» 6+
DESCRIPTION:
URL:https://bobruisk-library.by/event/%d1%83%d1%80%d0%be%d0%ba-%d0%bf%d1%80%d0%b0%d0%b2%d0%be%d1%81%d0%bb%d0%b0%d0%b2%d0%bd%d0%be%d0%b9-%d0%ba%d1%83%d0%bb%d1%8c%d1%82%d1%83%d1%80%d1%8b-%d1%81%d0%be%d0%bb%d0%bd%d1%86%d0%b5-%d0%b8/
LOCATION:ГБ №8 им. Е. Полоцкой\, ул. Минская\, 90\, Бобруйск\, 213828\, Беларусь
END:VEVENT
BEGIN:VEVENT
DTSTART;TZID=Europe/Moscow:20250417T120000
DTEND;TZID=Europe/Moscow:20250417T130000
DTSTAMP:20260421T044621
CREATED:20250409T084300Z
LAST-MODIFIED:20250409T084300Z
UID:886491-1744891200-1744894800@bobruisk-library.by
SUMMARY:Слайд-экскурсия «Из книги – на пьедестал» 6+
DESCRIPTION:
URL:https://bobruisk-library.by/event/%d1%81%d0%bb%d0%b0%d0%b9%d0%b4-%d1%8d%d0%ba%d1%81%d0%ba%d1%83%d1%80%d1%81%d0%b8%d1%8f-%d0%b8%d0%b7-%d0%ba%d0%bd%d0%b8%d0%b3%d0%b8-%d0%bd%d0%b0-%d0%bf%d1%8c%d0%b5%d0%b4%d0%b5%d1%81/
LOCATION:ГБ №16\, ул. Гагарина\, 31а\, Бобруйск\, 213810\, Беларусь
END:VEVENT
BEGIN:VEVENT
DTSTART;TZID=Europe/Moscow:20250417T130000
DTEND;TZID=Europe/Moscow:20250417T140000
DTSTAMP:20260421T044621
CREATED:20250409T111040Z
LAST-MODIFIED:20250409T111040Z
UID:886508-1744894800-1744898400@bobruisk-library.by
SUMMARY:Информационно-познавательное путешествие «Дорога к доброму здоровью» 6+
DESCRIPTION:
URL:https://bobruisk-library.by/event/%d0%b8%d0%bd%d1%84%d0%be%d1%80%d0%bc%d0%b0%d1%86%d0%b8%d0%be%d0%bd%d0%bd%d0%be-%d0%bf%d0%be%d0%b7%d0%bd%d0%b0%d0%b2%d0%b0%d1%82%d0%b5%d0%bb%d1%8c%d0%bd%d0%be%d0%b5-%d0%bf%d1%83%d1%82%d0%b5%d1%88%d0%b5/
LOCATION:ДБ №6 им. Н.А.Островского\, ул. Комсомольская\, 52\, Бобруйск\, 213826\, Беларусь
END:VEVENT
BEGIN:VEVENT
DTSTART;TZID=Europe/Moscow:20250417T140000
DTEND;TZID=Europe/Moscow:20250417T150000
DTSTAMP:20260421T044621
CREATED:20250409T121251Z
LAST-MODIFIED:20250409T121251Z
UID:886518-1744898400-1744902000@bobruisk-library.by
SUMMARY:Информационно-правовой час «С точки зрения закона» 6+
DESCRIPTION:
URL:https://bobruisk-library.by/event/%d0%b8%d0%bd%d1%84%d0%be%d1%80%d0%bc%d0%b0%d1%86%d0%b8%d0%be%d0%bd%d0%bd%d0%be-%d0%bf%d1%80%d0%b0%d0%b2%d0%be%d0%b2%d0%be%d0%b9-%d1%87%d0%b0%d1%81-%d1%81-%d1%82%d0%be%d1%87%d0%ba%d0%b8-%d0%b7/
LOCATION:ДБ № 5\, ул. 50 лет ВЛКСМ\, 19\, Бобруйск\, 213824\, Беларусь
END:VEVENT
BEGIN:VEVENT
DTSTART;TZID=Europe/Moscow:20250417T142000
DTEND;TZID=Europe/Moscow:20250417T152000
DTSTAMP:20260421T044621
CREATED:20250409T110433Z
LAST-MODIFIED:20250409T110433Z
UID:886502-1744899600-1744903200@bobruisk-library.by
SUMMARY:Историко-культурный экскурс «Тайны и загадки Бобруйской крепости» (18.04. – Международный день памятников и исторических мест; 215 лет) в рамках проекта «Мой край родной – моя история живая» 6+
DESCRIPTION:
URL:https://bobruisk-library.by/event/%d0%b8%d1%81%d1%82%d0%be%d1%80%d0%b8%d0%ba%d0%be-%d0%ba%d1%83%d0%bb%d1%8c%d1%82%d1%83%d1%80%d0%bd%d1%8b%d0%b9-%d1%8d%d0%ba%d1%81%d0%ba%d1%83%d1%80%d1%81-%d1%82%d0%b0%d0%b9%d0%bd%d1%8b-%d0%b8/
LOCATION:ГБ №7 им. А.А.Шогенцукова\, ул. Интернациональная\, 72в\, Бобруйск\, 213819
END:VEVENT
BEGIN:VEVENT
DTSTART;TZID=Europe/Moscow:20250417T144000
DTEND;TZID=Europe/Moscow:20250417T153000
DTSTAMP:20260421T044621
CREATED:20250409T110633Z
LAST-MODIFIED:20250409T110633Z
UID:886504-1744900800-1744903800@bobruisk-library.by
SUMMARY:Информационно-правовой час «Правовая ответственность несовершеннолетних» (профилактика правонарушений) 6+
DESCRIPTION:
URL:https://bobruisk-library.by/event/%d0%b8%d0%bd%d1%84%d0%be%d1%80%d0%bc%d0%b0%d1%86%d0%b8%d0%be%d0%bd%d0%bd%d0%be-%d0%bf%d1%80%d0%b0%d0%b2%d0%be%d0%b2%d0%be%d0%b9-%d1%87%d0%b0%d1%81-%d0%bf%d1%80%d0%b0%d0%b2%d0%be%d0%b2%d0%b0/
LOCATION:ЦДБ им. А.П.Гайдара\, ул. Урицкого\, 125\, Бобруйск\, 213809\, Беларусь
END:VEVENT
END:VCALENDAR