BEGIN:VCALENDAR
VERSION:2.0
PRODID:-//Учреждение культуры &quot;Библиотечная система города Бобруйска&quot; - ECPv6.15.20//NONSGML v1.0//EN
CALSCALE:GREGORIAN
METHOD:PUBLISH
X-ORIGINAL-URL:https://bobruisk-library.by
X-WR-CALDESC:Мероприятия для Учреждение культуры &quot;Библиотечная система города Бобруйска&quot;
REFRESH-INTERVAL;VALUE=DURATION:PT1H
X-Robots-Tag:noindex
X-PUBLISHED-TTL:PT1H
BEGIN:VTIMEZONE
TZID:Europe/Moscow
BEGIN:STANDARD
TZOFFSETFROM:+0300
TZOFFSETTO:+0300
TZNAME:MSK
DTSTART:20240101T000000
END:STANDARD
END:VTIMEZONE
BEGIN:VEVENT
DTSTART;VALUE=DATE:20250508
DTEND;VALUE=DATE:20250509
DTSTAMP:20260421T032457
CREATED:20250430T115912Z
LAST-MODIFIED:20250430T115912Z
UID:886810-1746662400-1746748799@bobruisk-library.by
SUMMARY:Информационный час «Государственные символы Республики Беларусь» (11 мая – День Государственного флага\, Государственного герба и Государственного гимна Республики Беларусь; в рамках патриотического проекта «Моя Родина – Беларусь) 6+
DESCRIPTION:
URL:https://bobruisk-library.by/event/%d0%b8%d0%bd%d1%84%d0%be%d1%80%d0%bc%d0%b0%d1%86%d0%b8%d0%be%d0%bd%d0%bd%d1%8b%d0%b9-%d1%87%d0%b0%d1%81-%d0%b3%d0%be%d1%81%d1%83%d0%b4%d0%b0%d1%80%d1%81%d1%82%d0%b2%d0%b5%d0%bd%d0%bd%d1%8b%d0%b5/
LOCATION:ЦДБ им. А.П.Гайдара\, ул. Урицкого\, 125\, Бобруйск\, 213809\, Беларусь
END:VEVENT
BEGIN:VEVENT
DTSTART;VALUE=DATE:20250508
DTEND;VALUE=DATE:20250509
DTSTAMP:20260421T032457
CREATED:20250430T121628Z
LAST-MODIFIED:20250430T121628Z
UID:886830-1746662400-1746748799@bobruisk-library.by
SUMMARY:День благодарной памяти "Славе не меркнуть. Памяти – жить!" (09.05. –День Победы) 6+
DESCRIPTION:
URL:https://bobruisk-library.by/event/%d0%b4%d0%b5%d0%bd%d1%8c-%d0%b1%d0%bb%d0%b0%d0%b3%d0%be%d0%b4%d0%b0%d1%80%d0%bd%d0%be%d0%b9-%d0%bf%d0%b0%d0%bc%d1%8f%d1%82%d0%b8-%d1%81%d0%bb%d0%b0%d0%b2%d0%b5-%d0%bd%d0%b5-%d0%bc%d0%b5%d1%80%d0%ba/
LOCATION:ГБ им. А.С.Пушкина\, ул. Советская\, 87\, Бобруйск\, 213827\, Беларусь
END:VEVENT
BEGIN:VEVENT
DTSTART;TZID=Europe/Moscow:20250508T120000
DTEND;TZID=Europe/Moscow:20250508T130000
DTSTAMP:20260421T032457
CREATED:20250430T120420Z
LAST-MODIFIED:20250430T120420Z
UID:886816-1746705600-1746709200@bobruisk-library.by
SUMMARY:Вахта памяти «Живая память поколений» (9 мая – День Победы) (к 80-летию Победы советского народа в Великой Отечественной войне) 6+
DESCRIPTION:
URL:https://bobruisk-library.by/event/%d0%b2%d0%b0%d1%85%d1%82%d0%b0-%d0%bf%d0%b0%d0%bc%d1%8f%d1%82%d0%b8-%d0%b6%d0%b8%d0%b2%d0%b0%d1%8f-%d0%bf%d0%b0%d0%bc%d1%8f%d1%82%d1%8c-%d0%bf%d0%be%d0%ba%d0%be%d0%bb%d0%b5%d0%bd%d0%b8%d0%b9-2/
LOCATION:ГБ №8 им. Е. Полоцкой\, ул. Минская\, 90\, Бобруйск\, 213828\, Беларусь
END:VEVENT
BEGIN:VEVENT
DTSTART;TZID=Europe/Moscow:20250508T130000
DTEND;TZID=Europe/Moscow:20250508T140000
DTSTAMP:20260421T032457
CREATED:20250430T121329Z
LAST-MODIFIED:20250430T121329Z
UID:886826-1746709200-1746712800@bobruisk-library.by
SUMMARY:Интеллектуальная игра "Война.Победа.Память" 6+
DESCRIPTION:
URL:https://bobruisk-library.by/event/%d0%b8%d0%bd%d1%82%d0%b5%d0%bb%d0%bb%d0%b5%d0%ba%d1%82%d1%83%d0%b0%d0%bb%d1%8c%d0%bd%d0%b0%d1%8f-%d0%b8%d0%b3%d1%80%d0%b0-%d0%b2%d0%be%d0%b9%d0%bd%d0%b0-%d0%bf%d0%be%d0%b1%d0%b5%d0%b4%d0%b0-%d0%bf/
LOCATION:ГБ им. А.С.Пушкина\, ул. Советская\, 87\, Бобруйск\, 213827\, Беларусь
END:VEVENT
BEGIN:VEVENT
DTSTART;TZID=Europe/Moscow:20250508T142000
DTEND;TZID=Europe/Moscow:20250508T150000
DTSTAMP:20260421T032457
CREATED:20250430T114700Z
LAST-MODIFIED:20250430T114700Z
UID:886796-1746714000-1746716400@bobruisk-library.by
SUMMARY:Литературно-музыкальная композиция «Спасибо за мир!» (09.05. – День Победы советского народа в Великой Отечественной войне; к 80-летию со дня Победы) в рамках проекта «Мой край родной – моя история живая» 6+
DESCRIPTION:
URL:https://bobruisk-library.by/event/%d0%bb%d0%b8%d1%82%d0%b5%d1%80%d0%b0%d1%82%d1%83%d1%80%d0%bd%d0%be-%d0%bc%d1%83%d0%b7%d1%8b%d0%ba%d0%b0%d0%bb%d1%8c%d0%bd%d0%b0%d1%8f-%d0%ba%d0%be%d0%bc%d0%bf%d0%be%d0%b7%d0%b8%d1%86%d0%b8%d1%8f-21/
LOCATION:ГБ №7 им. А.А.Шогенцукова\, ул. Интернациональная\, 72в\, Бобруйск\, 213819
END:VEVENT
END:VCALENDAR