BEGIN:VCALENDAR
VERSION:2.0
PRODID:-//Учреждение культуры &quot;Библиотечная система города Бобруйска&quot; - ECPv6.15.20//NONSGML v1.0//EN
CALSCALE:GREGORIAN
METHOD:PUBLISH
X-WR-CALNAME:Учреждение культуры &quot;Библиотечная система города Бобруйска&quot;
X-ORIGINAL-URL:https://bobruisk-library.by
X-WR-CALDESC:Мероприятия для Учреждение культуры &quot;Библиотечная система города Бобруйска&quot;
REFRESH-INTERVAL;VALUE=DURATION:PT1H
X-Robots-Tag:noindex
X-PUBLISHED-TTL:PT1H
BEGIN:VTIMEZONE
TZID:Europe/Moscow
BEGIN:STANDARD
TZOFFSETFROM:+0300
TZOFFSETTO:+0300
TZNAME:MSK
DTSTART:20240101T000000
END:STANDARD
END:VTIMEZONE
BEGIN:VEVENT
DTSTART;TZID=Europe/Moscow:20250521T120000
DTEND;TZID=Europe/Moscow:20250521T130000
DTSTAMP:20260421T032514
CREATED:20250514T055043Z
LAST-MODIFIED:20250520T122230Z
UID:887027-1747828800-1747832400@bobruisk-library.by
SUMMARY:Урок мастерства «Вытинанка» (в рамках цикла мероприятий и выставок творческих работ мастеров декоративно-прикладного искусства отдела традиционного искусства и ремёсел ГУК «Дворец искусств г. Бобруйска» «Белорусские традиции в декоративно-прикладном искусстве») 6+
DESCRIPTION:
URL:https://bobruisk-library.by/event/%d1%83%d1%80%d0%be%d0%ba-%d0%bc%d0%b0%d1%81%d1%82%d0%b5%d1%80%d1%81%d1%82%d0%b2%d0%b0-%d0%b2%d1%8b%d1%82%d0%b8%d0%bd%d0%b0%d0%bd%d0%ba%d0%b0-%d0%b2-%d1%80%d0%b0%d0%bc%d0%ba%d0%b0%d1%85/
LOCATION:ЦДБ им. А.П.Гайдара\, ул. Урицкого\, 125\, Бобруйск\, 213809\, Беларусь
END:VEVENT
END:VCALENDAR