BEGIN:VCALENDAR
VERSION:2.0
PRODID:-//Учреждение культуры &quot;Библиотечная система города Бобруйска&quot; - ECPv6.15.20//NONSGML v1.0//EN
CALSCALE:GREGORIAN
METHOD:PUBLISH
X-ORIGINAL-URL:https://bobruisk-library.by
X-WR-CALDESC:Мероприятия для Учреждение культуры &quot;Библиотечная система города Бобруйска&quot;
REFRESH-INTERVAL;VALUE=DURATION:PT1H
X-Robots-Tag:noindex
X-PUBLISHED-TTL:PT1H
BEGIN:VTIMEZONE
TZID:Europe/Moscow
BEGIN:STANDARD
TZOFFSETFROM:+0300
TZOFFSETTO:+0300
TZNAME:MSK
DTSTART:20240101T000000
END:STANDARD
END:VTIMEZONE
BEGIN:VEVENT
DTSTART;TZID=Europe/Moscow:20250527T120000
DTEND;TZID=Europe/Moscow:20250527T130000
DTSTAMP:20260421T020625
CREATED:20250520T122634Z
LAST-MODIFIED:20250520T122705Z
UID:887283-1748347200-1748350800@bobruisk-library.by
SUMMARY:Час православия "Великий просветитель из Турова" (11 мая – день памяти Кирилы Туровского\, 895 со дня рождения) 6+
DESCRIPTION:
URL:https://bobruisk-library.by/event/%d1%87%d0%b0%d1%81-%d0%bf%d1%80%d0%be%d0%b2%d0%b0%d1%81%d0%bb%d0%b0%d0%b2%d0%b8%d1%8f-%d0%b2%d0%b5%d0%bb%d0%b8%d0%ba%d0%b8%d0%b9-%d0%bf%d1%80%d0%be%d1%81%d0%b2%d0%b5%d1%82%d0%b8%d1%82%d0%b5%d0%bb/
LOCATION:ГБ №8 им. Е. Полоцкой\, ул. Минская\, 90\, Бобруйск\, 213828\, Беларусь
END:VEVENT
BEGIN:VEVENT
DTSTART;TZID=Europe/Moscow:20250527T130000
DTEND;TZID=Europe/Moscow:20250527T140000
DTSTAMP:20260421T020625
CREATED:20250520T092125Z
LAST-MODIFIED:20250520T092201Z
UID:887263-1748350800-1748354400@bobruisk-library.by
SUMMARY:Литературный час “Дзялюся крыламі” (Да 85-годдзя з дня нараджэння У. Ліпскага) 6+
DESCRIPTION:
URL:https://bobruisk-library.by/event/%d0%bb%d1%96%d1%82%d0%b0%d1%80%d0%b0%d1%82%d1%83%d1%80%d0%bd%d1%8b-%d1%87%d0%b0%d1%81-%d0%b4%d0%b7%d1%8f%d0%bb%d1%8e%d1%81%d1%8f-%d0%ba%d1%80%d1%8b%d0%bb%d0%b0%d0%bc%d1%96-%d0%b4/
LOCATION:ДБ №6 им. Н.А.Островского\, ул. Комсомольская\, 52\, Бобруйск\, 213826\, Беларусь
END:VEVENT
END:VCALENDAR