BEGIN:VCALENDAR
VERSION:2.0
PRODID:-//Учреждение культуры &quot;Библиотечная система города Бобруйска&quot; - ECPv6.15.20//NONSGML v1.0//EN
CALSCALE:GREGORIAN
METHOD:PUBLISH
X-ORIGINAL-URL:https://bobruisk-library.by
X-WR-CALDESC:Мероприятия для Учреждение культуры &quot;Библиотечная система города Бобруйска&quot;
REFRESH-INTERVAL;VALUE=DURATION:PT1H
X-Robots-Tag:noindex
X-PUBLISHED-TTL:PT1H
BEGIN:VTIMEZONE
TZID:Europe/Moscow
BEGIN:STANDARD
TZOFFSETFROM:+0300
TZOFFSETTO:+0300
TZNAME:MSK
DTSTART:20240101T000000
END:STANDARD
END:VTIMEZONE
BEGIN:VEVENT
DTSTART;VALUE=DATE:20250606
DTEND;VALUE=DATE:20250607
DTSTAMP:20260421T015109
CREATED:20250527T131508Z
LAST-MODIFIED:20250527T131508Z
UID:887349-1749168000-1749254399@bobruisk-library.by
SUMMARY:День семейного чтения «Читаем Пушкина семьёй!» (6 июня – день рождения русского поэта А.С. Пушкина) 6+
DESCRIPTION:
URL:https://bobruisk-library.by/event/%d0%b4%d0%b5%d0%bd%d1%8c-%d1%81%d0%b5%d0%bc%d0%b5%d0%b9%d0%bd%d0%be%d0%b3%d0%be-%d1%87%d1%82%d0%b5%d0%bd%d0%b8%d1%8f-%d1%87%d0%b8%d1%82%d0%b0%d0%b5%d0%bc-%d0%bf%d1%83%d1%88%d0%ba%d0%b8%d0%bd/
LOCATION:ГБ им. А.С.Пушкина\, ул. Советская\, 87\, Бобруйск\, 213827\, Беларусь
END:VEVENT
BEGIN:VEVENT
DTSTART;TZID=Europe/Moscow:20250606T100000
DTEND;TZID=Europe/Moscow:20250606T110000
DTSTAMP:20260421T015109
CREATED:20250527T130052Z
LAST-MODIFIED:20250605T112157Z
UID:887329-1749204000-1749207600@bobruisk-library.by
SUMMARY:Экологическая акция «Мусор. НЕТ» (к Году благоустройства) 6+
DESCRIPTION:
URL:https://bobruisk-library.by/event/%d1%8d%d0%ba%d0%be%d0%bb%d0%be%d0%b3%d0%b8%d1%87%d0%b5%d1%81%d0%ba%d0%b0%d1%8f-%d0%b0%d0%ba%d1%86%d0%b8%d1%8f-%d0%bc%d1%83%d1%81%d0%be%d1%80-%d0%bd%d0%b5%d1%82-%d0%ba-%d0%b3%d0%be%d0%b4/
LOCATION:ДБ № 5\, ул. 50 лет ВЛКСМ\, 19\, Бобруйск\, 213824\, Беларусь
END:VEVENT
BEGIN:VEVENT
DTSTART;TZID=Europe/Moscow:20250606T100000
DTEND;TZID=Europe/Moscow:20250606T110000
DTSTAMP:20260421T015109
CREATED:20250527T130717Z
LAST-MODIFIED:20250527T130717Z
UID:887341-1749204000-1749207600@bobruisk-library.by
SUMMARY:Патриотический урок-путешествие с игровой программой «Их именами названы улицы Бобруйска» 6+
DESCRIPTION:
URL:https://bobruisk-library.by/event/%d0%bf%d0%b0%d1%82%d1%80%d0%b8%d0%be%d1%82%d0%b8%d1%87%d0%b5%d1%81%d0%ba%d0%b8%d0%b9-%d1%83%d1%80%d0%be%d0%ba-%d0%bf%d1%83%d1%82%d0%b5%d1%88%d0%b5%d1%81%d1%82%d0%b2%d0%b8%d0%b5-%d1%81-%d0%b8%d0%b3/
LOCATION:ДБ №6 им. Н.А.Островского\, ул. Комсомольская\, 52\, Бобруйск\, 213826\, Беларусь
END:VEVENT
BEGIN:VEVENT
DTSTART;TZID=Europe/Moscow:20250606T110000
DTEND;TZID=Europe/Moscow:20250606T120000
DTSTAMP:20260421T015109
CREATED:20250527T125737Z
LAST-MODIFIED:20250527T125737Z
UID:887325-1749207600-1749211200@bobruisk-library.by
SUMMARY:Игра-путешествие «По следам Пушкинских сказок» (6 июня – 226 лет со дня рождения А.С.Пушкина) 6+
DESCRIPTION:
URL:https://bobruisk-library.by/event/%d0%b8%d0%b3%d1%80%d0%b0-%d0%bf%d1%83%d1%82%d0%b5%d1%88%d0%b5%d1%81%d1%82%d0%b2%d0%b8%d0%b5-%d0%bf%d0%be-%d1%81%d0%bb%d0%b5%d0%b4%d0%b0%d0%bc-%d0%bf%d1%83%d1%88%d0%ba%d0%b8%d0%bd%d1%81%d0%ba-3/
LOCATION:ГБ №8 им. Е. Полоцкой\, ул. Минская\, 90\, Бобруйск\, 213828\, Беларусь
END:VEVENT
END:VCALENDAR