BEGIN:VCALENDAR
VERSION:2.0
PRODID:-//Учреждение культуры &quot;Библиотечная система города Бобруйска&quot; - ECPv6.15.20//NONSGML v1.0//EN
CALSCALE:GREGORIAN
METHOD:PUBLISH
X-WR-CALNAME:Учреждение культуры &quot;Библиотечная система города Бобруйска&quot;
X-ORIGINAL-URL:https://bobruisk-library.by
X-WR-CALDESC:Мероприятия для Учреждение культуры &quot;Библиотечная система города Бобруйска&quot;
REFRESH-INTERVAL;VALUE=DURATION:PT1H
X-Robots-Tag:noindex
X-PUBLISHED-TTL:PT1H
BEGIN:VTIMEZONE
TZID:Europe/Moscow
BEGIN:STANDARD
TZOFFSETFROM:+0300
TZOFFSETTO:+0300
TZNAME:MSK
DTSTART:20240101T000000
END:STANDARD
END:VTIMEZONE
BEGIN:VEVENT
DTSTART;TZID=Europe/Moscow:20250701T080000
DTEND;TZID=Europe/Moscow:20250731T170000
DTSTAMP:20260421T003451
CREATED:20250708T110907Z
LAST-MODIFIED:20250708T110907Z
UID:887938-1751356800-1753981200@bobruisk-library.by
SUMMARY:Библиотечная акция «Тому\, кто читает\, скучно не бывает» (в рамках программы летнего досуга и чтения «Летнее приклю-Чтение» (проект «Книгочеи») 6+
DESCRIPTION:
URL:https://bobruisk-library.by/event/%d0%b1%d0%b8%d0%b1%d0%bb%d0%b8%d0%be%d1%82%d0%b5%d1%87%d0%bd%d0%b0%d1%8f-%d0%b0%d0%ba%d1%86%d0%b8%d1%8f-%d1%82%d0%be%d0%bc%d1%83-%d0%ba%d1%82%d0%be-%d1%87%d0%b8%d1%82%d0%b0%d0%b5%d1%82-%d1%81-2/
LOCATION:ГБ №12\, ул. Бахарова\, 279\, Бобруйск\, Выберите штат:\, 213823\, Беларусь
END:VEVENT
BEGIN:VEVENT
DTSTART;TZID=Europe/Moscow:20250709T110000
DTEND;TZID=Europe/Moscow:20250709T120000
DTSTAMP:20260421T003451
CREATED:20250701T090539Z
LAST-MODIFIED:20250701T090539Z
UID:887864-1752058800-1752062400@bobruisk-library.by
SUMMARY:Час библиозатей «Нет времени скучать!» 6+
DESCRIPTION:
URL:https://bobruisk-library.by/event/%d1%87%d0%b0%d1%81-%d0%b1%d0%b8%d0%b1%d0%bb%d0%b8%d0%be%d0%b7%d0%b0%d1%82%d0%b5%d0%b9-%d0%bd%d0%b5%d1%82-%d0%b2%d1%80%d0%b5%d0%bc%d0%b5%d0%bd%d0%b8-%d1%81%d0%ba%d1%83%d1%87%d0%b0%d1%82%d1%8c/
LOCATION:ГБ №16\, ул. Гагарина\, 31а\, Бобруйск\, 213810\, Беларусь
END:VEVENT
BEGIN:VEVENT
DTSTART;TZID=Europe/Moscow:20250709T120000
DTEND;TZID=Europe/Moscow:20250709T130000
DTSTAMP:20260421T003451
CREATED:20250701T131253Z
LAST-MODIFIED:20250701T131253Z
UID:887876-1752062400-1752066000@bobruisk-library.by
SUMMARY:Летний книжный обзор «Книжное лето солнцем согрето» (в рамках программы летнего досуга и чтения «Летнее приклю-Чтение») 6+
DESCRIPTION:
URL:https://bobruisk-library.by/event/%d0%bb%d0%b5%d1%82%d0%bd%d0%b8%d0%b9-%d0%ba%d0%bd%d0%b8%d0%b6%d0%bd%d1%8b%d0%b9-%d0%be%d0%b1%d0%b7%d0%be%d1%80-%d0%ba%d0%bd%d0%b8%d0%b6%d0%bd%d0%be%d0%b5-%d0%bb%d0%b5%d1%82%d0%be-%d1%81%d0%be/
LOCATION:ГБ №7 им. А.А.Шогенцукова\, ул. Интернациональная\, 72в\, Бобруйск\, 213819
END:VEVENT
BEGIN:VEVENT
DTSTART;TZID=Europe/Moscow:20250709T153000
DTEND;TZID=Europe/Moscow:20250709T163000
DTSTAMP:20260421T003451
CREATED:20250701T133943Z
LAST-MODIFIED:20250701T133943Z
UID:887882-1752075000-1752078600@bobruisk-library.by
SUMMARY:Правовой час «Консультация специалиста» (Нотариусы Нотариальной конторы №2 Ленинского района г. Бобруйска) 6+
DESCRIPTION:
URL:https://bobruisk-library.by/event/%d0%bf%d1%80%d0%b0%d0%b2%d0%be%d0%b2%d0%be%d0%b9-%d1%87%d0%b0%d1%81-%d0%ba%d0%be%d0%bd%d1%81%d1%83%d0%bb%d1%8c%d1%82%d0%b0%d1%86%d0%b8%d1%8f-%d1%81%d0%bf%d0%b5%d1%86%d0%b8%d0%b0%d0%bb%d0%b8-10/
LOCATION:ГБ им. А.С.Пушкина\, ул. Советская\, 87\, Бобруйск\, 213827\, Беларусь
END:VEVENT
END:VCALENDAR