BEGIN:VCALENDAR
VERSION:2.0
PRODID:-//Учреждение культуры &quot;Библиотечная система города Бобруйска&quot; - ECPv6.15.20//NONSGML v1.0//EN
CALSCALE:GREGORIAN
METHOD:PUBLISH
X-WR-CALNAME:Учреждение культуры &quot;Библиотечная система города Бобруйска&quot;
X-ORIGINAL-URL:https://bobruisk-library.by
X-WR-CALDESC:Мероприятия для Учреждение культуры &quot;Библиотечная система города Бобруйска&quot;
REFRESH-INTERVAL;VALUE=DURATION:PT1H
X-Robots-Tag:noindex
X-PUBLISHED-TTL:PT1H
BEGIN:VTIMEZONE
TZID:Europe/Moscow
BEGIN:STANDARD
TZOFFSETFROM:+0300
TZOFFSETTO:+0300
TZNAME:MSK
DTSTART:20240101T000000
END:STANDARD
END:VTIMEZONE
BEGIN:VEVENT
DTSTART;TZID=Europe/Moscow:20250701T080000
DTEND;TZID=Europe/Moscow:20250731T170000
DTSTAMP:20260421T003358
CREATED:20250708T110907Z
LAST-MODIFIED:20250708T110907Z
UID:887938-1751356800-1753981200@bobruisk-library.by
SUMMARY:Библиотечная акция «Тому\, кто читает\, скучно не бывает» (в рамках программы летнего досуга и чтения «Летнее приклю-Чтение» (проект «Книгочеи») 6+
DESCRIPTION:
URL:https://bobruisk-library.by/event/%d0%b1%d0%b8%d0%b1%d0%bb%d0%b8%d0%be%d1%82%d0%b5%d1%87%d0%bd%d0%b0%d1%8f-%d0%b0%d0%ba%d1%86%d0%b8%d1%8f-%d1%82%d0%be%d0%bc%d1%83-%d0%ba%d1%82%d0%be-%d1%87%d0%b8%d1%82%d0%b0%d0%b5%d1%82-%d1%81-2/
LOCATION:ГБ №12\, ул. Бахарова\, 279\, Бобруйск\, Выберите штат:\, 213823\, Беларусь
END:VEVENT
BEGIN:VEVENT
DTSTART;TZID=Europe/Moscow:20250719T140000
DTEND;TZID=Europe/Moscow:20250719T150000
DTSTAMP:20260421T003358
CREATED:20250708T125618Z
LAST-MODIFIED:20250708T125618Z
UID:887948-1752933600-1752937200@bobruisk-library.by
SUMMARY:Исторический видеоэкскурс «Путь Скорины: белорусское наследие» (20.07. – 535 лет со дня рождения Ф.Скорины) 6+
DESCRIPTION:
URL:https://bobruisk-library.by/event/%d0%b8%d1%81%d1%82%d0%be%d1%80%d0%b8%d1%87%d0%b5%d1%81%d0%ba%d0%b8%d0%b9-%d0%b2%d0%b8%d0%b4%d0%b5%d0%be%d1%8d%d0%ba%d1%81%d0%ba%d1%83%d1%80%d1%81-%d0%bf%d1%83%d1%82%d1%8c-%d1%81%d0%ba%d0%be/
LOCATION:ГБ им. А.С.Пушкина\, ул. Советская\, 87\, Бобруйск\, 213827\, Беларусь
END:VEVENT
END:VCALENDAR