BEGIN:VCALENDAR
VERSION:2.0
PRODID:-//Учреждение культуры &quot;Библиотечная система города Бобруйска&quot; - ECPv6.15.20//NONSGML v1.0//EN
CALSCALE:GREGORIAN
METHOD:PUBLISH
X-ORIGINAL-URL:https://bobruisk-library.by
X-WR-CALDESC:Мероприятия для Учреждение культуры &quot;Библиотечная система города Бобруйска&quot;
REFRESH-INTERVAL;VALUE=DURATION:PT1H
X-Robots-Tag:noindex
X-PUBLISHED-TTL:PT1H
BEGIN:VTIMEZONE
TZID:Europe/Moscow
BEGIN:STANDARD
TZOFFSETFROM:+0300
TZOFFSETTO:+0300
TZNAME:MSK
DTSTART:20240101T000000
END:STANDARD
END:VTIMEZONE
BEGIN:VEVENT
DTSTART;VALUE=DATE:20250814
DTEND;VALUE=DATE:20250815
DTSTAMP:20260420T230302
CREATED:20250805T133918Z
LAST-MODIFIED:20250805T133918Z
UID:888129-1755129600-1755215999@bobruisk-library.by
SUMMARY:Беседа «Три Спаса – три запаса» у выставки – экспозиции «Август Спасами богат» (В рамках месяца событийного туризма) 6+
DESCRIPTION:
URL:https://bobruisk-library.by/event/%d0%b1%d0%b5%d1%81%d0%b5%d0%b4%d0%b0-%d1%82%d1%80%d0%b8-%d1%81%d0%bf%d0%b0%d1%81%d0%b0-%d1%82%d1%80%d0%b8-%d0%b7%d0%b0%d0%bf%d0%b0%d1%81%d0%b0-%d1%83-%d0%b2%d1%8b%d1%81%d1%82/
LOCATION:ДБ №6 им. Н.А.Островского\, ул. Комсомольская\, 52\, Бобруйск\, 213826\, Беларусь
END:VEVENT
BEGIN:VEVENT
DTSTART;VALUE=DATE:20250814
DTEND;VALUE=DATE:20250815
DTSTAMP:20260420T230302
CREATED:20250805T134143Z
LAST-MODIFIED:20250805T134143Z
UID:888133-1755129600-1755215999@bobruisk-library.by
SUMMARY:Познавательное путешествие «Хочу всё знать!» (в рамках программы летнего досуга и чтения «Летнее приклю-Чтение») 6+
DESCRIPTION:
URL:https://bobruisk-library.by/event/%d0%bf%d0%be%d0%b7%d0%bd%d0%b0%d0%b2%d0%b0%d1%82%d0%b5%d0%bb%d1%8c%d0%bd%d0%be%d0%b5-%d0%bf%d1%83%d1%82%d0%b5%d1%88%d0%b5%d1%81%d1%82%d0%b2%d0%b8%d0%b5-%d1%85%d0%be%d1%87%d1%83-%d0%b2%d1%81/
LOCATION:ЦДБ им. А.П.Гайдара\, ул. Урицкого\, 125\, Бобруйск\, 213809\, Беларусь
END:VEVENT
BEGIN:VEVENT
DTSTART;TZID=Europe/Moscow:20250814T110000
DTEND;TZID=Europe/Moscow:20250814T120000
DTSTAMP:20260420T230302
CREATED:20250805T133854Z
LAST-MODIFIED:20250805T133854Z
UID:888127-1755169200-1755172800@bobruisk-library.by
SUMMARY:Беседа-знакомство «АРТ – Жижель: глина\, огонь и природа» ( в рамках месяца событийного туризма) 6+
DESCRIPTION:
URL:https://bobruisk-library.by/event/%d0%b1%d0%b5%d1%81%d0%b5%d0%b4%d0%b0-%d0%b7%d0%bd%d0%b0%d0%ba%d0%be%d0%bc%d1%81%d1%82%d0%b2%d0%be-%d0%b0%d1%80%d1%82-%d0%b6%d0%b8%d0%b6%d0%b5%d0%bb%d1%8c-%d0%b3%d0%bb%d0%b8%d0%bd/
LOCATION:ГБ №16\, ул. Гагарина\, 31а\, Бобруйск\, 213810\, Беларусь
END:VEVENT
BEGIN:VEVENT
DTSTART;TZID=Europe/Moscow:20250814T110000
DTEND;TZID=Europe/Moscow:20250814T120000
DTSTAMP:20260420T230302
CREATED:20250805T134329Z
LAST-MODIFIED:20250805T134329Z
UID:888135-1755169200-1755172800@bobruisk-library.by
SUMMARY:Литературная скамейка «Солнышко на книжных страницах» 6+
DESCRIPTION:
URL:https://bobruisk-library.by/event/%d0%bb%d0%b8%d1%82%d0%b5%d1%80%d0%b0%d1%82%d1%83%d1%80%d0%bd%d0%b0%d1%8f-%d1%81%d0%ba%d0%b0%d0%bc%d0%b5%d0%b9%d0%ba%d0%b0-%d1%81%d0%be%d0%bb%d0%bd%d1%8b%d1%88%d0%ba%d0%be-%d0%bd%d0%b0-%d0%ba/
LOCATION:ДБ № 5\, ул. 50 лет ВЛКСМ\, 19\, Бобруйск\, 213824\, Беларусь
END:VEVENT
END:VCALENDAR