BEGIN:VCALENDAR
VERSION:2.0
PRODID:-//Учреждение культуры &quot;Библиотечная система города Бобруйска&quot; - ECPv6.15.20//NONSGML v1.0//EN
CALSCALE:GREGORIAN
METHOD:PUBLISH
X-ORIGINAL-URL:https://bobruisk-library.by
X-WR-CALDESC:Мероприятия для Учреждение культуры &quot;Библиотечная система города Бобруйска&quot;
REFRESH-INTERVAL;VALUE=DURATION:PT1H
X-Robots-Tag:noindex
X-PUBLISHED-TTL:PT1H
BEGIN:VTIMEZONE
TZID:Europe/Moscow
BEGIN:STANDARD
TZOFFSETFROM:+0300
TZOFFSETTO:+0300
TZNAME:MSK
DTSTART:20240101T000000
END:STANDARD
END:VTIMEZONE
BEGIN:VEVENT
DTSTART;VALUE=DATE:20250915
DTEND;VALUE=DATE:20250916
DTSTAMP:20260420T210325
CREATED:20250903T104709Z
LAST-MODIFIED:20250903T104709Z
UID:888341-1757894400-1757980799@bobruisk-library.by
SUMMARY:Книгопутешествие “В стране библиотечной” 6+
DESCRIPTION:
URL:https://bobruisk-library.by/event/%d0%ba%d0%bd%d0%b8%d0%b3%d0%be%d0%bf%d1%83%d1%82%d0%b5%d1%88%d0%b5%d1%81%d1%82%d0%b2%d0%b8%d0%b5-%d0%b2-%d1%81%d1%82%d1%80%d0%b0%d0%bd%d0%b5-%d0%b1%d0%b8%d0%b1%d0%bb%d0%b8%d0%be%d1%82%d0%b5/
LOCATION:ГБ №4 им. Б.Микулича\, пр-т Строителей\, 56\, Бобруйск\, 213807\, Беларусь
END:VEVENT
BEGIN:VEVENT
DTSTART;VALUE=DATE:20250915
DTEND;VALUE=DATE:20250916
DTSTAMP:20260420T210325
CREATED:20250909T105215Z
LAST-MODIFIED:20250909T105215Z
UID:888391-1757894400-1757980799@bobruisk-library.by
SUMMARY:Библиотечная акция «Книга и её хранители» (ко Дню библиотек) 6+
DESCRIPTION:
URL:https://bobruisk-library.by/event/%d0%b1%d0%b8%d0%b1%d0%bb%d0%b8%d0%be%d1%82%d0%b5%d1%87%d0%bd%d0%b0%d1%8f-%d0%b0%d0%ba%d1%86%d0%b8%d1%8f-%d0%ba%d0%bd%d0%b8%d0%b3%d0%b0-%d0%b8-%d0%b5%d1%91-%d1%85%d1%80%d0%b0%d0%bd%d0%b8%d1%82/
LOCATION:ДБ № 5\, ул. 50 лет ВЛКСМ\, 19\, Бобруйск\, 213824\, Беларусь
END:VEVENT
BEGIN:VEVENT
DTSTART;VALUE=DATE:20250915
DTEND;VALUE=DATE:20250916
DTSTAMP:20260420T210325
CREATED:20250909T112550Z
LAST-MODIFIED:20250909T112550Z
UID:888405-1757894400-1757980799@bobruisk-library.by
SUMMARY:Акция «День возвращённой книги» 6+
DESCRIPTION:
URL:https://bobruisk-library.by/event/%d0%b0%d0%ba%d1%86%d0%b8%d1%8f-%d0%b4%d0%b5%d0%bd%d1%8c-%d0%b2%d0%be%d0%b7%d0%b2%d1%80%d0%b0%d1%89%d1%91%d0%bd%d0%bd%d0%be%d0%b9-%d0%ba%d0%bd%d0%b8%d0%b3%d0%b8-6/
LOCATION:ГБ №7 им. А.А.Шогенцукова\, ул. Интернациональная\, 72в\, Бобруйск\, 213819
END:VEVENT
BEGIN:VEVENT
DTSTART;TZID=Europe/Moscow:20250915T123000
DTEND;TZID=Europe/Moscow:20250915T133000
DTSTAMP:20260420T210325
CREATED:20250909T110054Z
LAST-MODIFIED:20250909T110054Z
UID:888397-1757939400-1757943000@bobruisk-library.by
SUMMARY:Книгопутешествие «В стране библиотечной» (15 сентября – День библиотек); (в рамках библиоакции «Нас книга в гости пригласила) 6+
DESCRIPTION:
URL:https://bobruisk-library.by/event/%d0%ba%d0%bd%d0%b8%d0%b3%d0%be%d0%bf%d1%83%d1%82%d0%b5%d1%88%d0%b5%d1%81%d1%82%d0%b2%d0%b8%d0%b5-%d0%b2-%d1%81%d1%82%d1%80%d0%b0%d0%bd%d0%b5-%d0%b1%d0%b8%d0%b1%d0%bb%d0%b8%d0%be%d1%82%d0%b5-2/
LOCATION:ГБ №8 им. Е. Полоцкой\, ул. Минская\, 90\, Бобруйск\, 213828\, Беларусь
END:VEVENT
BEGIN:VEVENT
DTSTART;TZID=Europe/Moscow:20250915T123000
DTEND;TZID=Europe/Moscow:20250915T143000
DTSTAMP:20260420T210325
CREATED:20250909T103056Z
LAST-MODIFIED:20250909T103056Z
UID:888389-1757939400-1757946600@bobruisk-library.by
SUMMARY:Библиопикник «Пусть книга рядом будет вечно» (15.09. – День библиотек Республики Беларусь) 6+
DESCRIPTION:
URL:https://bobruisk-library.by/event/%d0%b1%d0%b8%d0%b1%d0%bb%d0%b8%d0%be%d0%bf%d0%b8%d0%ba%d0%bd%d0%b8%d0%ba-%d0%bf%d1%83%d1%81%d1%82%d1%8c-%d0%ba%d0%bd%d0%b8%d0%b3%d0%b0-%d1%80%d1%8f%d0%b4%d0%be%d0%bc-%d0%b1%d1%83%d0%b4%d0%b5/
LOCATION:ЦГБ им. М.Горького\, ул. Советская\, 64\, Бобруйск\, 213826\, Беларусь
END:VEVENT
BEGIN:VEVENT
DTSTART;TZID=Europe/Moscow:20250915T130000
DTEND;TZID=Europe/Moscow:20250915T140000
DTSTAMP:20260420T210325
CREATED:20250909T103003Z
LAST-MODIFIED:20250909T103003Z
UID:888385-1757941200-1757944800@bobruisk-library.by
SUMMARY:Профориентационный час «Из 100 профессий – одна такая» 6+
DESCRIPTION:
URL:https://bobruisk-library.by/event/%d0%bf%d1%80%d0%be%d1%84%d0%be%d1%80%d0%b8%d0%b5%d0%bd%d1%82%d0%b0%d1%86%d0%b8%d0%be%d0%bd%d0%bd%d1%8b%d0%b9-%d1%87%d0%b0%d1%81-%d0%b8%d0%b7-100-%d0%bf%d1%80%d0%be%d1%84%d0%b5%d1%81%d1%81%d0%b8/
LOCATION:ЦГБ им. М.Горького\, ул. Советская\, 64\, Бобруйск\, 213826\, Беларусь
END:VEVENT
BEGIN:VEVENT
DTSTART;TZID=Europe/Moscow:20250915T140000
DTEND;TZID=Europe/Moscow:20250915T150000
DTSTAMP:20260420T210325
CREATED:20250909T074642Z
LAST-MODIFIED:20250909T074642Z
UID:888376-1757944800-1757948400@bobruisk-library.by
SUMMARY:Библиочас «Как хорошо\, что в техногенном XXI веке\, есть библиотеки» 6+
DESCRIPTION:
URL:https://bobruisk-library.by/event/%d0%b1%d0%b8%d0%b1%d0%bb%d0%b8%d0%be%d1%87%d0%b0%d1%81-%d0%ba%d0%b0%d0%ba-%d1%85%d0%be%d1%80%d0%be%d1%88%d0%be-%d1%87%d1%82%d0%be-%d0%b2-%d1%82%d0%b5%d1%85%d0%bd%d0%be%d0%b3%d0%b5%d0%bd%d0%bd/
LOCATION:ГБ №16\, ул. Гагарина\, 31а\, Бобруйск\, 213810\, Беларусь
END:VEVENT
BEGIN:VEVENT
DTSTART;TZID=Europe/Moscow:20250915T140000
DTEND;TZID=Europe/Moscow:20250915T160000
DTSTAMP:20260420T210325
CREATED:20250909T112459Z
LAST-MODIFIED:20250909T112459Z
UID:888403-1757944800-1757952000@bobruisk-library.by
SUMMARY:Библиотечная площадка «Библиотека собирает друзей» (15.09. – День библиотек Беларуси) 6+
DESCRIPTION:
URL:https://bobruisk-library.by/event/%d0%b1%d0%b8%d0%b1%d0%bb%d0%b8%d0%be%d1%82%d0%b5%d1%87%d0%bd%d0%b0%d1%8f-%d0%bf%d0%bb%d0%be%d1%89%d0%b0%d0%b4%d0%ba%d0%b0-%d0%b1%d0%b8%d0%b1%d0%bb%d0%b8%d0%be%d1%82%d0%b5%d0%ba%d0%b0-%d1%81/
LOCATION:ГБ №7 им. А.А.Шогенцукова\, ул. Интернациональная\, 72в\, Бобруйск\, 213819
END:VEVENT
BEGIN:VEVENT
DTSTART;TZID=Europe/Moscow:20250915T153000
DTEND;TZID=Europe/Moscow:20250915T173000
DTSTAMP:20260420T210325
CREATED:20250909T110115Z
LAST-MODIFIED:20250909T110115Z
UID:888399-1757950200-1757957400@bobruisk-library.by
SUMMARY:Книгопутешествие «В стране библиотечной» (15 сентября – День библиотек); (в рамках библиоакции «Нас книга в гости пригласила) 6+
DESCRIPTION:
URL:https://bobruisk-library.by/event/%d0%ba%d0%bd%d0%b8%d0%b3%d0%be%d0%bf%d1%83%d1%82%d0%b5%d1%88%d0%b5%d1%81%d1%82%d0%b2%d0%b8%d0%b5-%d0%b2-%d1%81%d1%82%d1%80%d0%b0%d0%bd%d0%b5-%d0%b1%d0%b8%d0%b1%d0%bb%d0%b8%d0%be%d1%82%d0%b5-3/
LOCATION:ГБ №8 им. Е. Полоцкой\, ул. Минская\, 90\, Бобруйск\, 213828\, Беларусь
END:VEVENT
END:VCALENDAR