BEGIN:VCALENDAR
VERSION:2.0
PRODID:-//Учреждение культуры &quot;Библиотечная система города Бобруйска&quot; - ECPv6.15.20//NONSGML v1.0//EN
CALSCALE:GREGORIAN
METHOD:PUBLISH
X-WR-CALNAME:Учреждение культуры &quot;Библиотечная система города Бобруйска&quot;
X-ORIGINAL-URL:https://bobruisk-library.by
X-WR-CALDESC:Мероприятия для Учреждение культуры &quot;Библиотечная система города Бобруйска&quot;
REFRESH-INTERVAL;VALUE=DURATION:PT1H
X-Robots-Tag:noindex
X-PUBLISHED-TTL:PT1H
BEGIN:VTIMEZONE
TZID:Europe/Moscow
BEGIN:STANDARD
TZOFFSETFROM:+0300
TZOFFSETTO:+0300
TZNAME:MSK
DTSTART:20240101T000000
END:STANDARD
END:VTIMEZONE
BEGIN:VEVENT
DTSTART;VALUE=DATE:20250916
DTEND;VALUE=DATE:20250917
DTSTAMP:20260420T210236
CREATED:20250909T122548Z
LAST-MODIFIED:20250909T122548Z
UID:888409-1757980800-1758067199@bobruisk-library.by
SUMMARY:Экологический экспресс «Природа просит помощи» (16.09. – Международный день охраны озонового слоя) 6+
DESCRIPTION:
URL:https://bobruisk-library.by/event/%d1%8d%d0%ba%d0%be%d0%bb%d0%be%d0%b3%d0%b8%d1%87%d0%b5%d1%81%d0%ba%d0%b8%d0%b9-%d1%8d%d0%ba%d1%81%d0%bf%d1%80%d0%b5%d1%81%d1%81-%d0%bf%d1%80%d0%b8%d1%80%d0%be%d0%b4%d0%b0-%d0%bf%d1%80%d0%be/
LOCATION:ГБ им. А.С.Пушкина\, ул. Советская\, 87\, Бобруйск\, 213827\, Беларусь
END:VEVENT
BEGIN:VEVENT
DTSTART;TZID=Europe/Moscow:20250916T140000
DTEND;TZID=Europe/Moscow:20250916T150000
DTSTAMP:20260420T210237
CREATED:20250909T105254Z
LAST-MODIFIED:20250909T105254Z
UID:888393-1758031200-1758034800@bobruisk-library.by
SUMMARY:Правовой диалог «Подросток в правовом пространстве» 6+
DESCRIPTION:
URL:https://bobruisk-library.by/event/%d0%bf%d1%80%d0%b0%d0%b2%d0%be%d0%b2%d0%be%d0%b9-%d0%b4%d0%b8%d0%b0%d0%bb%d0%be%d0%b3-%d0%bf%d0%be%d0%b4%d1%80%d0%be%d1%81%d1%82%d0%be%d0%ba-%d0%b2-%d0%bf%d1%80%d0%b0%d0%b2%d0%be%d0%b2%d0%be/
LOCATION:ДБ № 5\, ул. 50 лет ВЛКСМ\, 19\, Бобруйск\, 213824\, Беларусь
END:VEVENT
BEGIN:VEVENT
DTSTART;TZID=Europe/Moscow:20250916T142500
DTEND;TZID=Europe/Moscow:20250916T150000
DTSTAMP:20260420T210237
CREATED:20250909T105521Z
LAST-MODIFIED:20250909T105521Z
UID:888395-1758032700-1758034800@bobruisk-library.by
SUMMARY:Информационный час «Беларусь – единая страна» (ко Дню народного единства; в рамках патриотического проекта «Моя Родина – Беларусь») 6+
DESCRIPTION:
URL:https://bobruisk-library.by/event/%d0%b8%d0%bd%d1%84%d0%be%d1%80%d0%bc%d0%b0%d1%86%d0%b8%d0%be%d0%bd%d0%bd%d1%8b%d0%b9-%d1%87%d0%b0%d1%81-%d0%b1%d0%b5%d0%bb%d0%b0%d1%80%d1%83%d1%81%d1%8c-%d0%b5%d0%b4%d0%b8%d0%bd%d0%b0/
LOCATION:ЦДБ им. А.П.Гайдара\, ул. Урицкого\, 125\, Бобруйск\, 213809\, Беларусь
END:VEVENT
END:VCALENDAR