BEGIN:VCALENDAR
VERSION:2.0
PRODID:-//Учреждение культуры &quot;Библиотечная система города Бобруйска&quot; - ECPv6.15.20//NONSGML v1.0//EN
CALSCALE:GREGORIAN
METHOD:PUBLISH
X-WR-CALNAME:Учреждение культуры &quot;Библиотечная система города Бобруйска&quot;
X-ORIGINAL-URL:https://bobruisk-library.by
X-WR-CALDESC:Мероприятия для Учреждение культуры &quot;Библиотечная система города Бобруйска&quot;
REFRESH-INTERVAL;VALUE=DURATION:PT1H
X-Robots-Tag:noindex
X-PUBLISHED-TTL:PT1H
BEGIN:VTIMEZONE
TZID:Europe/Moscow
BEGIN:STANDARD
TZOFFSETFROM:+0300
TZOFFSETTO:+0300
TZNAME:MSK
DTSTART:20240101T000000
END:STANDARD
END:VTIMEZONE
BEGIN:VEVENT
DTSTART;TZID=Europe/Moscow:20250926T100000
DTEND;TZID=Europe/Moscow:20250926T110000
DTSTAMP:20260420T210234
CREATED:20250917T054652Z
LAST-MODIFIED:20250917T054652Z
UID:888532-1758880800-1758884400@bobruisk-library.by
SUMMARY:Познавательно-игровая программа «Изучаем опасности\, чтобы жить в безопасности» 0+
DESCRIPTION:
URL:https://bobruisk-library.by/event/%d0%bf%d0%be%d0%b7%d0%bd%d0%b0%d0%b2%d0%b0%d1%82%d0%b5%d0%bb%d1%8c%d0%bd%d0%be-%d0%b8%d0%b3%d1%80%d0%be%d0%b2%d0%b0%d1%8f-%d0%bf%d1%80%d0%be%d0%b3%d1%80%d0%b0%d0%bc%d0%bc%d0%b0-%d0%b8%d0%b7/
LOCATION:ГБ №16\, ул. Гагарина\, 31а\, Бобруйск\, 213810\, Беларусь
END:VEVENT
BEGIN:VEVENT
DTSTART;TZID=Europe/Moscow:20250926T120000
DTEND;TZID=Europe/Moscow:20250926T130000
DTSTAMP:20260420T210234
CREATED:20250917T054746Z
LAST-MODIFIED:20250917T054746Z
UID:888534-1758888000-1758891600@bobruisk-library.by
SUMMARY:Видеотурне «Весь мир на ладони» (27.09. – Всемирный день туризма) 6+
DESCRIPTION:
URL:https://bobruisk-library.by/event/%d0%b2%d0%b8%d0%b4%d0%b5%d0%be%d1%82%d1%83%d1%80%d0%bd%d0%b5-%d0%b2%d0%b5%d1%81%d1%8c-%d0%bc%d0%b8%d1%80-%d0%bd%d0%b0-%d0%bb%d0%b0%d0%b4%d0%be%d0%bd%d0%b8-27-09-%d0%b2%d1%81/
LOCATION:ГБ им. А.С.Пушкина\, ул. Советская\, 87\, Бобруйск\, 213827\, Беларусь
END:VEVENT
END:VCALENDAR