BEGIN:VCALENDAR
VERSION:2.0
PRODID:-//Учреждение культуры &quot;Библиотечная система города Бобруйска&quot; - ECPv6.15.20//NONSGML v1.0//EN
CALSCALE:GREGORIAN
METHOD:PUBLISH
X-ORIGINAL-URL:https://bobruisk-library.by
X-WR-CALDESC:Мероприятия для Учреждение культуры &quot;Библиотечная система города Бобруйска&quot;
REFRESH-INTERVAL;VALUE=DURATION:PT1H
X-Robots-Tag:noindex
X-PUBLISHED-TTL:PT1H
BEGIN:VTIMEZONE
TZID:Europe/Moscow
BEGIN:STANDARD
TZOFFSETFROM:+0300
TZOFFSETTO:+0300
TZNAME:MSK
DTSTART:20240101T000000
END:STANDARD
END:VTIMEZONE
BEGIN:VEVENT
DTSTART;VALUE=DATE:20251004
DTEND;VALUE=DATE:20251005
DTSTAMP:20260420T192831
CREATED:20250923T111414Z
LAST-MODIFIED:20250923T111414Z
UID:888627-1759536000-1759622399@bobruisk-library.by
SUMMARY:Акция «Будь природе  другом» (4 октября – Всемирный день защиты животных; в рамках работы Эко-Инфо-Центра) 6+
DESCRIPTION:
URL:https://bobruisk-library.by/event/%d0%b0%d0%ba%d1%86%d0%b8%d1%8f-%d0%b1%d1%83%d0%b4%d1%8c-%d0%bf%d1%80%d0%b8%d1%80%d0%be%d0%b4%d0%b5-%d0%b4%d1%80%d1%83%d0%b3%d0%be%d0%bc-4-%d0%be%d0%ba%d1%82%d1%8f%d0%b1%d1%80%d1%8f/
LOCATION:ЦДБ им. А.П.Гайдара\, ул. Урицкого\, 125\, Бобруйск\, 213809\, Беларусь
END:VEVENT
END:VCALENDAR