BEGIN:VCALENDAR
VERSION:2.0
PRODID:-//Учреждение культуры &quot;Библиотечная система города Бобруйска&quot; - ECPv6.15.20//NONSGML v1.0//EN
CALSCALE:GREGORIAN
METHOD:PUBLISH
X-WR-CALNAME:Учреждение культуры &quot;Библиотечная система города Бобруйска&quot;
X-ORIGINAL-URL:https://bobruisk-library.by
X-WR-CALDESC:Мероприятия для Учреждение культуры &quot;Библиотечная система города Бобруйска&quot;
REFRESH-INTERVAL;VALUE=DURATION:PT1H
X-Robots-Tag:noindex
X-PUBLISHED-TTL:PT1H
BEGIN:VTIMEZONE
TZID:Europe/Moscow
BEGIN:STANDARD
TZOFFSETFROM:+0300
TZOFFSETTO:+0300
TZNAME:MSK
DTSTART:20240101T000000
END:STANDARD
END:VTIMEZONE
BEGIN:VEVENT
DTSTART;VALUE=DATE:20251009
DTEND;VALUE=DATE:20251010
DTSTAMP:20260420T192832
CREATED:20251001T060815Z
LAST-MODIFIED:20251001T060815Z
UID:888747-1759968000-1760054399@bobruisk-library.by
SUMMARY:Акция «Скажем НЕТ наркотикам!» 6+
DESCRIPTION:
URL:https://bobruisk-library.by/event/%d0%b0%d0%ba%d1%86%d0%b8%d1%8f-%d1%81%d0%ba%d0%b0%d0%b6%d0%b5%d0%bc-%d0%bd%d0%b5%d1%82-%d0%bd%d0%b0%d1%80%d0%ba%d0%be%d1%82%d0%b8%d0%ba%d0%b0%d0%bc-6/
LOCATION:ЦДБ им. А.П.Гайдара\, ул. Урицкого\, 125\, Бобруйск\, 213809\, Беларусь
END:VEVENT
BEGIN:VEVENT
DTSTART;TZID=Europe/Moscow:20251009T130000
DTEND;TZID=Europe/Moscow:20251009T140000
DTSTAMP:20260420T192832
CREATED:20251001T060433Z
LAST-MODIFIED:20251001T060433Z
UID:888743-1760014800-1760018400@bobruisk-library.by
SUMMARY:Познавательная беседа «Кто правильно питается\, с болезнями не знается» 6+
DESCRIPTION:
URL:https://bobruisk-library.by/event/%d0%bf%d0%be%d0%b7%d0%bd%d0%b0%d0%b2%d0%b0%d1%82%d0%b5%d0%bb%d1%8c%d0%bd%d0%b0%d1%8f-%d0%b1%d0%b5%d1%81%d0%b5%d0%b4%d0%b0-%d0%ba%d1%82%d0%be-%d0%bf%d1%80%d0%b0%d0%b2%d0%b8%d0%bb%d1%8c%d0%bd/
LOCATION:ЦГБ им. М.Горького\, ул. Советская\, 64\, Бобруйск\, 213826\, Беларусь
END:VEVENT
END:VCALENDAR