BEGIN:VCALENDAR
VERSION:2.0
PRODID:-//Учреждение культуры &quot;Библиотечная система города Бобруйска&quot; - ECPv6.15.20//NONSGML v1.0//EN
CALSCALE:GREGORIAN
METHOD:PUBLISH
X-ORIGINAL-URL:https://bobruisk-library.by
X-WR-CALDESC:Мероприятия для Учреждение культуры &quot;Библиотечная система города Бобруйска&quot;
REFRESH-INTERVAL;VALUE=DURATION:PT1H
X-Robots-Tag:noindex
X-PUBLISHED-TTL:PT1H
BEGIN:VTIMEZONE
TZID:Europe/Moscow
BEGIN:STANDARD
TZOFFSETFROM:+0300
TZOFFSETTO:+0300
TZNAME:MSK
DTSTART:20240101T000000
END:STANDARD
END:VTIMEZONE
BEGIN:VEVENT
DTSTART;VALUE=DATE:20251010
DTEND;VALUE=DATE:20251022
DTSTAMP:20260420T192839
CREATED:20251007T104910Z
LAST-MODIFIED:20251007T104910Z
UID:888837-1760054400-1761091199@bobruisk-library.by
SUMMARY:Библиотечная акция "Тепло твоих лучистых глаз" (14 октября – День матери; в рамках библионедели «В жизни каждого важны и нужны») 6+
DESCRIPTION:
URL:https://bobruisk-library.by/event/%d0%b1%d0%b8%d0%b1%d0%bb%d0%b8%d0%be%d1%82%d0%b5%d1%87%d0%bd%d0%b0%d1%8f-%d0%b0%d0%ba%d1%86%d0%b8%d1%8f-%d1%82%d0%b5%d0%bf%d0%bb%d0%be-%d1%82%d0%b2%d0%be%d0%b8%d1%85-%d0%bb%d1%83%d1%87%d0%b8%d1%81/
LOCATION:ГБ №12\, ул. Бахарова\, 279\, Бобруйск\, Выберите штат:\, 213823\, Беларусь
END:VEVENT
BEGIN:VEVENT
DTSTART;TZID=Europe/Moscow:20251013T120000
DTEND;TZID=Europe/Moscow:20251013T130000
DTSTAMP:20260420T192839
CREATED:20251008T104225Z
LAST-MODIFIED:20251008T104225Z
UID:888871-1760356800-1760360400@bobruisk-library.by
SUMMARY:Акция-поздравление “Тепло и свет материнской любви" (ко Дню матери) 6+
DESCRIPTION:
URL:https://bobruisk-library.by/event/%d0%b0%d0%ba%d1%86%d0%b8%d1%8f-%d0%bf%d0%be%d0%b7%d0%b4%d1%80%d0%b0%d0%b2%d0%bb%d0%b5%d0%bd%d0%b8%d0%b5-%d1%82%d0%b5%d0%bf%d0%bb%d0%be-%d0%b8-%d1%81%d0%b2%d0%b5%d1%82-%d0%bc%d0%b0%d1%82%d0%b5/
LOCATION:ГБ №4 им. Б.Микулича\, пр-т Строителей\, 56\, Бобруйск\, 213807\, Беларусь
END:VEVENT
BEGIN:VEVENT
DTSTART;TZID=Europe/Moscow:20251013T130000
DTEND;TZID=Europe/Moscow:20251013T140000
DTSTAMP:20260420T192839
CREATED:20251001T060218Z
LAST-MODIFIED:20251003T111712Z
UID:888741-1760360400-1760364000@bobruisk-library.by
SUMMARY:Час здоровья «Что было первым?» (10.10. – День яйца) (ЗАО «Птицефабрика «Вишнёвка») 6+
DESCRIPTION:
URL:https://bobruisk-library.by/event/%d1%87%d0%b0%d1%81-%d0%b7%d0%b4%d0%be%d1%80%d0%be%d0%b2%d1%8c%d1%8f-%d1%87%d1%82%d0%be-%d0%b1%d1%8b%d0%bb%d0%be-%d0%bf%d0%b5%d1%80%d0%b2%d1%8b%d0%bc-10-10-%d0%b4%d0%b5%d0%bd/
LOCATION:ЦГБ им. М.Горького\, ул. Советская\, 64\, Бобруйск\, 213826\, Беларусь
END:VEVENT
BEGIN:VEVENT
DTSTART;TZID=Europe/Moscow:20251013T130000
DTEND;TZID=Europe/Moscow:20251013T140000
DTSTAMP:20260420T192839
CREATED:20251007T115552Z
LAST-MODIFIED:20251007T115552Z
UID:888847-1760360400-1760364000@bobruisk-library.by
SUMMARY:Час здоровья «Что было первым?» (10.10. День яйца) (ЗАО «Птицефабрика «Вишнёвка») 6+
DESCRIPTION:
URL:https://bobruisk-library.by/event/%d1%87%d0%b0%d1%81-%d0%b7%d0%b4%d0%be%d1%80%d0%be%d0%b2%d1%8c%d1%8f-%d1%87%d1%82%d0%be-%d0%b1%d1%8b%d0%bb%d0%be-%d0%bf%d0%b5%d1%80%d0%b2%d1%8b%d0%bc-10-10-%d0%b4%d0%b5%d0%bd%d1%8c/
LOCATION:ЦГБ им. М.Горького\, ул. Советская\, 64\, Бобруйск\, 213826\, Беларусь
END:VEVENT
BEGIN:VEVENT
DTSTART;TZID=Europe/Moscow:20251013T160000
DTEND;TZID=Europe/Moscow:20251013T170000
DTSTAMP:20260420T192839
CREATED:20251007T115827Z
LAST-MODIFIED:20251007T115827Z
UID:888851-1760371200-1760374800@bobruisk-library.by
SUMMARY:Познавательный урок «Знай цену хлеба\, береги его» (к Всемирному дню хлеба) 6+
DESCRIPTION:
URL:https://bobruisk-library.by/event/%d0%bf%d0%be%d0%b7%d0%bd%d0%b0%d0%b2%d0%b0%d1%82%d0%b5%d0%bb%d1%8c%d0%bd%d1%8b%d0%b9-%d1%83%d1%80%d0%be%d0%ba-%d0%b7%d0%bd%d0%b0%d0%b9-%d1%86%d0%b5%d0%bd%d1%83-%d1%85%d0%bb%d0%b5%d0%b1%d0%b0/
LOCATION:ДБ № 5\, ул. 50 лет ВЛКСМ\, 19\, Бобруйск\, 213824\, Беларусь
END:VEVENT
END:VCALENDAR