BEGIN:VCALENDAR
VERSION:2.0
PRODID:-//Учреждение культуры &quot;Библиотечная система города Бобруйска&quot; - ECPv6.15.20//NONSGML v1.0//EN
CALSCALE:GREGORIAN
METHOD:PUBLISH
X-ORIGINAL-URL:https://bobruisk-library.by
X-WR-CALDESC:Мероприятия для Учреждение культуры &quot;Библиотечная система города Бобруйска&quot;
REFRESH-INTERVAL;VALUE=DURATION:PT1H
X-Robots-Tag:noindex
X-PUBLISHED-TTL:PT1H
BEGIN:VTIMEZONE
TZID:Europe/Moscow
BEGIN:STANDARD
TZOFFSETFROM:+0300
TZOFFSETTO:+0300
TZNAME:MSK
DTSTART:20240101T000000
END:STANDARD
END:VTIMEZONE
BEGIN:VEVENT
DTSTART;VALUE=DATE:20251010
DTEND;VALUE=DATE:20251022
DTSTAMP:20260420T192827
CREATED:20251007T104910Z
LAST-MODIFIED:20251007T104910Z
UID:888837-1760054400-1761091199@bobruisk-library.by
SUMMARY:Библиотечная акция "Тепло твоих лучистых глаз" (14 октября – День матери; в рамках библионедели «В жизни каждого важны и нужны») 6+
DESCRIPTION:
URL:https://bobruisk-library.by/event/%d0%b1%d0%b8%d0%b1%d0%bb%d0%b8%d0%be%d1%82%d0%b5%d1%87%d0%bd%d0%b0%d1%8f-%d0%b0%d0%ba%d1%86%d0%b8%d1%8f-%d1%82%d0%b5%d0%bf%d0%bb%d0%be-%d1%82%d0%b2%d0%be%d0%b8%d1%85-%d0%bb%d1%83%d1%87%d0%b8%d1%81/
LOCATION:ГБ №12\, ул. Бахарова\, 279\, Бобруйск\, Выберите штат:\, 213823\, Беларусь
END:VEVENT
BEGIN:VEVENT
DTSTART;TZID=Europe/Moscow:20251014T120000
DTEND;TZID=Europe/Moscow:20251014T130000
DTSTAMP:20260420T192827
CREATED:20251007T070431Z
LAST-MODIFIED:20251007T070431Z
UID:888820-1760443200-1760446800@bobruisk-library.by
SUMMARY:Игровая программа «Семейные забавы» (с 14  по 21 октября – Неделя родительской любви) 6+
DESCRIPTION:
URL:https://bobruisk-library.by/event/%d0%b8%d0%b3%d1%80%d0%be%d0%b2%d0%b0%d1%8f-%d0%bf%d1%80%d0%be%d0%b3%d1%80%d0%b0%d0%bc%d0%bc%d0%b0-%d1%81%d0%b5%d0%bc%d0%b5%d0%b9%d0%bd%d1%8b%d0%b5-%d0%b7%d0%b0%d0%b1%d0%b0%d0%b2%d1%8b/
LOCATION:ГБ №8 им. Е. Полоцкой\, ул. Минская\, 90\, Бобруйск\, 213828\, Беларусь
END:VEVENT
BEGIN:VEVENT
DTSTART;TZID=Europe/Moscow:20251014T120000
DTEND;TZID=Europe/Moscow:20251014T130000
DTSTAMP:20260420T192828
CREATED:20251007T071549Z
LAST-MODIFIED:20251007T071549Z
UID:888826-1760443200-1760446800@bobruisk-library.by
SUMMARY:Праздничный калейдоскоп «Спасибо  вам\, мамы и папы\, за то\, что вы есть!» 6+
DESCRIPTION:
URL:https://bobruisk-library.by/event/%d0%bf%d1%80%d0%b0%d0%b7%d0%b4%d0%bd%d0%b8%d1%87%d0%bd%d1%8b%d0%b9-%d0%ba%d0%b0%d0%bb%d0%b5%d0%b9%d0%b4%d0%be%d1%81%d0%ba%d0%be%d0%bf-%d1%81%d0%bf%d0%b0%d1%81%d0%b8%d0%b1%d0%be-%d0%b2%d0%b0/
LOCATION:ГБ №16\, ул. Гагарина\, 31а\, Бобруйск\, 213810\, Беларусь
END:VEVENT
BEGIN:VEVENT
DTSTART;TZID=Europe/Moscow:20251014T120000
DTEND;TZID=Europe/Moscow:20251014T130000
DTSTAMP:20260420T192828
CREATED:20251007T083027Z
LAST-MODIFIED:20251007T083027Z
UID:888832-1760443200-1760446800@bobruisk-library.by
SUMMARY:Видеочас «Свет материнства – свет любви» (ко Дню матери) 6+
DESCRIPTION:
URL:https://bobruisk-library.by/event/%d0%b2%d0%b8%d0%b4%d0%b5%d0%be%d1%87%d0%b0%d1%81-%d1%81%d0%b2%d0%b5%d1%82-%d0%bc%d0%b0%d1%82%d0%b5%d1%80%d0%b8%d0%bd%d1%81%d1%82%d0%b2%d0%b0-%d1%81%d0%b2%d0%b5%d1%82-%d0%bb%d1%8e%d0%b1/
LOCATION:ГБ им. А.С.Пушкина\, ул. Советская\, 87\, Бобруйск\, 213827\, Беларусь
END:VEVENT
BEGIN:VEVENT
DTSTART;TZID=Europe/Moscow:20251014T134500
DTEND;TZID=Europe/Moscow:20251014T143000
DTSTAMP:20260420T192828
CREATED:20251007T115331Z
LAST-MODIFIED:20251007T115331Z
UID:888843-1760449500-1760452200@bobruisk-library.by
SUMMARY:Урок-призыв «Без привычек вредных жить на свете  здорово» 6+
DESCRIPTION:
URL:https://bobruisk-library.by/event/%d1%83%d1%80%d0%be%d0%ba-%d0%bf%d1%80%d0%b8%d0%b7%d1%8b%d0%b2-%d0%b1%d0%b5%d0%b7-%d0%bf%d1%80%d0%b8%d0%b2%d1%8b%d1%87%d0%b5%d0%ba-%d0%b2%d1%80%d0%b5%d0%b4%d0%bd%d1%8b%d1%85-%d0%b6%d0%b8%d1%82/
LOCATION:ДБ №6 им. Н.А.Островского\, ул. Комсомольская\, 52\, Бобруйск\, 213826\, Беларусь
END:VEVENT
BEGIN:VEVENT
DTSTART;TZID=Europe/Moscow:20251014T165000
DTEND;TZID=Europe/Moscow:20251014T173000
DTSTAMP:20260420T192828
CREATED:20251007T115932Z
LAST-MODIFIED:20251007T115932Z
UID:888853-1760460600-1760463000@bobruisk-library.by
SUMMARY:Урок признательности «Нет выше звания\, чем МАМА» (в рамках Недели родительской любви) 6+
DESCRIPTION:
URL:https://bobruisk-library.by/event/%d1%83%d1%80%d0%be%d0%ba-%d0%bf%d1%80%d0%b8%d0%b7%d0%bd%d0%b0%d1%82%d0%b5%d0%bb%d1%8c%d0%bd%d0%be%d1%81%d1%82%d0%b8-%d0%bd%d0%b5%d1%82-%d0%b2%d1%8b%d1%88%d0%b5-%d0%b7%d0%b2%d0%b0%d0%bd%d0%b8/
LOCATION:ДБ № 5\, ул. 50 лет ВЛКСМ\, 19\, Бобруйск\, 213824\, Беларусь
END:VEVENT
END:VCALENDAR