BEGIN:VCALENDAR
VERSION:2.0
PRODID:-//Учреждение культуры &quot;Библиотечная система города Бобруйска&quot; - ECPv6.15.20//NONSGML v1.0//EN
CALSCALE:GREGORIAN
METHOD:PUBLISH
X-ORIGINAL-URL:https://bobruisk-library.by
X-WR-CALDESC:Мероприятия для Учреждение культуры &quot;Библиотечная система города Бобруйска&quot;
REFRESH-INTERVAL;VALUE=DURATION:PT1H
X-Robots-Tag:noindex
X-PUBLISHED-TTL:PT1H
BEGIN:VTIMEZONE
TZID:Europe/Moscow
BEGIN:STANDARD
TZOFFSETFROM:+0300
TZOFFSETTO:+0300
TZNAME:MSK
DTSTART:20240101T000000
END:STANDARD
END:VTIMEZONE
BEGIN:VEVENT
DTSTART;VALUE=DATE:20251010
DTEND;VALUE=DATE:20251022
DTSTAMP:20260420T192839
CREATED:20251007T104910Z
LAST-MODIFIED:20251007T104910Z
UID:888837-1760054400-1761091199@bobruisk-library.by
SUMMARY:Библиотечная акция "Тепло твоих лучистых глаз" (14 октября – День матери; в рамках библионедели «В жизни каждого важны и нужны») 6+
DESCRIPTION:
URL:https://bobruisk-library.by/event/%d0%b1%d0%b8%d0%b1%d0%bb%d0%b8%d0%be%d1%82%d0%b5%d1%87%d0%bd%d0%b0%d1%8f-%d0%b0%d0%ba%d1%86%d0%b8%d1%8f-%d1%82%d0%b5%d0%bf%d0%bb%d0%be-%d1%82%d0%b2%d0%be%d0%b8%d1%85-%d0%bb%d1%83%d1%87%d0%b8%d1%81/
LOCATION:ГБ №12\, ул. Бахарова\, 279\, Бобруйск\, Выберите штат:\, 213823\, Беларусь
END:VEVENT
BEGIN:VEVENT
DTSTART;TZID=Europe/Moscow:20251015T110000
DTEND;TZID=Europe/Moscow:20251015T120000
DTSTAMP:20260420T192839
CREATED:20251007T105010Z
LAST-MODIFIED:20251007T105010Z
UID:888839-1760526000-1760529600@bobruisk-library.by
SUMMARY:Конкурсно-развлекательная программа «В семейном кругу» (в рамках Недели родительской любви) 6+
DESCRIPTION:
URL:https://bobruisk-library.by/event/%d0%ba%d0%be%d0%bd%d0%ba%d1%83%d1%80%d1%81%d0%bd%d0%be-%d1%80%d0%b0%d0%b7%d0%b2%d0%bb%d0%b5%d0%ba%d0%b0%d1%82%d0%b5%d0%bb%d1%8c%d0%bd%d0%b0%d1%8f-%d0%bf%d1%80%d0%be%d0%b3%d1%80%d0%b0%d0%bc%d0%bc-3/
LOCATION:ЦДБ им. А.П.Гайдара\, ул. Урицкого\, 125\, Бобруйск\, 213809\, Беларусь
END:VEVENT
BEGIN:VEVENT
DTSTART;TZID=Europe/Moscow:20251015T120000
DTEND;TZID=Europe/Moscow:20251015T130000
DTSTAMP:20260420T192839
CREATED:20251007T082955Z
LAST-MODIFIED:20251007T082955Z
UID:888830-1760529600-1760533200@bobruisk-library.by
SUMMARY:Информационный видеочас «Увидеть себя в этом мире» (15.10. – Международный день Белой трости) 6+
DESCRIPTION:
URL:https://bobruisk-library.by/event/%d0%b8%d0%bd%d1%84%d0%be%d1%80%d0%bc%d0%b0%d1%86%d0%b8%d0%be%d0%bd%d0%bd%d1%8b%d0%b9-%d0%b2%d0%b8%d0%b4%d0%b5%d0%be%d1%87%d0%b0%d1%81-%d1%83%d0%b2%d0%b8%d0%b4%d0%b5%d1%82%d1%8c-%d1%81%d0%b5/
LOCATION:ГБ им. А.С.Пушкина\, ул. Советская\, 87\, Бобруйск\, 213827\, Беларусь
END:VEVENT
BEGIN:VEVENT
DTSTART;TZID=Europe/Moscow:20251015T130000
DTEND;TZID=Europe/Moscow:20251015T140000
DTSTAMP:20260420T192839
CREATED:20251007T115619Z
LAST-MODIFIED:20251007T115619Z
UID:888849-1760533200-1760536800@bobruisk-library.by
SUMMARY:Час добра «Нам через сердце виден мир» (15.10. – День белой трости) 6+
DESCRIPTION:
URL:https://bobruisk-library.by/event/%d1%87%d0%b0%d1%81-%d0%b4%d0%be%d0%b1%d1%80%d0%b0-%d0%bd%d0%b0%d0%bc-%d1%87%d0%b5%d1%80%d0%b5%d0%b7-%d1%81%d0%b5%d1%80%d0%b4%d1%86%d0%b5-%d0%b2%d0%b8%d0%b4%d0%b5%d0%bd-%d0%bc%d0%b8%d1%80/
LOCATION:ЦГБ им. М.Горького\, ул. Советская\, 64\, Бобруйск\, 213826\, Беларусь
END:VEVENT
BEGIN:VEVENT
DTSTART;TZID=Europe/Moscow:20251015T143000
DTEND;TZID=Europe/Moscow:20251015T153000
DTSTAMP:20260420T192839
CREATED:20251007T120315Z
LAST-MODIFIED:20251007T120315Z
UID:888860-1760538600-1760542200@bobruisk-library.by
SUMMARY:Беседа-рассуждение «Тепло родного очага» (14.10- 21.10.25г-Библионеделя «В жизни каждого важны и нужны) 6+
DESCRIPTION:
URL:https://bobruisk-library.by/event/%d0%b1%d0%b5%d1%81%d0%b5%d0%b4%d0%b0-%d1%80%d0%b0%d1%81%d1%81%d1%83%d0%b6%d0%b4%d0%b5%d0%bd%d0%b8%d0%b5-%d1%82%d0%b5%d0%bf%d0%bb%d0%be-%d1%80%d0%be%d0%b4%d0%bd%d0%be%d0%b3%d0%be-%d0%be%d1%87/
LOCATION:ГБ №7 им. А.А.Шогенцукова\, ул. Интернациональная\, 72в\, Бобруйск\, 213819
END:VEVENT
END:VCALENDAR