BEGIN:VCALENDAR
VERSION:2.0
PRODID:-//Учреждение культуры &quot;Библиотечная система города Бобруйска&quot; - ECPv6.15.20//NONSGML v1.0//EN
CALSCALE:GREGORIAN
METHOD:PUBLISH
X-WR-CALNAME:Учреждение культуры &quot;Библиотечная система города Бобруйска&quot;
X-ORIGINAL-URL:https://bobruisk-library.by
X-WR-CALDESC:Мероприятия для Учреждение культуры &quot;Библиотечная система города Бобруйска&quot;
REFRESH-INTERVAL;VALUE=DURATION:PT1H
X-Robots-Tag:noindex
X-PUBLISHED-TTL:PT1H
BEGIN:VTIMEZONE
TZID:Europe/Moscow
BEGIN:STANDARD
TZOFFSETFROM:+0300
TZOFFSETTO:+0300
TZNAME:MSK
DTSTART:20240101T000000
END:STANDARD
END:VTIMEZONE
BEGIN:VEVENT
DTSTART;VALUE=DATE:20251010
DTEND;VALUE=DATE:20251022
DTSTAMP:20260420T192706
CREATED:20251007T104910Z
LAST-MODIFIED:20251007T104910Z
UID:888837-1760054400-1761091199@bobruisk-library.by
SUMMARY:Библиотечная акция "Тепло твоих лучистых глаз" (14 октября – День матери; в рамках библионедели «В жизни каждого важны и нужны») 6+
DESCRIPTION:
URL:https://bobruisk-library.by/event/%d0%b1%d0%b8%d0%b1%d0%bb%d0%b8%d0%be%d1%82%d0%b5%d1%87%d0%bd%d0%b0%d1%8f-%d0%b0%d0%ba%d1%86%d0%b8%d1%8f-%d1%82%d0%b5%d0%bf%d0%bb%d0%be-%d1%82%d0%b2%d0%be%d0%b8%d1%85-%d0%bb%d1%83%d1%87%d0%b8%d1%81/
LOCATION:ГБ №12\, ул. Бахарова\, 279\, Бобруйск\, Выберите штат:\, 213823\, Беларусь
END:VEVENT
BEGIN:VEVENT
DTSTART;TZID=Europe/Moscow:20251021T100000
DTEND;TZID=Europe/Moscow:20251021T110000
DTSTAMP:20260420T192706
CREATED:20251007T120150Z
LAST-MODIFIED:20251013T083113Z
UID:888856-1761040800-1761044400@bobruisk-library.by
SUMMARY:Урок творчества «Делаем подарочки любимому папочке» 6+
DESCRIPTION:
URL:https://bobruisk-library.by/event/%d1%83%d1%80%d0%be%d0%ba-%d1%82%d0%b2%d0%be%d1%80%d1%87%d0%b5%d1%81%d1%82%d0%b2%d0%b0-%d0%b4%d0%b5%d0%bb%d0%b0%d0%b5%d0%bc-%d0%bf%d0%be%d0%b4%d0%b0%d1%80%d0%be%d1%87%d0%ba%d0%b8-%d0%bb%d1%8e/
LOCATION:ДБ № 5\, ул. 50 лет ВЛКСМ\, 19\, Бобруйск\, 213824\, Беларусь
END:VEVENT
BEGIN:VEVENT
DTSTART;TZID=Europe/Moscow:20251021T130000
DTEND;TZID=Europe/Moscow:20251021T140000
DTSTAMP:20260420T192706
CREATED:20251015T055708Z
LAST-MODIFIED:20251015T055708Z
UID:888959-1761051600-1761055200@bobruisk-library.by
SUMMARY:Литературно-игровой час «Отец звучит гордо» (21.10. – День отца) 6+
DESCRIPTION:
URL:https://bobruisk-library.by/event/%d0%bb%d0%b8%d1%82%d0%b5%d1%80%d0%b0%d1%82%d1%83%d1%80%d0%bd%d0%be-%d0%b8%d0%b3%d1%80%d0%be%d0%b2%d0%be%d0%b9-%d1%87%d0%b0%d1%81-%d0%be%d1%82%d0%b5%d1%86-%d0%b7%d0%b2%d1%83%d1%87%d0%b8%d1%82/
LOCATION:ЦГБ им. М.Горького\, ул. Советская\, 64\, Бобруйск\, 213826\, Беларусь
END:VEVENT
BEGIN:VEVENT
DTSTART;TZID=Europe/Moscow:20251021T130000
DTEND;TZID=Europe/Moscow:20251021T140000
DTSTAMP:20260420T192706
CREATED:20251015T055954Z
LAST-MODIFIED:20251015T055954Z
UID:888961-1761051600-1761055200@bobruisk-library.by
SUMMARY:Урок творчества «Делаем подарочки любимому папочке» 6+
DESCRIPTION:
URL:https://bobruisk-library.by/event/%d1%83%d1%80%d0%be%d0%ba-%d1%82%d0%b2%d0%be%d1%80%d1%87%d0%b5%d1%81%d1%82%d0%b2%d0%b0-%d0%b4%d0%b5%d0%bb%d0%b0%d0%b5%d0%bc-%d0%bf%d0%be%d0%b4%d0%b0%d1%80%d0%be%d1%87%d0%ba%d0%b8-%d0%bb%d1%8e-2/
LOCATION:ДБ № 5\, ул. 50 лет ВЛКСМ\, 19\, Бобруйск\, 213824\, Беларусь
END:VEVENT
END:VCALENDAR