BEGIN:VCALENDAR
VERSION:2.0
PRODID:-//Учреждение культуры &quot;Библиотечная система города Бобруйска&quot; - ECPv6.15.20//NONSGML v1.0//EN
CALSCALE:GREGORIAN
METHOD:PUBLISH
X-WR-CALNAME:Учреждение культуры &quot;Библиотечная система города Бобруйска&quot;
X-ORIGINAL-URL:https://bobruisk-library.by
X-WR-CALDESC:Мероприятия для Учреждение культуры &quot;Библиотечная система города Бобруйска&quot;
REFRESH-INTERVAL;VALUE=DURATION:PT1H
X-Robots-Tag:noindex
X-PUBLISHED-TTL:PT1H
BEGIN:VTIMEZONE
TZID:Europe/Moscow
BEGIN:STANDARD
TZOFFSETFROM:+0300
TZOFFSETTO:+0300
TZNAME:MSK
DTSTART:20240101T000000
END:STANDARD
END:VTIMEZONE
BEGIN:VEVENT
DTSTART;TZID=Europe/Moscow:20251030T143000
DTEND;TZID=Europe/Moscow:20251030T153000
DTSTAMP:20260420T174706
CREATED:20251021T091641Z
LAST-MODIFIED:20251021T091641Z
UID:889036-1761834600-1761838200@bobruisk-library.by
SUMMARY:Арт-знакомство «Андрей Бембель. Титан эпохи соцреализма» (к 120-летию со дня рождения белорусского советского скульптора) 6+
DESCRIPTION:
URL:https://bobruisk-library.by/event/%d0%b0%d1%80%d1%82-%d0%b7%d0%bd%d0%b0%d0%ba%d0%be%d0%bc%d1%81%d1%82%d0%b2%d0%be-%d0%b0%d0%bd%d0%b4%d1%80%d0%b5%d0%b9-%d0%b1%d0%b5%d0%bc%d0%b1%d0%b5%d0%bb%d1%8c-%d1%82%d0%b8%d1%82%d0%b0%d0%bd/
LOCATION:ГБ №7 им. А.А.Шогенцукова\, ул. Интернациональная\, 72в\, Бобруйск\, 213819
END:VEVENT
END:VCALENDAR