BEGIN:VCALENDAR
VERSION:2.0
PRODID:-//Учреждение культуры &quot;Библиотечная система города Бобруйска&quot; - ECPv6.15.20//NONSGML v1.0//EN
CALSCALE:GREGORIAN
METHOD:PUBLISH
X-ORIGINAL-URL:https://bobruisk-library.by
X-WR-CALDESC:Мероприятия для Учреждение культуры &quot;Библиотечная система города Бобруйска&quot;
REFRESH-INTERVAL;VALUE=DURATION:PT1H
X-Robots-Tag:noindex
X-PUBLISHED-TTL:PT1H
BEGIN:VTIMEZONE
TZID:Europe/Moscow
BEGIN:STANDARD
TZOFFSETFROM:+0300
TZOFFSETTO:+0300
TZNAME:MSK
DTSTART:20240101T000000
END:STANDARD
END:VTIMEZONE
BEGIN:VEVENT
DTSTART;TZID=Europe/Moscow:20251104T100000
DTEND;TZID=Europe/Moscow:20251104T110000
DTSTAMP:20260420T174804
CREATED:20251029T053714Z
LAST-MODIFIED:20251029T053714Z
UID:889154-1762250400-1762254000@bobruisk-library.by
SUMMARY:Квест-игра «Веселая зоология» 6+
DESCRIPTION:
URL:https://bobruisk-library.by/event/%d0%ba%d0%b2%d0%b5%d1%81%d1%82-%d0%b8%d0%b3%d1%80%d0%b0-%d0%b2%d0%b5%d1%81%d0%b5%d0%bb%d0%b0%d1%8f-%d0%b7%d0%be%d0%be%d0%bb%d0%be%d0%b3%d0%b8%d1%8f-6/
LOCATION:ГБ №8 им. Е. Полоцкой\, ул. Минская\, 90\, Бобруйск\, 213828\, Беларусь
END:VEVENT
BEGIN:VEVENT
DTSTART;TZID=Europe/Moscow:20251104T103000
DTEND;TZID=Europe/Moscow:20251104T113000
DTSTAMP:20260420T174804
CREATED:20251028T094518Z
LAST-MODIFIED:20251028T094518Z
UID:889140-1762252200-1762255800@bobruisk-library.by
SUMMARY:Интерактивный медиачас «Поиск. Призвание. Профессия» 6+
DESCRIPTION:
URL:https://bobruisk-library.by/event/%d0%b8%d0%bd%d1%82%d0%b5%d1%80%d0%b0%d0%ba%d1%82%d0%b8%d0%b2%d0%bd%d1%8b%d0%b9-%d0%bc%d0%b5%d0%b4%d0%b8%d0%b0%d1%87%d0%b0%d1%81-%d0%bf%d0%be%d0%b8%d1%81%d0%ba-%d0%bf%d1%80%d0%b8%d0%b7%d0%b2/
LOCATION:ГБ №16\, ул. Гагарина\, 31а\, Бобруйск\, 213810\, Беларусь
END:VEVENT
BEGIN:VEVENT
DTSTART;TZID=Europe/Moscow:20251104T110000
DTEND;TZID=Europe/Moscow:20251104T120000
DTSTAMP:20260420T174804
CREATED:20251028T113355Z
LAST-MODIFIED:20251031T080650Z
UID:889144-1762254000-1762257600@bobruisk-library.by
SUMMARY:Поле чудес «С витаминами к здоровью» 6+
DESCRIPTION:
URL:https://bobruisk-library.by/event/%d0%bf%d0%be%d0%bb%d0%b5-%d1%87%d1%83%d0%b4%d0%b5%d1%81-%d1%81-%d0%b2%d0%b8%d1%82%d0%b0%d0%bc%d0%b8%d0%bd%d0%b0%d0%bc%d0%b8-%d0%ba-%d0%b7%d0%b4%d0%be%d1%80%d0%be%d0%b2%d1%8c%d1%8e-6/
LOCATION:ГБ №12\, ул. Бахарова\, 279\, Бобруйск\, Выберите штат:\, 213823\, Беларусь
END:VEVENT
BEGIN:VEVENT
DTSTART;TZID=Europe/Moscow:20251104T110000
DTEND;TZID=Europe/Moscow:20251104T120000
DTSTAMP:20260420T174804
CREATED:20251028T113519Z
LAST-MODIFIED:20251028T113519Z
UID:889148-1762254000-1762257600@bobruisk-library.by
SUMMARY:Час здоровья с игровой программой «Быть здоровым я хочу» 6+
DESCRIPTION:
URL:https://bobruisk-library.by/event/%d1%87%d0%b0%d1%81-%d0%b7%d0%b4%d0%be%d1%80%d0%be%d0%b2%d1%8c%d1%8f-%d1%81-%d0%b8%d0%b3%d1%80%d0%be%d0%b2%d0%be%d0%b9-%d0%bf%d1%80%d0%be%d0%b3%d1%80%d0%b0%d0%bc%d0%bc%d0%be%d0%b9-%d0%b1%d1%8b/
LOCATION:ДБ №6 им. Н.А.Островского\, ул. Комсомольская\, 52\, Бобруйск\, 213826\, Беларусь
END:VEVENT
BEGIN:VEVENT
DTSTART;TZID=Europe/Moscow:20251104T110000
DTEND;TZID=Europe/Moscow:20251104T150000
DTSTAMP:20260420T174804
CREATED:20251028T093635Z
LAST-MODIFIED:20251028T093635Z
UID:889136-1762254000-1762268400@bobruisk-library.by
SUMMARY:Журнальное ассорти  «Периодика – твой  друг\, поможет скоротать досуг» 6+
DESCRIPTION:
URL:https://bobruisk-library.by/event/%d0%b6%d1%83%d1%80%d0%bd%d0%b0%d0%bb%d1%8c%d0%bd%d0%be%d0%b5-%d0%b0%d1%81%d1%81%d0%be%d1%80%d1%82%d0%b8-%d0%bf%d0%b5%d1%80%d0%b8%d0%be%d0%b4%d0%b8%d0%ba%d0%b0-%d1%82%d0%b2%d0%be%d0%b9/
LOCATION:ЦДБ им. А.П.Гайдара\, ул. Урицкого\, 125\, Бобруйск\, 213809\, Беларусь
END:VEVENT
END:VCALENDAR