BEGIN:VCALENDAR
VERSION:2.0
PRODID:-//Учреждение культуры &quot;Библиотечная система города Бобруйска&quot; - ECPv6.15.20//NONSGML v1.0//EN
CALSCALE:GREGORIAN
METHOD:PUBLISH
X-ORIGINAL-URL:https://bobruisk-library.by
X-WR-CALDESC:Мероприятия для Учреждение культуры &quot;Библиотечная система города Бобруйска&quot;
REFRESH-INTERVAL;VALUE=DURATION:PT1H
X-Robots-Tag:noindex
X-PUBLISHED-TTL:PT1H
BEGIN:VTIMEZONE
TZID:Europe/Moscow
BEGIN:STANDARD
TZOFFSETFROM:+0300
TZOFFSETTO:+0300
TZNAME:MSK
DTSTART:20240101T000000
END:STANDARD
END:VTIMEZONE
BEGIN:VEVENT
DTSTART;VALUE=DATE:20251119
DTEND;VALUE=DATE:20251120
DTSTAMP:20260420T175000
CREATED:20251111T090855Z
LAST-MODIFIED:20251111T090855Z
UID:889270-1763510400-1763596799@bobruisk-library.by
SUMMARY:Информационная акция «Права ребёнка – доступно и интересно» 6+
DESCRIPTION:
URL:https://bobruisk-library.by/event/%d0%b8%d0%bd%d1%84%d0%be%d1%80%d0%bc%d0%b0%d1%86%d0%b8%d0%be%d0%bd%d0%bd%d0%b0%d1%8f-%d0%b0%d0%ba%d1%86%d0%b8%d1%8f-%d0%bf%d1%80%d0%b0%d0%b2%d0%b0-%d1%80%d0%b5%d0%b1%d1%91%d0%bd%d0%ba%d0%b0/
LOCATION:ГБ им. А.С.Пушкина\, ул. Советская\, 87\, Бобруйск\, 213827\, Беларусь
END:VEVENT
BEGIN:VEVENT
DTSTART;VALUE=DATE:20251119
DTEND;VALUE=DATE:20251120
DTSTAMP:20260420T175000
CREATED:20251111T110811Z
LAST-MODIFIED:20251111T110811Z
UID:889280-1763510400-1763596799@bobruisk-library.by
SUMMARY:Экспресс-беседа «Ваш  труд должен быть безопасным» (в рамках дня Недели нулевого травматизма (17.11.- 21.11.2025)) 6+
DESCRIPTION:
URL:https://bobruisk-library.by/event/%d1%8d%d0%ba%d1%81%d0%bf%d1%80%d0%b5%d1%81%d1%81-%d0%b1%d0%b5%d1%81%d0%b5%d0%b4%d0%b0-%d0%b2%d0%b0%d1%88-%d1%82%d1%80%d1%83%d0%b4-%d0%b4%d0%be%d0%bb%d0%b6%d0%b5%d0%bd-%d0%b1%d1%8b%d1%82%d1%8c/
LOCATION:ЦДБ им. А.П.Гайдара\, ул. Урицкого\, 125\, Бобруйск\, 213809\, Беларусь
END:VEVENT
BEGIN:VEVENT
DTSTART;TZID=Europe/Moscow:20251119T080000
DTEND;TZID=Europe/Moscow:20251127T170000
DTSTAMP:20260420T175000
CREATED:20251111T110954Z
LAST-MODIFIED:20251111T110954Z
UID:889282-1763539200-1764262800@bobruisk-library.by
SUMMARY:Выставка работ  руководителя кружка ДПИ “Скарбніца” Прищеповой О.И. «Золотая соломка» (отдел традиционного искусства и ремёсел ГУК «Дворец искусств г. Бобруйска») 6+
DESCRIPTION:
URL:https://bobruisk-library.by/event/%d0%b2%d1%8b%d1%81%d1%82%d0%b0%d0%b2%d0%ba%d0%b0-%d1%80%d0%b0%d0%b1%d0%be%d1%82-%d1%80%d1%83%d0%ba%d0%be%d0%b2%d0%be%d0%b4%d0%b8%d1%82%d0%b5%d0%bb%d1%8f-%d0%ba%d1%80%d1%83%d0%b6%d0%ba%d0%b0-%d0%b4/
LOCATION:ЦДБ им. А.П.Гайдара\, ул. Урицкого\, 125\, Бобруйск\, 213809\, Беларусь
END:VEVENT
BEGIN:VEVENT
DTSTART;TZID=Europe/Moscow:20251119T120000
DTEND;TZID=Europe/Moscow:20251119T130000
DTSTAMP:20260420T175000
CREATED:20251111T110256Z
LAST-MODIFIED:20251111T110256Z
UID:889276-1763553600-1763557200@bobruisk-library.by
SUMMARY:Правовая игра «Маленьким людям – большие права» 6+
DESCRIPTION:
URL:https://bobruisk-library.by/event/%d0%bf%d1%80%d0%b0%d0%b2%d0%be%d0%b2%d0%b0%d1%8f-%d0%b8%d0%b3%d1%80%d0%b0-%d0%bc%d0%b0%d0%bb%d0%b5%d0%bd%d1%8c%d0%ba%d0%b8%d0%bc-%d0%bb%d1%8e%d0%b4%d1%8f%d0%bc-%d0%b1%d0%be%d0%bb%d1%8c/
LOCATION:ГБ №8 им. Е. Полоцкой\, ул. Минская\, 90\, Бобруйск\, 213828\, Беларусь
END:VEVENT
BEGIN:VEVENT
DTSTART;TZID=Europe/Moscow:20251119T130000
DTEND;TZID=Europe/Moscow:20251119T140000
DTSTAMP:20260420T175000
CREATED:20251111T112108Z
LAST-MODIFIED:20251113T073321Z
UID:889288-1763557200-1763560800@bobruisk-library.by
SUMMARY:Библиотечный урок «А где хранят вселенную?» (22.11. – День словарей и энциклопедий) 6+
DESCRIPTION:
URL:https://bobruisk-library.by/event/%d0%b1%d0%b8%d0%b1%d0%bb%d0%b8%d0%be%d1%82%d0%b5%d1%87%d0%bd%d1%8b%d0%b9-%d1%83%d1%80%d0%be%d0%ba-%d0%b0-%d0%b3%d0%b4%d0%b5-%d1%85%d1%80%d0%b0%d0%bd%d1%8f%d1%82-%d0%b2%d1%81%d0%b5%d0%bb%d0%b5/
LOCATION:ЦГБ им. М.Горького\, ул. Советская\, 64\, Бобруйск\, 213826\, Беларусь
END:VEVENT
BEGIN:VEVENT
DTSTART;TZID=Europe/Moscow:20251119T140000
DTEND;TZID=Europe/Moscow:20251119T150000
DTSTAMP:20260420T175000
CREATED:20251111T075334Z
LAST-MODIFIED:20251111T075334Z
UID:889258-1763560800-1763564400@bobruisk-library.by
SUMMARY:Час общения «Свобода и ответственность» (20.11. – Всемирный день ребёнка) 6+
DESCRIPTION:
URL:https://bobruisk-library.by/event/%d1%87%d0%b0%d1%81-%d0%be%d0%b1%d1%89%d0%b5%d0%bd%d0%b8%d1%8f-%d1%81%d0%b2%d0%be%d0%b1%d0%be%d0%b4%d0%b0-%d0%b8-%d0%be%d1%82%d0%b2%d0%b5%d1%82%d1%81%d1%82%d0%b2%d0%b5%d0%bd%d0%bd%d0%be%d1%81/
LOCATION:ГБ №7 им. А.А.Шогенцукова\, ул. Интернациональная\, 72в\, Бобруйск\, 213819
END:VEVENT
END:VCALENDAR