BEGIN:VCALENDAR
VERSION:2.0
PRODID:-//Учреждение культуры &quot;Библиотечная система города Бобруйска&quot; - ECPv6.15.20//NONSGML v1.0//EN
CALSCALE:GREGORIAN
METHOD:PUBLISH
X-WR-CALNAME:Учреждение культуры &quot;Библиотечная система города Бобруйска&quot;
X-ORIGINAL-URL:https://bobruisk-library.by
X-WR-CALDESC:Мероприятия для Учреждение культуры &quot;Библиотечная система города Бобруйска&quot;
REFRESH-INTERVAL;VALUE=DURATION:PT1H
X-Robots-Tag:noindex
X-PUBLISHED-TTL:PT1H
BEGIN:VTIMEZONE
TZID:Europe/Moscow
BEGIN:STANDARD
TZOFFSETFROM:+0300
TZOFFSETTO:+0300
TZNAME:MSK
DTSTART:20240101T000000
END:STANDARD
END:VTIMEZONE
BEGIN:VEVENT
DTSTART;VALUE=DATE:20251201
DTEND;VALUE=DATE:20251202
DTSTAMP:20260420T162025
CREATED:20251126T054439Z
LAST-MODIFIED:20251126T054439Z
UID:890154-1764547200-1764633599@bobruisk-library.by
SUMMARY:Информационная интерактивная площадка «STOP –СПИД» 6+
DESCRIPTION:
URL:https://bobruisk-library.by/event/%d0%b8%d0%bd%d1%84%d0%be%d1%80%d0%bc%d0%b0%d1%86%d0%b8%d0%be%d0%bd%d0%bd%d0%b0%d1%8f-%d0%b8%d0%bd%d1%82%d0%b5%d1%80%d0%b0%d0%ba%d1%82%d0%b8%d0%b2%d0%bd%d0%b0%d1%8f-%d0%bf%d0%bb%d0%be%d1%89%d0%b0-4/
LOCATION:ГБ №16\, ул. Гагарина\, 31а\, Бобруйск\, 213810\, Беларусь
END:VEVENT
BEGIN:VEVENT
DTSTART;TZID=Europe/Moscow:20251201T140000
DTEND;TZID=Europe/Moscow:20251201T150000
DTSTAMP:20260420T162025
CREATED:20251126T055725Z
LAST-MODIFIED:20251126T055725Z
UID:890166-1764597600-1764601200@bobruisk-library.by
SUMMARY:Медиаурок «Всё в твоих руках. Думай» (к Всемирному дню борьбы со СПИДом) 6+
DESCRIPTION:
URL:https://bobruisk-library.by/event/%d0%bc%d0%b5%d0%b4%d0%b8%d0%b0%d1%83%d1%80%d0%be%d0%ba-%d0%b2%d1%81%d1%91-%d0%b2-%d1%82%d0%b2%d0%be%d0%b8%d1%85-%d1%80%d1%83%d0%ba%d0%b0%d1%85-%d0%b4%d1%83%d0%bc%d0%b0%d0%b9-%d0%ba/
LOCATION:ДБ № 5\, ул. 50 лет ВЛКСМ\, 19\, Бобруйск\, 213824\, Беларусь
END:VEVENT
BEGIN:VEVENT
DTSTART;TZID=Europe/Moscow:20251201T143000
DTEND;TZID=Europe/Moscow:20251201T153000
DTSTAMP:20260420T162025
CREATED:20251126T054723Z
LAST-MODIFIED:20251126T054723Z
UID:890160-1764599400-1764603000@bobruisk-library.by
SUMMARY:Час полезной информации «Об этом нужно говорить\, об этом нужно знать» (01.12. – Всемирный день борьбы со СПИДом) 6+
DESCRIPTION:
URL:https://bobruisk-library.by/event/%d1%87%d0%b0%d1%81-%d0%bf%d0%be%d0%bb%d0%b5%d0%b7%d0%bd%d0%be%d0%b9-%d0%b8%d0%bd%d1%84%d0%be%d1%80%d0%bc%d0%b0%d1%86%d0%b8%d0%b8-%d0%be%d0%b1-%d1%8d%d1%82%d0%be%d0%bc-%d0%bd%d1%83%d0%b6%d0%bd/
LOCATION:ГБ №7 им. А.А.Шогенцукова\, ул. Интернациональная\, 72в\, Бобруйск\, 213819
END:VEVENT
END:VCALENDAR