BEGIN:VCALENDAR
VERSION:2.0
PRODID:-//Учреждение культуры &quot;Библиотечная система города Бобруйска&quot; - ECPv6.15.20//NONSGML v1.0//EN
CALSCALE:GREGORIAN
METHOD:PUBLISH
X-ORIGINAL-URL:https://bobruisk-library.by
X-WR-CALDESC:Мероприятия для Учреждение культуры &quot;Библиотечная система города Бобруйска&quot;
REFRESH-INTERVAL;VALUE=DURATION:PT1H
X-Robots-Tag:noindex
X-PUBLISHED-TTL:PT1H
BEGIN:VTIMEZONE
TZID:Europe/Moscow
BEGIN:STANDARD
TZOFFSETFROM:+0300
TZOFFSETTO:+0300
TZNAME:MSK
DTSTART:20240101T000000
END:STANDARD
END:VTIMEZONE
BEGIN:VEVENT
DTSTART;TZID=Europe/Moscow:20251203T120000
DTEND;TZID=Europe/Moscow:20251203T130000
DTSTAMP:20260420T162114
CREATED:20251126T054507Z
LAST-MODIFIED:20251126T054507Z
UID:890156-1764763200-1764766800@bobruisk-library.by
SUMMARY:Познавательный час «Беларусь: между  прошлым и будущим» 6+
DESCRIPTION:
URL:https://bobruisk-library.by/event/%d0%bf%d0%be%d0%b7%d0%bd%d0%b0%d0%b2%d0%b0%d1%82%d0%b5%d0%bb%d1%8c%d0%bd%d1%8b%d0%b9-%d1%87%d0%b0%d1%81-%d0%b1%d0%b5%d0%bb%d0%b0%d1%80%d1%83%d1%81%d1%8c-%d0%bc%d0%b5%d0%b6%d0%b4%d1%83-%d0%bf/
LOCATION:ГБ №16\, ул. Гагарина\, 31а\, Бобруйск\, 213810\, Беларусь
END:VEVENT
END:VCALENDAR