BEGIN:VCALENDAR
VERSION:2.0
PRODID:-//Учреждение культуры &quot;Библиотечная система города Бобруйска&quot; - ECPv6.15.20//NONSGML v1.0//EN
CALSCALE:GREGORIAN
METHOD:PUBLISH
X-ORIGINAL-URL:https://bobruisk-library.by
X-WR-CALDESC:Мероприятия для Учреждение культуры &quot;Библиотечная система города Бобруйска&quot;
REFRESH-INTERVAL;VALUE=DURATION:PT1H
X-Robots-Tag:noindex
X-PUBLISHED-TTL:PT1H
BEGIN:VTIMEZONE
TZID:Europe/Moscow
BEGIN:STANDARD
TZOFFSETFROM:+0300
TZOFFSETTO:+0300
TZNAME:MSK
DTSTART:20240101T000000
END:STANDARD
END:VTIMEZONE
BEGIN:VEVENT
DTSTART;TZID=Europe/Moscow:20251211T130000
DTEND;TZID=Europe/Moscow:20251211T140000
DTSTAMP:20260420T162114
CREATED:20251202T110021Z
LAST-MODIFIED:20251202T110021Z
UID:890325-1765458000-1765461600@bobruisk-library.by
SUMMARY:Урок безопасного  поведения «Дети в сети  Интернет» 6+
DESCRIPTION:
URL:https://bobruisk-library.by/event/%d1%83%d1%80%d0%be%d0%ba-%d0%b1%d0%b5%d0%b7%d0%be%d0%bf%d0%b0%d1%81%d0%bd%d0%be%d0%b3%d0%be-%d0%bf%d0%be%d0%b2%d0%b5%d0%b4%d0%b5%d0%bd%d0%b8%d1%8f-%d0%b4%d0%b5%d1%82%d0%b8-%d0%b2-%d1%81%d0%b5/
LOCATION:ЦДБ им. А.П.Гайдара\, ул. Урицкого\, 125\, Бобруйск\, 213809\, Беларусь
END:VEVENT
BEGIN:VEVENT
DTSTART;TZID=Europe/Moscow:20251211T130000
DTEND;TZID=Europe/Moscow:20251211T140000
DTSTAMP:20260420T162114
CREATED:20251202T134040Z
LAST-MODIFIED:20251202T134040Z
UID:890337-1765458000-1765461600@bobruisk-library.by
SUMMARY:Библио-беседа «Чай выручай!» (15.12 –Всемирный день чая) 6+
DESCRIPTION:
URL:https://bobruisk-library.by/event/%d0%b1%d0%b8%d0%b1%d0%bb%d0%b8%d0%be-%d0%b1%d0%b5%d1%81%d0%b5%d0%b4%d0%b0-%d1%87%d0%b0%d0%b9-%d0%b2%d1%8b%d1%80%d1%83%d1%87%d0%b0%d0%b9-15-12-%d0%b2%d1%81%d0%b5%d0%bc%d0%b8/
LOCATION:ЦГБ им. М.Горького\, ул. Советская\, 64\, Бобруйск\, 213826\, Беларусь
END:VEVENT
END:VCALENDAR