BEGIN:VCALENDAR
VERSION:2.0
PRODID:-//Учреждение культуры &quot;Библиотечная система города Бобруйска&quot; - ECPv6.15.20//NONSGML v1.0//EN
CALSCALE:GREGORIAN
METHOD:PUBLISH
X-WR-CALNAME:Учреждение культуры &quot;Библиотечная система города Бобруйска&quot;
X-ORIGINAL-URL:https://bobruisk-library.by
X-WR-CALDESC:Мероприятия для Учреждение культуры &quot;Библиотечная система города Бобруйска&quot;
REFRESH-INTERVAL;VALUE=DURATION:PT1H
X-Robots-Tag:noindex
X-PUBLISHED-TTL:PT1H
BEGIN:VTIMEZONE
TZID:Europe/Moscow
BEGIN:STANDARD
TZOFFSETFROM:+0300
TZOFFSETTO:+0300
TZNAME:MSK
DTSTART:20240101T000000
END:STANDARD
END:VTIMEZONE
BEGIN:VEVENT
DTSTART;TZID=Europe/Moscow:20251218T113000
DTEND;TZID=Europe/Moscow:20251218T123000
DTSTAMP:20260420T162120
CREATED:20251210T062136Z
LAST-MODIFIED:20251210T062136Z
UID:890485-1766057400-1766061000@bobruisk-library.by
SUMMARY:Познавательно-игровая программа «Кто знает всё про  Новый год…» (В рамках проекта «ЧиП: читай и  познавай») 6+
DESCRIPTION:
URL:https://bobruisk-library.by/event/%d0%bf%d0%be%d0%b7%d0%bd%d0%b0%d0%b2%d0%b0%d1%82%d0%b5%d0%bb%d1%8c%d0%bd%d0%be-%d0%b8%d0%b3%d1%80%d0%be%d0%b2%d0%b0%d1%8f-%d0%bf%d1%80%d0%be%d0%b3%d1%80%d0%b0%d0%bc%d0%bc%d0%b0-%d0%ba%d1%82-2/
LOCATION:ДБ №6 им. Н.А.Островского\, ул. Комсомольская\, 52\, Бобруйск\, 213826\, Беларусь
END:VEVENT
BEGIN:VEVENT
DTSTART;TZID=Europe/Moscow:20251218T140000
DTEND;TZID=Europe/Moscow:20251218T150000
DTSTAMP:20260420T162120
CREATED:20251210T061833Z
LAST-MODIFIED:20251210T061833Z
UID:890481-1766066400-1766070000@bobruisk-library.by
SUMMARY:Урок фантазии «Волшебных масок карнавал» 6+
DESCRIPTION:
URL:https://bobruisk-library.by/event/%d1%83%d1%80%d0%be%d0%ba-%d1%84%d0%b0%d0%bd%d1%82%d0%b0%d0%b7%d0%b8%d0%b8-%d0%b2%d0%be%d0%bb%d1%88%d0%b5%d0%b1%d0%bd%d1%8b%d1%85-%d0%bc%d0%b0%d1%81%d0%be%d0%ba-%d0%ba%d0%b0%d1%80%d0%bd%d0%b0/
LOCATION:ДБ № 5\, ул. 50 лет ВЛКСМ\, 19\, Бобруйск\, 213824\, Беларусь
END:VEVENT
END:VCALENDAR