BEGIN:VCALENDAR
VERSION:2.0
PRODID:-//Учреждение культуры &quot;Библиотечная система города Бобруйска&quot; - ECPv6.15.20//NONSGML v1.0//EN
CALSCALE:GREGORIAN
METHOD:PUBLISH
X-ORIGINAL-URL:https://bobruisk-library.by
X-WR-CALDESC:Мероприятия для Учреждение культуры &quot;Библиотечная система города Бобруйска&quot;
REFRESH-INTERVAL;VALUE=DURATION:PT1H
X-Robots-Tag:noindex
X-PUBLISHED-TTL:PT1H
BEGIN:VTIMEZONE
TZID:Europe/Moscow
BEGIN:STANDARD
TZOFFSETFROM:+0300
TZOFFSETTO:+0300
TZNAME:MSK
DTSTART:20240101T000000
END:STANDARD
END:VTIMEZONE
BEGIN:VEVENT
DTSTART;TZID=Europe/Moscow:20251219T110000
DTEND;TZID=Europe/Moscow:20251219T120000
DTSTAMP:20260420T162116
CREATED:20251210T062235Z
LAST-MODIFIED:20251210T062235Z
UID:890487-1766142000-1766145600@bobruisk-library.by
SUMMARY:Новогоднее ассорти «На пороге Новый Год» 6+
DESCRIPTION:
URL:https://bobruisk-library.by/event/%d0%bd%d0%be%d0%b2%d0%be%d0%b3%d0%be%d0%b4%d0%bd%d0%b5%d0%b5-%d0%b0%d1%81%d1%81%d0%be%d1%80%d1%82%d0%b8-%d0%bd%d0%b0-%d0%bf%d0%be%d1%80%d0%be%d0%b3%d0%b5-%d0%bd%d0%be%d0%b2%d1%8b%d0%b9-%d0%b3/
LOCATION:ДБ № 5\, ул. 50 лет ВЛКСМ\, 19\, Бобруйск\, 213824\, Беларусь
END:VEVENT
BEGIN:VEVENT
DTSTART;TZID=Europe/Moscow:20251219T130000
DTEND;TZID=Europe/Moscow:20251219T140000
DTSTAMP:20260420T162116
CREATED:20251210T061600Z
LAST-MODIFIED:20251217T054840Z
UID:890476-1766149200-1766152800@bobruisk-library.by
SUMMARY:Новогоднее представление с участием кукольного театра «Петрушка» «Зимняя страна чудес» 6+
DESCRIPTION:
URL:https://bobruisk-library.by/event/%d0%bd%d0%be%d0%b2%d0%be%d0%b3%d0%be%d0%b4%d0%bd%d0%b5%d0%b5-%d0%bf%d1%80%d0%b5%d0%b4%d1%81%d1%82%d0%b0%d0%b2%d0%bb%d0%b5%d0%bd%d0%b8%d0%b5-%d1%81-%d1%83%d1%87%d0%b0%d1%81%d1%82%d0%b8%d0%b5%d0%bc-4/
LOCATION:ЦДБ им. А.П.Гайдара\, ул. Урицкого\, 125\, Бобруйск\, 213809\, Беларусь
END:VEVENT
BEGIN:VEVENT
DTSTART;TZID=Europe/Moscow:20251219T140000
DTEND;TZID=Europe/Moscow:20251219T150000
DTSTAMP:20260420T162116
CREATED:20251210T061751Z
LAST-MODIFIED:20251210T061751Z
UID:890479-1766152800-1766156400@bobruisk-library.by
SUMMARY:Урок беседа «Мой безопасный интернет» 6+
DESCRIPTION:
URL:https://bobruisk-library.by/event/%d1%83%d1%80%d0%be%d0%ba-%d0%b1%d0%b5%d1%81%d0%b5%d0%b4%d0%b0-%d0%bc%d0%be%d0%b9-%d0%b1%d0%b5%d0%b7%d0%be%d0%bf%d0%b0%d1%81%d0%bd%d1%8b%d0%b9-%d0%b8%d0%bd%d1%82%d0%b5%d1%80%d0%bd%d0%b5%d1%82/
LOCATION:ДБ № 5\, ул. 50 лет ВЛКСМ\, 19\, Бобруйск\, 213824\, Беларусь
END:VEVENT
BEGIN:VEVENT
DTSTART;TZID=Europe/Moscow:20251219T160000
DTEND;TZID=Europe/Moscow:20251219T170000
DTSTAMP:20260420T162116
CREATED:20251210T061408Z
LAST-MODIFIED:20251210T061408Z
UID:890474-1766160000-1766163600@bobruisk-library.by
SUMMARY:Сказочное представление с  участием кукольного театра «Петрушка» «Заколдованная Принцесса» (в рамках новогодней благотворительной акции «Наши дети») 6+
DESCRIPTION:
URL:https://bobruisk-library.by/event/%d1%81%d0%ba%d0%b0%d0%b7%d0%be%d1%87%d0%bd%d0%be%d0%b5-%d0%bf%d1%80%d0%b5%d0%b4%d1%81%d1%82%d0%b0%d0%b2%d0%bb%d0%b5%d0%bd%d0%b8%d0%b5-%d1%81-%d1%83%d1%87%d0%b0%d1%81%d1%82%d0%b8%d0%b5%d0%bc-%d0%ba/
LOCATION:ЦДБ им. А.П.Гайдара\, ул. Урицкого\, 125\, Бобруйск\, 213809\, Беларусь
END:VEVENT
END:VCALENDAR