BEGIN:VCALENDAR
VERSION:2.0
PRODID:-//Учреждение культуры &quot;Библиотечная система города Бобруйска&quot; - ECPv6.15.20//NONSGML v1.0//EN
CALSCALE:GREGORIAN
METHOD:PUBLISH
X-WR-CALNAME:Учреждение культуры &quot;Библиотечная система города Бобруйска&quot;
X-ORIGINAL-URL:https://bobruisk-library.by
X-WR-CALDESC:Мероприятия для Учреждение культуры &quot;Библиотечная система города Бобруйска&quot;
REFRESH-INTERVAL;VALUE=DURATION:PT1H
X-Robots-Tag:noindex
X-PUBLISHED-TTL:PT1H
BEGIN:VTIMEZONE
TZID:Europe/Moscow
BEGIN:STANDARD
TZOFFSETFROM:+0300
TZOFFSETTO:+0300
TZNAME:MSK
DTSTART:20240101T000000
END:STANDARD
END:VTIMEZONE
BEGIN:VEVENT
DTSTART;TZID=Europe/Moscow:20251229T100000
DTEND;TZID=Europe/Moscow:20251229T110000
DTSTAMP:20260420T144638
CREATED:20251223T083537Z
LAST-MODIFIED:20251223T083537Z
UID:890645-1767002400-1767006000@bobruisk-library.by
SUMMARY:Праздничная программа «Новогодние огни приглашают в библиотеку» 6+
DESCRIPTION:
URL:https://bobruisk-library.by/event/%d0%bf%d1%80%d0%b0%d0%b7%d0%b4%d0%bd%d0%b8%d1%87%d0%bd%d0%b0%d1%8f-%d0%bf%d1%80%d0%be%d0%b3%d1%80%d0%b0%d0%bc%d0%bc%d0%b0-%d0%bd%d0%be%d0%b2%d0%be%d0%b3%d0%be%d0%b4%d0%bd%d0%b8%d0%b5-%d0%be-2/
LOCATION:ГБ №16\, ул. Гагарина\, 31а\, Бобруйск\, 213810\, Беларусь
END:VEVENT
BEGIN:VEVENT
DTSTART;TZID=Europe/Moscow:20251229T103000
DTEND;TZID=Europe/Moscow:20251229T113000
DTSTAMP:20260420T144638
CREATED:20251224T103024Z
LAST-MODIFIED:20251224T103024Z
UID:890668-1767004200-1767007800@bobruisk-library.by
SUMMARY:Новогодний калейдоскоп «Чудеса под Новый год» 6+
DESCRIPTION:
URL:https://bobruisk-library.by/event/%d0%bd%d0%be%d0%b2%d0%be%d0%b3%d0%be%d0%b4%d0%bd%d0%b8%d0%b9-%d0%ba%d0%b0%d0%bb%d0%b5%d0%b9%d0%b4%d0%be%d1%81%d0%ba%d0%be%d0%bf-%d1%87%d1%83%d0%b4%d0%b5%d1%81%d0%b0-%d0%bf%d0%be%d0%b4-%d0%bd/
LOCATION:ГБ №4 им. Б.Микулича\, пр-т Строителей\, 56\, Бобруйск\, 213807\, Беларусь
END:VEVENT
END:VCALENDAR