BEGIN:VCALENDAR
VERSION:2.0
PRODID:-//Учреждение культуры &quot;Библиотечная система города Бобруйска&quot; - ECPv6.15.20//NONSGML v1.0//EN
CALSCALE:GREGORIAN
METHOD:PUBLISH
X-ORIGINAL-URL:https://bobruisk-library.by
X-WR-CALDESC:Мероприятия для Учреждение культуры &quot;Библиотечная система города Бобруйска&quot;
REFRESH-INTERVAL;VALUE=DURATION:PT1H
X-Robots-Tag:noindex
X-PUBLISHED-TTL:PT1H
BEGIN:VTIMEZONE
TZID:Europe/Moscow
BEGIN:STANDARD
TZOFFSETFROM:+0300
TZOFFSETTO:+0300
TZNAME:MSK
DTSTART:20250101T000000
END:STANDARD
END:VTIMEZONE
BEGIN:VEVENT
DTSTART;VALUE=DATE:20260119
DTEND;VALUE=DATE:20260124
DTSTAMP:20260420T144633
CREATED:20260113T130603Z
LAST-MODIFIED:20260113T130603Z
UID:890862-1768780800-1769212799@bobruisk-library.by
SUMMARY:Библиотечная акция «Отключи интернет – открой книгу» (25.01. – Международный день без Интернета) 6+
DESCRIPTION:
URL:https://bobruisk-library.by/event/%d0%b1%d0%b8%d0%b1%d0%bb%d0%b8%d0%be%d1%82%d0%b5%d1%87%d0%bd%d0%b0%d1%8f-%d0%b0%d0%ba%d1%86%d0%b8%d1%8f-%d0%be%d1%82%d0%ba%d0%bb%d1%8e%d1%87%d0%b8-%d0%b8%d0%bd%d1%82%d0%b5%d1%80%d0%bd%d0%b5/
LOCATION:ЦГБ им. М.Горького\, ул. Советская\, 64\, Бобруйск\, 213826\, Беларусь
END:VEVENT
END:VCALENDAR